PDS_VERSION_ID = PDS3
/* FILE DATA ELEMENTS */
RECORD_TYPE = UNDEFINED
/* POINTERS TO DATA OBJECTS */
^IMAGE = ("HO067_0000_GR4.TIF")
/* IDENTIFICATION DATA ELEMENTS */
DATA_SET_ID = "MEX-M-HRSC-4-REFDR-MAPPROJECT-EXT9-V4.0"
DATA_SET_NAME = "MARS EXPRESS HRSC MAP PROJECTED REFDR EXTENSION9 V4.0"
DETECTOR_ID = MEX_HRSC_GREEN
EVENT_TYPE = "MARS-LOCAL-CARTOGRAPHY-Im-Tc"
INSTRUMENT_HOST_ID = MEX
INSTRUMENT_HOST_NAME = "MARS EXPRESS"
INSTRUMENT_ID = HRSC
INSTRUMENT_NAME = "HIGH RESOLUTION STEREO CAMERA"
MISSION_NAME = "MARS EXPRESS"
MISSION_PHASE_NAME = ME_Phase_47
PROCESSING_LEVEL_ID = 4
PRODUCT_CREATION_TIME = 2023-11-14T12:58:33.000Z
PRODUCT_ID = "HO067_0000_GR4.TIF"
RELEASE_ID = 0001
REVISION_ID = 0000
/* QUALITY DATA ELEMENTS */
DATA_QUALITY_ID = 1
DATA_QUALITY_DESC = "Data calculated based on original SPICE kernels"
/* TIME DATA ELEMENTS */
SPACECRAFT_CLOCK_START_COUNT = "1/0622377912.23211"
SPACECRAFT_CLOCK_STOP_COUNT = "1/0622378195.42870"
START_TIME = 2023-01-21T10:46:34.014Z
STOP_TIME = 2023-01-21T10:49:01.041Z
/* ORBITAL DATA ELEMENTS */
ASCENDING_NODE_LONGITUDE = 126.31
MAXIMUM_RESOLUTION = 0.09
FOOTPRINT_POINT_LATITUDE = (-0.0612111,-0.0443465,-0.0314471, -0.0189865,-0.00698735,0.00459839, 0.0158019,0.0266238,0.037096,0.0472354, 0.0570634,0.0666059,0.0848243,0.0859268 ,0.0795681,-0.339316,-0.67764,-1.01541, -1.35265,-1.69501,-2.03725,-2.37884, -2.72446,-3.07083,-3.41655,-3.76648, -4.11688,-4.46654,-4.64394,-4.82131, -4.99853,-5.17555,-5.35237,-5.53107, -5.71038,-5.88971,-6.06881,-6.24779, -6.42884,-6.6104,-6.79177,-6.97275, -7.24574,-7.42932,-7.61273,-7.79579, -7.97863,-8.16418,-8.34943,-8.53426, -8.62674,-8.71607,-8.72589,-8.73695, -8.74338,-8.75306,-8.76083,-8.76956, -8.7817,-8.78865,-8.79929,-8.80885, -8.81396,-8.81503,-8.8138,-8.62989, -8.35474,-8.07876,-7.89768,-7.62531, -7.35335,-7.17177,-6.99154,-6.81125, -6.63081,-6.36065,-6.1827,-6.00455, -5.82631,-5.64823,-5.47109,-5.20689, -5.03053,-4.76577,-4.58914,-4.24142, -3.89273,-3.54458,-3.20041,-2.94179, -2.5967,-2.34169,-2.00151,-1.66073, -1.40653,-1.07076,-0.734373,-0.230743, -0.14789,-0.0612111)
FOOTPRINT_POINT_LONGITUDE = (173.343,173.026,172.782,172.547, 172.319,172.098,171.883,171.676,171.474 ,171.279,171.088,170.903,170.547, 170.525,170.562,170.551,170.543,170.534 ,170.526,170.517,170.51,170.502,170.494 ,170.486,170.477,170.469,170.461, 170.452,170.448,170.443,170.439,170.435 ,170.43,170.425,170.42,170.416,170.412, 170.409,170.406,170.402,170.399,170.394 ,170.389,170.386,170.383,170.379, 170.374,170.37,170.365,170.359,170.357, 170.356,170.623,170.926,171.107,171.374 ,171.594,171.846,172.197,172.406,172.74 ,173.072,173.298,173.332,173.343, 173.341,173.35,173.356,173.363,173.37, 173.388,173.384,173.38,173.378,173.377, 173.376,173.375,173.375,173.376,173.38, 173.387,173.385,173.384,173.383,173.382 ,173.385,173.386,173.386,173.386, 173.386,173.388,173.388,173.391,173.394 ,173.396,173.399,173.403,173.409, 173.411,173.343)
ORBIT_NUMBER = 24067
ORBITAL_ECCENTRICITY = 0.573
ORBITAL_INCLINATION = 87.05
ORBITAL_SEMIMAJOR_AXIS = 8831.25
PERIAPSIS_ALTITUDE = 378.09
PERIAPSIS_ARGUMENT_ANGLE = 157.68
PERIAPSIS_TIME = 2023-01-21T10:40:51.000Z
SPACECRAFT_ORIENTATION = (0.0,-1.0,0.0)
^MEX_ORIENTATION_DESC = "MEX_ORIENTATION_DESC.TXT"
SPACECRAFT_POINTING_MODE = ACROSSTRACK
^MEX_POINTING_DESC = "MEX_POINTING_DESC.TXT"
RIGHT_ASCENSION = -1e+32
DECLINATION = -1e+32
OFFSET_ANGLE = 5.86
SPACECRAFT_SOLAR_DISTANCE = 2.37579e+08
TARGET_NAME = MARS
/* CAMERA DATA ELEMENTS */
DETECTOR_TEMPERATURE = 0.0
FOCAL_PLANE_TEMPERATURE = 0.0
INST_CMPRS_NAME = "DISCRETE COSINE TRANSFORMATION (DCT)"
INST_CMPRS_RATIO = 8.03963
INST_CMPRS_QUALITY = 0
INST_CMPRS_QUANTZ_TBL_ID = 0
INSTRUMENT_TEMPERATURE = 0.0
LENS_TEMPERATURE = 0.0
MACROPIXEL_SIZE = 4
MISSING_FRAMES = 0
PIXEL_SUBSAMPLING_FLAG = N
SIGNAL_CHAIN_ID = 2
/* RADIOMETRIC DATA ELEMENTS */
BANDWIDTH = 88.0
CENTER_FILTER_WAVELENGTH = 538.0
RADIANCE_OFFSET = 0.897871
RADIANCE_SCALING_FACTOR = 0.00160228
REFLECTANCE_SCALING_FACTOR = 7.78658e-05
MEX:REFLECTANCE_OFFSET = 0.0436337
/* IMAGE OBJECT DEFINITIONS */
OBJECT = IMAGE
  INTERCHANGE_FORMAT = BINARY
  LINES = 5214
  LINE_SAMPLES = 1817
  SAMPLE_TYPE = UNSIGNED_INTEGER
  SAMPLE_BITS = 8
  BANDS = 1
  BAND_STORAGE_TYPE = BAND_SEQUENTIAL
  MAXIMUM = 255
  MEAN = 123.867
  MINIMUM = 1
  STANDARD_DEVIATION = 33.1875
END_OBJECT = IMAGE
/* MAP OBJECT DEFINITIONS */
OBJECT = IMAGE_MAP_PROJECTION
  ^DATA_SET_MAP_PROJECTION_CATALOG= "DSMAP.CAT"
  A_AXIS_RADIUS = 3396.0
  B_AXIS_RADIUS = 3396.0
  C_AXIS_RADIUS = 3396.0
  CENTER_LATITUDE = 0.0
  CENTER_LONGITUDE = 172.0
  COORDINATE_SYSTEM_NAME = PLANETOGRAPHIC
  COORDINATE_SYSTEM_TYPE = "BODY-FIXED ROTATING"
  EASTERNMOST_LONGITUDE = 173.411
  FIRST_STANDARD_PARALLEL = "N/A"
  LINE_FIRST_PIXEL = 1
  LINE_LAST_PIXEL = 5214
  LINE_PROJECTION_OFFSET = 22.875
  MAP_PROJECTION_ROTATION = 0.0
  MAP_PROJECTION_TYPE = SINUSOIDAL
  MAP_RESOLUTION = 592.713803866667
  MAP_SCALE = 0.1
  MAXIMUM_LATITUDE = 0.085927
  MINIMUM_LATITUDE = -8.81503
  POSITIVE_LONGITUDE_DIRECTION = EAST
  REFERENCE_LATITUDE = "N/A"
  REFERENCE_LONGITUDE = "N/A"
  SAMPLE_FIRST_PIXEL = 1
  SAMPLE_LAST_PIXEL = 1817
  SAMPLE_PROJECTION_OFFSET = 978.625
  SECOND_STANDARD_PARALLEL = "N/A"
  WESTERNMOST_LONGITUDE = 170.356
END_OBJECT = IMAGE_MAP_PROJECTION
END
