PDS_VERSION_ID = PDS3
/* FILE DATA ELEMENTS */
RECORD_TYPE = UNDEFINED
/* POINTERS TO DATA OBJECTS */
^IMAGE = ("HO066_0000_GR4.TIF")
/* IDENTIFICATION DATA ELEMENTS */
DATA_SET_ID = "MEX-M-HRSC-4-REFDR-MAPPROJECT-EXT9-V4.0"
DATA_SET_NAME = "MARS EXPRESS HRSC MAP PROJECTED REFDR EXTENSION9 V4.0"
DETECTOR_ID = MEX_HRSC_GREEN
EVENT_TYPE = "MARS-LOCAL-MAPPING-Vo-Te"
INSTRUMENT_HOST_ID = MEX
INSTRUMENT_HOST_NAME = "MARS EXPRESS"
INSTRUMENT_ID = HRSC
INSTRUMENT_NAME = "HIGH RESOLUTION STEREO CAMERA"
MISSION_NAME = "MARS EXPRESS"
MISSION_PHASE_NAME = ME_Phase_47
PROCESSING_LEVEL_ID = 4
PRODUCT_CREATION_TIME = 2023-11-14T12:58:33.000Z
PRODUCT_ID = "HO066_0000_GR4.TIF"
RELEASE_ID = 0001
REVISION_ID = 0000
/* QUALITY DATA ELEMENTS */
DATA_QUALITY_ID = 1
DATA_QUALITY_DESC = "Data calculated based on original SPICE kernels"
/* TIME DATA ELEMENTS */
SPACECRAFT_CLOCK_START_COUNT = "1/0622352545.24882"
SPACECRAFT_CLOCK_STOP_COUNT = "1/0622352892.40727"
START_TIME = 2023-01-21T03:43:29.774Z
STOP_TIME = 2023-01-21T03:47:47.896Z
/* ORBITAL DATA ELEMENTS */
ASCENDING_NODE_LONGITUDE = 126.34
MAXIMUM_RESOLUTION = 0.0611
FOOTPRINT_POINT_LATITUDE = (15.3184,15.3247,15.3282,15.33,15.3301, 15.3306,14.8611,14.5482,14.2355,13.9229 ,13.6104,13.298,12.9858,12.6738,12.3619 ,12.0501,11.7385,11.4271,11.1158, 10.8048,10.1832,9.56261,8.94282,8.32401 ,7.84914,7.53218,7.21552,6.89906, 6.58302,6.25945,5.77402,5.45081,5.12783 ,4.79889,4.4683,4.13796,3.80808,3.47388 ,3.13644,2.79947,2.46297,1.94785, 1.60432,1.2613,0.911428,0.561268, 0.211577,-0.322001,-0.678313,-0.856267, -0.886099,-0.900436,-0.913663,-0.913926 ,-0.912866,-0.556498,-0.199531,0.156641 ,0.506671,0.857132,1.20793,1.55121, 2.06704,2.41103,2.7477,3.08488,3.42245, 3.75762,4.08782,4.41834,4.74917,5.07915 ,5.40243,5.72598,6.04986,6.37404, 6.69455,7.01124,7.32825,7.64541,7.96289 ,8.28018,8.89967,9.5201,10.1413,10.4523 ,10.7634,11.0748,11.3864,11.6981,12.01, 12.3221,12.6375,13.1075,13.7329,14.3536 ,14.6667,15.1366,15.2933,15.3184)
FOOTPRINT_POINT_LONGITUDE = (268.913,268.307,267.87,267.548,267.535 ,267.534,267.53,267.527,267.523,267.52, 267.516,267.512,267.508,267.504,267.5, 267.495,267.491,267.486,267.481,267.476 ,267.465,267.454,267.443,267.431, 267.421,267.415,267.408,267.401,267.395 ,267.388,267.377,267.37,267.362,267.354 ,267.345,267.337,267.328,267.319,267.31 ,267.301,267.291,267.276,267.266, 267.256,267.245,267.235,267.224,267.207 ,267.196,267.19,267.189,268.055,268.83, 268.845,268.85,268.85,268.85,268.85, 268.85,268.85,268.85,268.85,268.851, 268.851,268.852,268.852,268.853,268.853 ,268.854,268.855,268.856,268.856, 268.857,268.859,268.86,268.861,268.863, 268.864,268.865,268.866,268.867,268.869 ,268.871,268.874,268.877,268.879, 268.881,268.882,268.884,268.886,268.888 ,268.889,268.885,268.885,268.889, 268.903,268.906,268.909,268.91,268.913)
ORBIT_NUMBER = 24066
ORBITAL_ECCENTRICITY = 0.574
ORBITAL_INCLINATION = 87.04
ORBITAL_SEMIMAJOR_AXIS = 8845.43
PERIAPSIS_ALTITUDE = 377.21
PERIAPSIS_ARGUMENT_ANGLE = 157.85
PERIAPSIS_TIME = 2023-01-21T03:41:49.000Z
SPACECRAFT_ORIENTATION = (0.0,-1.0,0.0)
^MEX_ORIENTATION_DESC = "MEX_ORIENTATION_DESC.TXT"
SPACECRAFT_POINTING_MODE = NADIR
^MEX_POINTING_DESC = "MEX_POINTING_DESC.TXT"
RIGHT_ASCENSION = -1e+32
DECLINATION = -1e+32
OFFSET_ANGLE = -1e+32
SPACECRAFT_SOLAR_DISTANCE = 2.3753e+08
TARGET_NAME = MARS
/* CAMERA DATA ELEMENTS */
DETECTOR_TEMPERATURE = 18.9822
FOCAL_PLANE_TEMPERATURE = 10.0106
INST_CMPRS_NAME = "DISCRETE COSINE TRANSFORMATION (DCT)"
INST_CMPRS_RATIO = 8.77332
INST_CMPRS_QUALITY = 0
INST_CMPRS_QUANTZ_TBL_ID = 0
INSTRUMENT_TEMPERATURE = 12.0496
LENS_TEMPERATURE = 10.6223
MACROPIXEL_SIZE = 4
MISSING_FRAMES = 0
PIXEL_SUBSAMPLING_FLAG = N
SIGNAL_CHAIN_ID = 2
/* RADIOMETRIC DATA ELEMENTS */
BANDWIDTH = 88.0
CENTER_FILTER_WAVELENGTH = 538.0
RADIANCE_OFFSET = 0.545094
RADIANCE_SCALING_FACTOR = 0.00576755
REFLECTANCE_SCALING_FACTOR = 0.00028017
MEX:REFLECTANCE_OFFSET = 0.026479
/* IMAGE OBJECT DEFINITIONS */
OBJECT = IMAGE
  INTERCHANGE_FORMAT = BINARY
  LINES = 19254
  LINE_SAMPLES = 2025
  SAMPLE_TYPE = UNSIGNED_INTEGER
  SAMPLE_BITS = 8
  BANDS = 1
  BAND_STORAGE_TYPE = BAND_SEQUENTIAL
  MAXIMUM = 255
  MEAN = 133.809
  MINIMUM = 1
  STANDARD_DEVIATION = 18.283
END_OBJECT = IMAGE
/* MAP OBJECT DEFINITIONS */
OBJECT = IMAGE_MAP_PROJECTION
  ^DATA_SET_MAP_PROJECTION_CATALOG= "DSMAP.CAT"
  A_AXIS_RADIUS = 3396.0
  B_AXIS_RADIUS = 3396.0
  C_AXIS_RADIUS = 3396.0
  CENTER_LATITUDE = 0.0
  CENTER_LONGITUDE = 268.0
  COORDINATE_SYSTEM_NAME = PLANETOGRAPHIC
  COORDINATE_SYSTEM_TYPE = "BODY-FIXED ROTATING"
  EASTERNMOST_LONGITUDE = 268.913
  FIRST_STANDARD_PARALLEL = "N/A"
  LINE_FIRST_PIXEL = 1
  LINE_LAST_PIXEL = 19254
  LINE_PROJECTION_OFFSET = 18172.375
  MAP_PROJECTION_ROTATION = 0.0
  MAP_PROJECTION_TYPE = SINUSOIDAL
  MAP_RESOLUTION = 1185.42760773333
  MAP_SCALE = 0.05
  MAXIMUM_LATITUDE = 15.3306
  MINIMUM_LATITUDE = -0.913926
  POSITIVE_LONGITUDE_DIRECTION = EAST
  REFERENCE_LATITUDE = "N/A"
  REFERENCE_LONGITUDE = "N/A"
  SAMPLE_FIRST_PIXEL = 1
  SAMPLE_LAST_PIXEL = 2025
  SAMPLE_PROJECTION_OFFSET = 980.625
  SECOND_STANDARD_PARALLEL = "N/A"
  WESTERNMOST_LONGITUDE = 267.189
END_OBJECT = IMAGE_MAP_PROJECTION
END
