PDS_VERSION_ID = PDS3
/* FILE DATA ELEMENTS */
RECORD_TYPE = UNDEFINED
/* POINTERS TO DATA OBJECTS */
^IMAGE = ("HO063_0000_P24.TIF")
/* IDENTIFICATION DATA ELEMENTS */
DATA_SET_ID = "MEX-M-HRSC-4-REFDR-MAPPROJECT-EXT9-V4.0"
DATA_SET_NAME = "MARS EXPRESS HRSC MAP PROJECTED REFDR EXTENSION9 V4.0"
DETECTOR_ID = MEX_HRSC_P2
EVENT_TYPE = "MARS-LOCAL-MAPPING-Vo-Te-Mw"
INSTRUMENT_HOST_ID = MEX
INSTRUMENT_HOST_NAME = "MARS EXPRESS"
INSTRUMENT_ID = HRSC
INSTRUMENT_NAME = "HIGH RESOLUTION STEREO CAMERA"
MISSION_NAME = "MARS EXPRESS"
MISSION_PHASE_NAME = ME_Phase_47
PROCESSING_LEVEL_ID = 4
PRODUCT_CREATION_TIME = 2023-11-14T12:58:33.000Z
PRODUCT_ID = "HO063_0000_P24.TIF"
RELEASE_ID = 0001
REVISION_ID = 0000
/* QUALITY DATA ELEMENTS */
DATA_QUALITY_ID = 1
DATA_QUALITY_DESC = "Data calculated based on original SPICE kernels"
/* TIME DATA ELEMENTS */
SPACECRAFT_CLOCK_START_COUNT = "1/0622276990.23941"
SPACECRAFT_CLOCK_STOP_COUNT = "1/0622277410.28411"
START_TIME = 2023-01-20T06:44:48.945Z
STOP_TIME = 2023-01-20T06:50:26.197Z
/* ORBITAL DATA ELEMENTS */
ASCENDING_NODE_LONGITUDE = 126.39
MAXIMUM_RESOLUTION = 0.0329
FOOTPRINT_POINT_LATITUDE = (22.143,22.0928,22.053,22.0149,22.0138, 22.0328,21.637,21.2389,20.4507,19.6563, 19.2516,18.6486,18.2453,17.4488,16.8462 ,16.2446,15.8461,15.4453,15.0485, 14.6438,14.2356,13.8277,13.4216,13.0146 ,12.6105,12.208,11.7951,11.3822,10.97, 10.5578,10.1473,9.72859,9.30944,8.89051 ,8.47314,8.05032,7.62403,7.19948, 6.77532,6.34303,5.91005,5.47824,5.04168 ,4.6021,4.16476,3.71651,3.26647,2.82192 ,2.37119,1.92086,1.46581,1.23729, 1.18231,1.24086,1.32023,1.32189,1.32301 ,2.00942,2.46048,3.13625,3.80255, 4.24812,4.68507,5.12422,5.56174,5.99305 ,6.42557,6.85646,7.27943,7.70543, 8.34465,8.76188,9.17993,9.80879,10.2283 ,10.8456,11.2573,11.67,12.084,12.6946, 13.0996,13.7073,14.1138,14.5221,14.9286 ,15.3308,15.7293,16.1307,16.731,17.132, 17.5325,17.9328,18.7355,19.3395,19.743, 20.1448,20.9313,21.9173,22.115,22.143)
FOOTPRINT_POINT_LONGITUDE = (218.638,217.948,217.41,216.906,216.891 ,216.915,216.905,216.892,216.874, 216.857,216.846,216.834,216.824,216.814 ,216.798,216.782,216.774,216.761, 216.754,216.744,216.734,216.722,216.713 ,216.701,216.692,216.684,216.673, 216.663,216.653,216.641,216.631,216.619 ,216.608,216.597,216.586,216.573, 216.561,216.55,216.538,216.525,216.512, 216.499,216.485,216.472,216.459,216.441 ,216.422,216.409,216.397,216.383,216.37 ,216.363,216.362,217.271,218.281, 218.302,218.309,218.312,218.315,218.319 ,218.321,218.326,218.328,218.333, 218.338,218.342,218.348,218.349,218.351 ,218.358,218.366,218.369,218.375, 218.384,218.391,218.403,218.409,218.416 ,218.424,218.434,218.442,218.453, 218.461,218.472,218.478,218.49,218.499, 218.514,218.531,218.543,218.553,218.561 ,218.581,218.599,218.611,218.621, 218.645,218.678,218.685,218.638)
ORBIT_NUMBER = 24063
ORBITAL_ECCENTRICITY = 0.573
ORBITAL_INCLINATION = 87.05
ORBITAL_SEMIMAJOR_AXIS = 8838.61
PERIAPSIS_ALTITUDE = 377.09
PERIAPSIS_ARGUMENT_ANGLE = 158.35
PERIAPSIS_TIME = 2023-01-20T06:44:31.000Z
SPACECRAFT_ORIENTATION = (0.0,-1.0,0.0)
^MEX_ORIENTATION_DESC = "MEX_ORIENTATION_DESC.TXT"
SPACECRAFT_POINTING_MODE = ACROSSTRACK
^MEX_POINTING_DESC = "MEX_POINTING_DESC.TXT"
RIGHT_ASCENSION = -1e+32
DECLINATION = -1e+32
OFFSET_ANGLE = 2.747
SPACECRAFT_SOLAR_DISTANCE = 2.37384e+08
TARGET_NAME = MARS
/* CAMERA DATA ELEMENTS */
DETECTOR_TEMPERATURE = 19.1861
FOCAL_PLANE_TEMPERATURE = 9.8067
INST_CMPRS_NAME = "DISCRETE COSINE TRANSFORMATION (DCT)"
INST_CMPRS_RATIO = 4.43749
INST_CMPRS_QUALITY = 0
INST_CMPRS_QUANTZ_TBL_ID = 0
INSTRUMENT_TEMPERATURE = 12.2535
LENS_TEMPERATURE = 10.4184
MACROPIXEL_SIZE = 2
MISSING_FRAMES = 0
PIXEL_SUBSAMPLING_FLAG = N
SIGNAL_CHAIN_ID = 3
/* RADIOMETRIC DATA ELEMENTS */
BANDWIDTH = 177.0
CENTER_FILTER_WAVELENGTH = 676.5
RADIANCE_OFFSET = 2.34517
RADIANCE_SCALING_FACTOR = 0.011857
REFLECTANCE_SCALING_FACTOR = 0.000354271
MEX:REFLECTANCE_OFFSET = 0.0700707
/* IMAGE OBJECT DEFINITIONS */
OBJECT = IMAGE
  INTERCHANGE_FORMAT = BINARY
  LINES = 49502
  LINE_SAMPLES = 5120
  SAMPLE_TYPE = UNSIGNED_INTEGER
  SAMPLE_BITS = 8
  BANDS = 1
  BAND_STORAGE_TYPE = BAND_SEQUENTIAL
  MAXIMUM = 255
  MEAN = 99.9754
  MINIMUM = 1
  STANDARD_DEVIATION = 25.5888
END_OBJECT = IMAGE
/* MAP OBJECT DEFINITIONS */
OBJECT = IMAGE_MAP_PROJECTION
  ^DATA_SET_MAP_PROJECTION_CATALOG= "DSMAP.CAT"
  A_AXIS_RADIUS = 3396.0
  B_AXIS_RADIUS = 3396.0
  C_AXIS_RADIUS = 3396.0
  CENTER_LATITUDE = 0.0
  CENTER_LONGITUDE = 217.0
  COORDINATE_SYSTEM_NAME = PLANETOGRAPHIC
  COORDINATE_SYSTEM_TYPE = "BODY-FIXED ROTATING"
  EASTERNMOST_LONGITUDE = 218.685
  FIRST_STANDARD_PARALLEL = "N/A"
  LINE_FIRST_PIXEL = 1
  LINE_LAST_PIXEL = 49502
  LINE_PROJECTION_OFFSET = 52411.25
  MAP_PROJECTION_ROTATION = 0.0
  MAP_PROJECTION_TYPE = SINUSOIDAL
  MAP_RESOLUTION = 2370.85521546667
  MAP_SCALE = 0.025
  MAXIMUM_LATITUDE = 22.143
  MINIMUM_LATITUDE = 1.18231
  POSITIVE_LONGITUDE_DIRECTION = EAST
  REFERENCE_LATITUDE = "N/A"
  REFERENCE_LONGITUDE = "N/A"
  SAMPLE_FIRST_PIXEL = 1
  SAMPLE_LAST_PIXEL = 5120
  SAMPLE_PROJECTION_OFFSET = 1456.25
  SECOND_STANDARD_PARALLEL = "N/A"
  WESTERNMOST_LONGITUDE = 216.362
END_OBJECT = IMAGE_MAP_PROJECTION
END
