PDS_VERSION_ID = PDS3
/* FILE DATA ELEMENTS */
RECORD_TYPE = UNDEFINED
/* POINTERS TO DATA OBJECTS */
^IMAGE = ("HO063_0000_IR4.TIF")
/* IDENTIFICATION DATA ELEMENTS */
DATA_SET_ID = "MEX-M-HRSC-4-REFDR-MAPPROJECT-EXT9-V4.0"
DATA_SET_NAME = "MARS EXPRESS HRSC MAP PROJECTED REFDR EXTENSION9 V4.0"
DETECTOR_ID = MEX_HRSC_IR
EVENT_TYPE = "MARS-LOCAL-MAPPING-Vo-Te-Mw"
INSTRUMENT_HOST_ID = MEX
INSTRUMENT_HOST_NAME = "MARS EXPRESS"
INSTRUMENT_ID = HRSC
INSTRUMENT_NAME = "HIGH RESOLUTION STEREO CAMERA"
MISSION_NAME = "MARS EXPRESS"
MISSION_PHASE_NAME = ME_Phase_47
PROCESSING_LEVEL_ID = 4
PRODUCT_CREATION_TIME = 2023-11-14T12:58:33.000Z
PRODUCT_ID = "HO063_0000_IR4.TIF"
RELEASE_ID = 0001
REVISION_ID = 0000
/* QUALITY DATA ELEMENTS */
DATA_QUALITY_ID = 1
DATA_QUALITY_DESC = "Data calculated based on original SPICE kernels"
/* TIME DATA ELEMENTS */
SPACECRAFT_CLOCK_START_COUNT = "1/0622276990.23941"
SPACECRAFT_CLOCK_STOP_COUNT = "1/0622277410.28411"
START_TIME = 2023-01-20T06:43:52.639Z
STOP_TIME = 2023-01-20T06:49:16.795Z
/* ORBITAL DATA ELEMENTS */
ASCENDING_NODE_LONGITUDE = 126.39
MAXIMUM_RESOLUTION = 0.0665
FOOTPRINT_POINT_LATITUDE = (21.9798,22.0835,22.1535,22.2167, 22.2186,22.1931,21.7905,20.9998,20.0218 ,19.4338,19.0375,18.4486,18.0487, 17.6529,17.0637,16.67,16.0651,15.6599, 15.049,14.6453,14.2394,13.834,13.4277, 13.0222,12.6142,12.2051,11.7984,11.3912 ,10.9736,10.5566,10.1389,9.72192, 9.30433,8.67844,8.04109,7.61416,7.1859, 6.54481,6.11339,5.67717,5.02227,4.58549 ,4.14141,3.69753,3.25922,2.58263, 2.12589,1.66897,1.44057,1.32966,1.26329 ,1.19945,1.09908,1.09584,1.09619, 1.55029,2.00545,2.68643,3.13235,3.57907 ,4.02538,4.46609,4.9031,5.33895,5.77523 ,6.20941,6.8515,7.28037,7.70596,8.13103 ,8.55521,8.97338,9.39032,9.80745,10.224 ,10.8489,11.2634,11.6701,12.0759, 12.6865,13.0933,13.703,14.1097,14.5126, 14.9222,15.3264,15.7319,16.1341,16.5326 ,17.319,17.7136,18.3057,18.7012,19.2897 ,20.0749,20.8596,21.256,21.6576,21.8574 ,21.9798)
FOOTPRINT_POINT_LONGITUDE = (218.644,217.916,217.403,216.92,216.905 ,216.93,216.923,216.903,216.881,216.868 ,216.863,216.849,216.848,216.842, 216.826,216.817,216.804,216.795,216.784 ,216.772,216.763,216.753,216.743, 216.733,216.725,216.718,216.709,216.7, 216.69,216.68,216.67,216.66,216.65, 216.635,216.619,216.608,216.598,216.582 ,216.57,216.558,216.54,216.528,216.517, 216.502,216.483,216.466,216.454,216.443 ,216.437,216.434,217.001,217.505, 218.232,218.251,218.258,218.262,218.267 ,218.273,218.278,218.281,218.286, 218.291,218.296,218.303,218.309,218.315 ,218.321,218.325,218.334,218.344, 218.345,218.35,218.358,218.365,218.373, 218.387,218.394,218.402,218.412,218.423 ,218.431,218.445,218.453,218.468, 218.472,218.485,218.496,218.512,218.523 ,218.548,218.559,218.573,218.581, 218.602,218.626,218.651,218.663,218.677 ,218.685,218.644)
ORBIT_NUMBER = 24063
ORBITAL_ECCENTRICITY = 0.573
ORBITAL_INCLINATION = 87.05
ORBITAL_SEMIMAJOR_AXIS = 8838.61
PERIAPSIS_ALTITUDE = 377.09
PERIAPSIS_ARGUMENT_ANGLE = 158.35
PERIAPSIS_TIME = 2023-01-20T06:44:31.000Z
SPACECRAFT_ORIENTATION = (0.0,-1.0,0.0)
^MEX_ORIENTATION_DESC = "MEX_ORIENTATION_DESC.TXT"
SPACECRAFT_POINTING_MODE = ACROSSTRACK
^MEX_POINTING_DESC = "MEX_POINTING_DESC.TXT"
RIGHT_ASCENSION = -1e+32
DECLINATION = -1e+32
OFFSET_ANGLE = 2.747
SPACECRAFT_SOLAR_DISTANCE = 2.37384e+08
TARGET_NAME = MARS
/* CAMERA DATA ELEMENTS */
DETECTOR_TEMPERATURE = 18.1666
FOCAL_PLANE_TEMPERATURE = 9.8067
INST_CMPRS_NAME = "DISCRETE COSINE TRANSFORMATION (DCT)"
INST_CMPRS_RATIO = 4.62222
INST_CMPRS_QUALITY = 0
INST_CMPRS_QUANTZ_TBL_ID = 0
INSTRUMENT_TEMPERATURE = 12.2535
LENS_TEMPERATURE = 10.4184
MACROPIXEL_SIZE = 4
MISSING_FRAMES = 0
PIXEL_SUBSAMPLING_FLAG = N
SIGNAL_CHAIN_ID = 2
/* RADIOMETRIC DATA ELEMENTS */
BANDWIDTH = 81.0
CENTER_FILTER_WAVELENGTH = 955.5
RADIANCE_OFFSET = 0.614671
RADIANCE_SCALING_FACTOR = 0.00335478
REFLECTANCE_SCALING_FACTOR = 0.000407847
MEX:REFLECTANCE_OFFSET = 0.0747266
/* IMAGE OBJECT DEFINITIONS */
OBJECT = IMAGE
  INTERCHANGE_FORMAT = BINARY
  LINES = 24751
  LINE_SAMPLES = 2560
  SAMPLE_TYPE = UNSIGNED_INTEGER
  SAMPLE_BITS = 8
  BANDS = 1
  BAND_STORAGE_TYPE = BAND_SEQUENTIAL
  MAXIMUM = 255
  MEAN = 96.2836
  MINIMUM = 1
  STANDARD_DEVIATION = 24.1861
END_OBJECT = IMAGE
/* MAP OBJECT DEFINITIONS */
OBJECT = IMAGE_MAP_PROJECTION
  ^DATA_SET_MAP_PROJECTION_CATALOG= "DSMAP.CAT"
  A_AXIS_RADIUS = 3396.0
  B_AXIS_RADIUS = 3396.0
  C_AXIS_RADIUS = 3396.0
  CENTER_LATITUDE = 0.0
  CENTER_LONGITUDE = 217.0
  COORDINATE_SYSTEM_NAME = PLANETOGRAPHIC
  COORDINATE_SYSTEM_TYPE = "BODY-FIXED ROTATING"
  EASTERNMOST_LONGITUDE = 218.685
  FIRST_STANDARD_PARALLEL = "N/A"
  LINE_FIRST_PIXEL = 1
  LINE_LAST_PIXEL = 24751
  LINE_PROJECTION_OFFSET = 26205.375
  MAP_PROJECTION_ROTATION = 0.0
  MAP_PROJECTION_TYPE = SINUSOIDAL
  MAP_RESOLUTION = 1185.42760773333
  MAP_SCALE = 0.05
  MAXIMUM_LATITUDE = 22.2186
  MINIMUM_LATITUDE = 1.09584
  POSITIVE_LONGITUDE_DIRECTION = EAST
  REFERENCE_LATITUDE = "N/A"
  REFERENCE_LONGITUDE = "N/A"
  SAMPLE_FIRST_PIXEL = 1
  SAMPLE_LAST_PIXEL = 2560
  SAMPLE_PROJECTION_OFFSET = 727.875
  SECOND_STANDARD_PARALLEL = "N/A"
  WESTERNMOST_LONGITUDE = 216.434
END_OBJECT = IMAGE_MAP_PROJECTION
END
