PDS_VERSION_ID = PDS3
/* FILE DATA ELEMENTS */
RECORD_TYPE = UNDEFINED
/* POINTERS TO DATA OBJECTS */
^IMAGE = ("HO063_0000_GR4.TIF")
/* IDENTIFICATION DATA ELEMENTS */
DATA_SET_ID = "MEX-M-HRSC-4-REFDR-MAPPROJECT-EXT9-V4.0"
DATA_SET_NAME = "MARS EXPRESS HRSC MAP PROJECTED REFDR EXTENSION9 V4.0"
DETECTOR_ID = MEX_HRSC_GREEN
EVENT_TYPE = "MARS-LOCAL-MAPPING-Vo-Te-Mw"
INSTRUMENT_HOST_ID = MEX
INSTRUMENT_HOST_NAME = "MARS EXPRESS"
INSTRUMENT_ID = HRSC
INSTRUMENT_NAME = "HIGH RESOLUTION STEREO CAMERA"
MISSION_NAME = "MARS EXPRESS"
MISSION_PHASE_NAME = ME_Phase_47
PROCESSING_LEVEL_ID = 4
PRODUCT_CREATION_TIME = 2023-11-14T12:58:33.000Z
PRODUCT_ID = "HO063_0000_GR4.TIF"
RELEASE_ID = 0001
REVISION_ID = 0000
/* QUALITY DATA ELEMENTS */
DATA_QUALITY_ID = 1
DATA_QUALITY_DESC = "Data calculated based on original SPICE kernels"
/* TIME DATA ELEMENTS */
SPACECRAFT_CLOCK_START_COUNT = "1/0622276990.23941"
SPACECRAFT_CLOCK_STOP_COUNT = "1/0622277410.28411"
START_TIME = 2023-01-20T06:44:17.745Z
STOP_TIME = 2023-01-20T06:49:46.115Z
/* ORBITAL DATA ELEMENTS */
ASCENDING_NODE_LONGITUDE = 126.39
MAXIMUM_RESOLUTION = 0.0638
FOOTPRINT_POINT_LATITUDE = (22.0477,22.0819,22.1039,22.123,22.1235 ,22.1177,21.5288,21.1354,20.5463, 19.9562,19.1699,18.5798,18.1862,17.7849 ,17.3813,16.9781,16.3733,15.9695, 15.5666,15.1639,14.5594,13.9558,13.3523 ,12.9504,12.5378,12.1254,11.7137, 11.3021,10.8908,10.4801,10.0679,9.64738 ,9.22711,8.80728,8.38776,7.96884, 7.53999,7.11132,6.68343,6.25613,5.60366 ,5.16732,4.73156,4.06825,3.62498, 3.18248,2.73095,2.27798,1.59607,1.36541 ,1.27269,1.2426,1.22364,1.2044,1.20368, 1.20462,1.89189,2.34361,2.79613,3.46607 ,3.91023,4.57518,5.0105,5.66458,6.10065 ,6.5276,6.95583,7.59814,8.23334,8.65286 ,9.07252,9.49257,10.1218,10.5321, 10.9427,11.3538,11.7652,12.1768,12.5889 ,13.199,13.6012,14.0036,14.4057,15.0099 ,15.4126,15.8156,16.4196,16.8227, 17.2259,17.6295,18.0322,18.4255,19.0148 ,19.6044,19.9975,20.5876,20.9808, 21.7665,21.9627,22.0477)
FOOTPRINT_POINT_LONGITUDE = (218.62,217.898,217.389,216.91,216.895, 216.919,216.903,216.897,216.881,216.87, 216.853,216.841,216.835,216.832,216.822 ,216.811,216.796,216.789,216.778, 216.767,216.755,216.739,216.725,216.715 ,216.706,216.698,216.688,216.679, 216.669,216.659,216.649,216.637,216.627 ,216.617,216.606,216.595,216.583, 216.573,216.561,216.549,216.53,216.518, 216.506,216.487,216.469,216.451,216.44, 216.428,216.41,216.404,216.402,217.249, 217.744,218.231,218.25,218.256,218.262, 218.266,218.269,218.275,218.278,218.285 ,218.29,218.299,218.305,218.311,218.312 ,218.322,218.331,218.335,218.341, 218.347,218.358,218.365,218.374,218.381 ,218.389,218.398,218.405,218.418, 218.425,218.433,218.445,218.457,218.468 ,218.478,218.499,218.512,218.524, 218.535,218.543,218.552,218.571,218.589 ,218.601,218.617,218.628,218.656, 218.664,218.62)
ORBIT_NUMBER = 24063
ORBITAL_ECCENTRICITY = 0.573
ORBITAL_INCLINATION = 87.05
ORBITAL_SEMIMAJOR_AXIS = 8838.61
PERIAPSIS_ALTITUDE = 377.09
PERIAPSIS_ARGUMENT_ANGLE = 158.35
PERIAPSIS_TIME = 2023-01-20T06:44:31.000Z
SPACECRAFT_ORIENTATION = (0.0,-1.0,0.0)
^MEX_ORIENTATION_DESC = "MEX_ORIENTATION_DESC.TXT"
SPACECRAFT_POINTING_MODE = ACROSSTRACK
^MEX_POINTING_DESC = "MEX_POINTING_DESC.TXT"
RIGHT_ASCENSION = -1e+32
DECLINATION = -1e+32
OFFSET_ANGLE = 2.747
SPACECRAFT_SOLAR_DISTANCE = 2.37384e+08
TARGET_NAME = MARS
/* CAMERA DATA ELEMENTS */
DETECTOR_TEMPERATURE = 18.7783
FOCAL_PLANE_TEMPERATURE = 9.8067
INST_CMPRS_NAME = "DISCRETE COSINE TRANSFORMATION (DCT)"
INST_CMPRS_RATIO = 5.47087
INST_CMPRS_QUALITY = 0
INST_CMPRS_QUANTZ_TBL_ID = 0
INSTRUMENT_TEMPERATURE = 12.2535
LENS_TEMPERATURE = 10.4184
MACROPIXEL_SIZE = 4
MISSING_FRAMES = 0
PIXEL_SUBSAMPLING_FLAG = N
SIGNAL_CHAIN_ID = 2
/* RADIOMETRIC DATA ELEMENTS */
BANDWIDTH = 88.0
CENTER_FILTER_WAVELENGTH = 538.0
RADIANCE_OFFSET = 0.833235
RADIANCE_SCALING_FACTOR = 0.0032122
REFLECTANCE_SCALING_FACTOR = 0.000155846
MEX:REFLECTANCE_OFFSET = 0.040426
/* IMAGE OBJECT DEFINITIONS */
OBJECT = IMAGE
  INTERCHANGE_FORMAT = BINARY
  LINES = 24751
  LINE_SAMPLES = 2560
  SAMPLE_TYPE = UNSIGNED_INTEGER
  SAMPLE_BITS = 8
  BANDS = 1
  BAND_STORAGE_TYPE = BAND_SEQUENTIAL
  MAXIMUM = 255
  MEAN = 114.287
  MINIMUM = 1
  STANDARD_DEVIATION = 24.8359
END_OBJECT = IMAGE
/* MAP OBJECT DEFINITIONS */
OBJECT = IMAGE_MAP_PROJECTION
  ^DATA_SET_MAP_PROJECTION_CATALOG= "DSMAP.CAT"
  A_AXIS_RADIUS = 3396.0
  B_AXIS_RADIUS = 3396.0
  C_AXIS_RADIUS = 3396.0
  CENTER_LATITUDE = 0.0
  CENTER_LONGITUDE = 217.0
  COORDINATE_SYSTEM_NAME = PLANETOGRAPHIC
  COORDINATE_SYSTEM_TYPE = "BODY-FIXED ROTATING"
  EASTERNMOST_LONGITUDE = 218.664
  FIRST_STANDARD_PARALLEL = "N/A"
  LINE_FIRST_PIXEL = 1
  LINE_LAST_PIXEL = 24751
  LINE_PROJECTION_OFFSET = 26205.375
  MAP_PROJECTION_ROTATION = 0.0
  MAP_PROJECTION_TYPE = SINUSOIDAL
  MAP_RESOLUTION = 1185.42760773333
  MAP_SCALE = 0.05
  MAXIMUM_LATITUDE = 22.1235
  MINIMUM_LATITUDE = 1.20368
  POSITIVE_LONGITUDE_DIRECTION = EAST
  REFERENCE_LATITUDE = "N/A"
  REFERENCE_LONGITUDE = "N/A"
  SAMPLE_FIRST_PIXEL = 1
  SAMPLE_LAST_PIXEL = 2560
  SAMPLE_PROJECTION_OFFSET = 727.875
  SECOND_STANDARD_PARALLEL = "N/A"
  WESTERNMOST_LONGITUDE = 216.402
END_OBJECT = IMAGE_MAP_PROJECTION
END
