PDS_VERSION_ID = PDS3
/* FILE DATA ELEMENTS */
RECORD_TYPE = UNDEFINED
/* POINTERS TO DATA OBJECTS */
^IMAGE = ("HO060_0000_RE4.TIF")
/* IDENTIFICATION DATA ELEMENTS */
DATA_SET_ID = "MEX-M-HRSC-4-REFDR-MAPPROJECT-EXT9-V4.0"
DATA_SET_NAME = "MARS EXPRESS HRSC MAP PROJECTED REFDR EXTENSION9 V4.0"
DETECTOR_ID = MEX_HRSC_RED
EVENT_TYPE = "MARS-REGIONAL-MAPPING-Vo-Te"
INSTRUMENT_HOST_ID = MEX
INSTRUMENT_HOST_NAME = "MARS EXPRESS"
INSTRUMENT_ID = HRSC
INSTRUMENT_NAME = "HIGH RESOLUTION STEREO CAMERA"
MISSION_NAME = "MARS EXPRESS"
MISSION_PHASE_NAME = ME_Phase_47
PROCESSING_LEVEL_ID = 4
PRODUCT_CREATION_TIME = 2023-11-14T12:58:33.000Z
PRODUCT_ID = "HO060_0000_RE4.TIF"
RELEASE_ID = 0001
REVISION_ID = 0000
/* QUALITY DATA ELEMENTS */
DATA_QUALITY_ID = 1
DATA_QUALITY_DESC = "Data calculated based on original SPICE kernels"
/* TIME DATA ELEMENTS */
SPACECRAFT_CLOCK_START_COUNT = "1/0622201502.23992"
SPACECRAFT_CLOCK_STOP_COUNT = "1/0622201804.15865"
START_TIME = 2023-01-19T09:46:45.158Z
STOP_TIME = 2023-01-19T09:50:31.178Z
/* ORBITAL DATA ELEMENTS */
ASCENDING_NODE_LONGITUDE = 126.44
MAXIMUM_RESOLUTION = 0.0646
FOOTPRINT_POINT_LATITUDE = (26.0768,26.107,26.1377,26.1792,26.1802 ,26.2116,25.7762,25.3405,25.0504, 24.7604,24.4709,24.1812,23.8915,23.6021 ,23.3129,23.0234,22.7347,22.3016, 21.8687,21.5804,21.1486,20.7172,20.43, 20.1428,19.8559,19.5693,19.2828,18.9965 ,18.7106,18.425,18.1398,17.712,17.4272, 17.1426,16.8584,16.5747,16.2909,16.0074 ,15.7245,15.4421,15.0184,14.7364, 14.4548,14.1735,13.6121,13.0515,12.4927 ,12.065,11.922,11.92,11.8508,11.7882, 11.7874,11.788,12.0751,12.3603,12.9206, 13.482,13.7632,14.0448,14.3268,14.6091, 14.8914,15.1742,15.5991,15.8827,16.1664 ,16.4503,16.7347,17.0195,17.4471, 17.7325,18.1612,18.4473,18.7339,19.1642 ,19.4512,19.7385,20.0259,20.3137, 20.6017,20.8896,21.178,21.4665,21.7555, 22.0443,22.3333,22.6228,22.9124,23.3468 ,23.6367,24.0718,24.3618,24.6525, 24.9429,25.2339,25.525,25.9615,26.1071, 26.0768)
FOOTPRINT_POINT_LONGITUDE = (159.961,159.506,159.032,158.38,158.364 ,158.314,158.326,158.338,158.346, 158.353,158.359,158.366,158.372,158.378 ,158.384,158.39,158.395,158.403,158.41, 158.414,158.42,158.426,158.429,158.432, 158.435,158.438,158.441,158.443,158.445 ,158.447,158.448,158.45,158.451,158.453 ,158.453,158.454,158.454,158.454, 158.454,158.454,158.453,158.452,158.451 ,158.45,158.447,158.444,158.44,158.437, 158.436,158.436,159.248,159.983,159.997 ,160.002,160.001,160.0,159.999,159.998, 159.998,159.997,159.996,159.996,159.995 ,159.995,159.994,159.993,159.992, 159.992,159.991,159.99,159.989,159.988, 159.986,159.985,159.984,159.983,159.981 ,159.98,159.979,159.978,159.976,159.975 ,159.974,159.972,159.971,159.969, 159.968,159.966,159.964,159.961,159.96, 159.957,159.955,159.953,159.951,159.948 ,159.946,159.943,159.941,159.961)
ORBIT_NUMBER = 24060
ORBITAL_ECCENTRICITY = 0.573
ORBITAL_INCLINATION = 87.05
ORBITAL_SEMIMAJOR_AXIS = 8833.59
PERIAPSIS_ALTITUDE = 377.48
PERIAPSIS_ARGUMENT_ANGLE = 158.9
PERIAPSIS_TIME = 2023-01-19T09:47:34.000Z
SPACECRAFT_ORIENTATION = (0.0,-1.0,0.0)
^MEX_ORIENTATION_DESC = "MEX_ORIENTATION_DESC.TXT"
SPACECRAFT_POINTING_MODE = ACROSSTRACK
^MEX_POINTING_DESC = "MEX_POINTING_DESC.TXT"
RIGHT_ASCENSION = -1e+32
DECLINATION = -1e+32
OFFSET_ANGLE = -1.7
SPACECRAFT_SOLAR_DISTANCE = 2.37238e+08
TARGET_NAME = MARS
/* CAMERA DATA ELEMENTS */
DETECTOR_TEMPERATURE = 19.39
FOCAL_PLANE_TEMPERATURE = 10.4184
INST_CMPRS_NAME = "DISCRETE COSINE TRANSFORMATION (DCT)"
INST_CMPRS_RATIO = 12.5585
INST_CMPRS_QUALITY = 0
INST_CMPRS_QUANTZ_TBL_ID = 0
INSTRUMENT_TEMPERATURE = 11.8457
LENS_TEMPERATURE = 10.8262
MACROPIXEL_SIZE = 4
MISSING_FRAMES = 0
PIXEL_SUBSAMPLING_FLAG = N
SIGNAL_CHAIN_ID = 2
/* RADIOMETRIC DATA ELEMENTS */
BANDWIDTH = 48.0
CENTER_FILTER_WAVELENGTH = 748.0
RADIANCE_OFFSET = 0.668651
RADIANCE_SCALING_FACTOR = 0.00432961
REFLECTANCE_SCALING_FACTOR = 0.000556087
MEX:REFLECTANCE_OFFSET = 0.0858802
/* IMAGE OBJECT DEFINITIONS */
OBJECT = IMAGE
  INTERCHANGE_FORMAT = BINARY
  LINES = 16972
  LINE_SAMPLES = 1875
  SAMPLE_TYPE = UNSIGNED_INTEGER
  SAMPLE_BITS = 8
  BANDS = 1
  BAND_STORAGE_TYPE = BAND_SEQUENTIAL
  MAXIMUM = 255
  MEAN = 90.8924
  MINIMUM = 1
  STANDARD_DEVIATION = 14.4044
END_OBJECT = IMAGE
/* MAP OBJECT DEFINITIONS */
OBJECT = IMAGE_MAP_PROJECTION
  ^DATA_SET_MAP_PROJECTION_CATALOG= "DSMAP.CAT"
  A_AXIS_RADIUS = 3396.0
  B_AXIS_RADIUS = 3396.0
  C_AXIS_RADIUS = 3396.0
  CENTER_LATITUDE = 0.0
  CENTER_LONGITUDE = 159.0
  COORDINATE_SYSTEM_NAME = PLANETOGRAPHIC
  COORDINATE_SYSTEM_TYPE = "BODY-FIXED ROTATING"
  EASTERNMOST_LONGITUDE = 160.002
  FIRST_STANDARD_PARALLEL = "N/A"
  LINE_FIRST_PIXEL = 1
  LINE_LAST_PIXEL = 16972
  LINE_PROJECTION_OFFSET = 31007.875
  MAP_PROJECTION_ROTATION = 0.0
  MAP_PROJECTION_TYPE = SINUSOIDAL
  MAP_RESOLUTION = 1185.42760773333
  MAP_SCALE = 0.05
  MAXIMUM_LATITUDE = 26.2116
  MINIMUM_LATITUDE = 11.7874
  POSITIVE_LONGITUDE_DIRECTION = EAST
  REFERENCE_LATITUDE = "N/A"
  REFERENCE_LONGITUDE = "N/A"
  SAMPLE_FIRST_PIXEL = 1
  SAMPLE_LAST_PIXEL = 1875
  SAMPLE_PROJECTION_OFFSET = 721.625
  SECOND_STANDARD_PARALLEL = "N/A"
  WESTERNMOST_LONGITUDE = 158.314
END_OBJECT = IMAGE_MAP_PROJECTION
END
