PDS_VERSION_ID = PDS3
/* FILE DATA ELEMENTS */
RECORD_TYPE = UNDEFINED
/* POINTERS TO DATA OBJECTS */
^IMAGE = ("HO057_0000_P14.TIF")
/* IDENTIFICATION DATA ELEMENTS */
DATA_SET_ID = "MEX-M-HRSC-4-REFDR-MAPPROJECT-EXT9-V4.0"
DATA_SET_NAME = "MARS EXPRESS HRSC MAP PROJECTED REFDR EXTENSION9 V4.0"
DETECTOR_ID = MEX_HRSC_P1
EVENT_TYPE = "MARS-REGIONAL-MAPPING-Vo-La"
INSTRUMENT_HOST_ID = MEX
INSTRUMENT_HOST_NAME = "MARS EXPRESS"
INSTRUMENT_ID = HRSC
INSTRUMENT_NAME = "HIGH RESOLUTION STEREO CAMERA"
MISSION_NAME = "MARS EXPRESS"
MISSION_PHASE_NAME = ME_Phase_47
PROCESSING_LEVEL_ID = 4
PRODUCT_CREATION_TIME = 2023-11-14T12:58:33.000Z
PRODUCT_ID = "HO057_0000_P14.TIF"
RELEASE_ID = 0001
REVISION_ID = 0000
/* QUALITY DATA ELEMENTS */
DATA_QUALITY_ID = 1
DATA_QUALITY_DESC = "Data calculated based on original SPICE kernels"
/* TIME DATA ELEMENTS */
SPACECRAFT_CLOCK_START_COUNT = "1/0622126526.23938"
SPACECRAFT_CLOCK_STOP_COUNT = "1/0622126986.58207"
START_TIME = 2023-01-18T12:56:17.080Z
STOP_TIME = 2023-01-18T13:01:08.382Z
/* ORBITAL DATA ELEMENTS */
ASCENDING_NODE_LONGITUDE = 126.5
MAXIMUM_RESOLUTION = 0.0396
FOOTPRINT_POINT_LATITUDE = (-3.76825,-3.73378,-3.70638,-3.68042, -3.67963,-3.67973,-4.27435,-5.03478, -5.64871,-5.95852,-6.26881,-6.58433, -6.90088,-7.21633,-7.53703,-8.01859, -8.50677,-9.00318,-9.33568,-9.66732, -10.1723,-10.5088,-10.851,-11.1933, -11.7135,-12.0613,-12.4145,-12.7675, -13.126,-13.6661,-14.029,-14.3955, -14.951,-15.3244,-15.7016,-16.2725, -16.6562,-17.0443,-17.4343,-17.8277, -18.225,-18.6251,-19.0283,-19.43, -19.8309,-20.2297,-20.6271,-21.0235, -21.2213,-21.2921,-21.3096,-21.3259, -21.3427,-21.3651,-21.3906,-21.3914, -21.3908,-20.7851,-20.186,-19.7859, -19.1833,-18.7805,-18.1804,-17.7847, -17.3914,-17.0026,-16.6163,-16.2333, -15.8541,-15.4762,-15.1026,-14.5464, -14.1792,-13.8158,-13.4536,-13.0954, -12.7384,-12.3846,-12.0393,-11.6841, -11.3383,-10.9958,-10.4842,-10.147, -9.80966,-9.47804,-9.14532,-8.64715, -8.32611,-7.84216,-7.35582,-7.03968, -6.72435,-6.40807,-5.78735,-5.32229, -4.56481,-3.96581,-3.81605,-3.76825)
FOOTPRINT_POINT_LONGITUDE = (109.316,108.664,108.129,107.605, 107.589,107.584,107.564,107.539,107.519 ,107.508,107.498,107.487,107.476, 107.466,107.454,107.437,107.419,107.402 ,107.389,107.377,107.358,107.345, 107.332,107.319,107.299,107.285,107.271 ,107.257,107.242,107.22,107.205,107.19, 107.166,107.15,107.134,107.109,107.092, 107.075,107.057,107.039,107.021,107.002 ,106.983,106.964,106.945,106.926, 106.906,106.887,106.877,106.874,107.309 ,107.723,108.142,108.776,109.554, 109.581,109.591,109.571,109.552,109.541 ,109.524,109.513,109.497,109.487, 109.478,109.469,109.46,109.452,109.444, 109.436,109.429,109.418,109.412,109.405 ,109.399,109.393,109.388,109.382, 109.383,109.371,109.368,109.363,109.357 ,109.354,109.35,109.347,109.343,109.337 ,109.341,109.337,109.329,109.327, 109.325,109.324,109.32,109.316,109.318, 109.317,109.317,109.316)
ORBIT_NUMBER = 24057
ORBITAL_ECCENTRICITY = 0.574
ORBITAL_INCLINATION = 87.04
ORBITAL_SEMIMAJOR_AXIS = 8842.04
PERIAPSIS_ALTITUDE = 376.21
PERIAPSIS_ARGUMENT_ANGLE = 159.39
PERIAPSIS_TIME = 2023-01-18T12:50:20.000Z
SPACECRAFT_ORIENTATION = (0.0,-1.0,0.0)
^MEX_ORIENTATION_DESC = "MEX_ORIENTATION_DESC.TXT"
SPACECRAFT_POINTING_MODE = ACROSSTRACK
^MEX_POINTING_DESC = "MEX_POINTING_DESC.TXT"
RIGHT_ASCENSION = -1e+32
DECLINATION = -1e+32
OFFSET_ANGLE = 1.17
SPACECRAFT_SOLAR_DISTANCE = 2.37091e+08
TARGET_NAME = MARS
/* CAMERA DATA ELEMENTS */
DETECTOR_TEMPERATURE = 17.9627
FOCAL_PLANE_TEMPERATURE = 10.4184
INST_CMPRS_NAME = "DISCRETE COSINE TRANSFORMATION (DCT)"
INST_CMPRS_RATIO = 7.16411
INST_CMPRS_QUALITY = 0
INST_CMPRS_QUANTZ_TBL_ID = 0
INSTRUMENT_TEMPERATURE = 11.8457
LENS_TEMPERATURE = 11.234
MACROPIXEL_SIZE = 2
MISSING_FRAMES = 1
PIXEL_SUBSAMPLING_FLAG = N
SIGNAL_CHAIN_ID = 3
/* RADIOMETRIC DATA ELEMENTS */
BANDWIDTH = 174.0
CENTER_FILTER_WAVELENGTH = 675.0
RADIANCE_OFFSET = 1.29401
RADIANCE_SCALING_FACTOR = 0.00885737
REFLECTANCE_SCALING_FACTOR = 0.000267808
MEX:REFLECTANCE_OFFSET = 0.039125
/* IMAGE OBJECT DEFINITIONS */
OBJECT = IMAGE
  INTERCHANGE_FORMAT = BINARY
  LINES = 20902
  LINE_SAMPLES = 3201
  SAMPLE_TYPE = UNSIGNED_INTEGER
  SAMPLE_BITS = 8
  BANDS = 1
  BAND_STORAGE_TYPE = BAND_SEQUENTIAL
  MAXIMUM = 255
  MEAN = 115.296
  MINIMUM = 1
  STANDARD_DEVIATION = 51.3489
END_OBJECT = IMAGE
/* MAP OBJECT DEFINITIONS */
OBJECT = IMAGE_MAP_PROJECTION
  ^DATA_SET_MAP_PROJECTION_CATALOG= "DSMAP.CAT"
  A_AXIS_RADIUS = 3396.0
  B_AXIS_RADIUS = 3396.0
  C_AXIS_RADIUS = 3396.0
  CENTER_LATITUDE = 0.0
  CENTER_LONGITUDE = 108.0
  COORDINATE_SYSTEM_NAME = PLANETOGRAPHIC
  COORDINATE_SYSTEM_TYPE = "BODY-FIXED ROTATING"
  EASTERNMOST_LONGITUDE = 109.591
  FIRST_STANDARD_PARALLEL = "N/A"
  LINE_FIRST_PIXEL = 1
  LINE_LAST_PIXEL = 20902
  LINE_PROJECTION_OFFSET = -4392.25
  MAP_PROJECTION_ROTATION = 0.0
  MAP_PROJECTION_TYPE = SINUSOIDAL
  MAP_RESOLUTION = 1185.42760773333
  MAP_SCALE = 0.05
  MAXIMUM_LATITUDE = -3.67963
  MINIMUM_LATITUDE = -21.3914
  POSITIVE_LONGITUDE_DIRECTION = EAST
  REFERENCE_LATITUDE = "N/A"
  REFERENCE_LONGITUDE = "N/A"
  SAMPLE_FIRST_PIXEL = 1
  SAMPLE_LAST_PIXEL = 3201
  SAMPLE_PROJECTION_OFFSET = 1352.75
  SECOND_STANDARD_PARALLEL = "N/A"
  WESTERNMOST_LONGITUDE = 106.874
END_OBJECT = IMAGE_MAP_PROJECTION
END
