PDS_VERSION_ID = PDS3
/* FILE DATA ELEMENTS */
RECORD_TYPE = UNDEFINED
/* POINTERS TO DATA OBJECTS */
^IMAGE = ("HO055_0000_IR4.TIF")
/* IDENTIFICATION DATA ELEMENTS */
DATA_SET_ID = "MEX-M-HRSC-4-REFDR-MAPPROJECT-EXT9-V4.0"
DATA_SET_NAME = "MARS EXPRESS HRSC MAP PROJECTED REFDR EXTENSION9 V4.0"
DETECTOR_ID = MEX_HRSC_IR
EVENT_TYPE = "MARS-REGIONAL-MAPPING-Te-Fl"
INSTRUMENT_HOST_ID = MEX
INSTRUMENT_HOST_NAME = "MARS EXPRESS"
INSTRUMENT_ID = HRSC
INSTRUMENT_NAME = "HIGH RESOLUTION STEREO CAMERA"
MISSION_NAME = "MARS EXPRESS"
MISSION_PHASE_NAME = ME_Phase_47
PROCESSING_LEVEL_ID = 4
PRODUCT_CREATION_TIME = 2023-11-14T12:58:33.000Z
PRODUCT_ID = "HO055_0000_IR4.TIF"
RELEASE_ID = 0001
REVISION_ID = 0000
/* QUALITY DATA ELEMENTS */
DATA_QUALITY_ID = 1
DATA_QUALITY_DESC = "Data calculated based on original SPICE kernels"
/* TIME DATA ELEMENTS */
SPACECRAFT_CLOCK_START_COUNT = "1/0622076151.25688"
SPACECRAFT_CLOCK_STOP_COUNT = "1/0622076630.26433"
START_TIME = 2023-01-17T22:56:33.886Z
STOP_TIME = 2023-01-17T23:01:57.202Z
/* ORBITAL DATA ELEMENTS */
ASCENDING_NODE_LONGITUDE = 126.53
MAXIMUM_RESOLUTION = 0.0725
FOOTPRINT_POINT_LATITUDE = (1.67981,1.7331,1.77078,1.80616,1.80722 ,1.80656,1.11981,0.424547,-0.45745, -0.811905,-1.16744,-1.52844,-1.89241, -2.43286,-2.80269,-3.17543,-3.54443, -4.11044,-4.49589,-5.06555,-5.44675, -5.83004,-6.2342,-6.62361,-7.03749, -7.42809,-7.83247,-8.23449,-8.6298, -9.00021,-9.39688,-9.79313,-10.1882, -10.5828,-10.9766,-11.3984,-11.8348, -12.307,-12.7451,-13.4069,-13.858, -14.5543,-15.0268,-15.7336,-16.4467, -16.9163,-17.3933,-18.1306,-18.3784, -18.3945,-18.4248,-18.4426,-18.4708, -18.503,-18.5388,-18.5398,-18.5386, -17.7892,-17.074,-16.5925,-16.1141, -15.642,-14.9404,-14.4775,-13.7804, -13.3331,-12.8856,-12.4374,-11.999, -11.5657,-10.9249,-10.5586,-10.1539, -9.76065,-9.3688,-8.77654,-8.37946, -7.76832,-7.35329,-6.95285,-6.55968, -6.16786,-5.77871,-5.20441,-4.81492, -4.43825,-4.061,-3.68658,-3.31856, -2.94735,-2.40012,-2.04254,-1.67321, -0.975232,-0.61499,-0.0781576,0.620095, 1.49733,1.66679,1.67981)
FOOTPRINT_POINT_LONGITUDE = (313.94,313.299,312.829,312.372,312.358 ,312.354,312.336,312.316,312.293, 312.282,312.272,312.262,312.252,312.235 ,312.224,312.214,312.202,312.185, 312.176,312.157,312.144,312.131,312.122 ,312.108,312.099,312.084,312.072, 312.059,312.045,312.025,312.011,311.997 ,311.983,311.969,311.955,311.94,311.924 ,311.914,311.896,311.869,311.851, 311.826,311.808,311.78,311.751,311.729, 311.708,311.676,311.665,311.665,312.155 ,312.538,312.997,313.648,314.109, 314.133,314.141,314.117,314.116,314.106 ,314.095,314.086,314.072,314.062, 314.038,314.035,314.028,314.016,314.012 ,314.006,313.979,314.001,313.988, 313.986,313.987,313.984,313.982,313.965 ,313.947,313.943,313.941,313.939, 313.938,313.939,313.932,313.932,313.932 ,313.933,313.934,313.933,313.937, 313.942,313.937,313.956,313.952,313.949 ,313.949,313.941,313.942,313.94)
ORBIT_NUMBER = 24055
ORBITAL_ECCENTRICITY = 0.573
ORBITAL_INCLINATION = 87.05
ORBITAL_SEMIMAJOR_AXIS = 8835.23
PERIAPSIS_ALTITUDE = 376.58
PERIAPSIS_ARGUMENT_ANGLE = 159.76
PERIAPSIS_TIME = 2023-01-17T22:52:16.000Z
SPACECRAFT_ORIENTATION = (0.0,-1.0,0.0)
^MEX_ORIENTATION_DESC = "MEX_ORIENTATION_DESC.TXT"
SPACECRAFT_POINTING_MODE = ACROSSTRACK
^MEX_POINTING_DESC = "MEX_POINTING_DESC.TXT"
RIGHT_ASCENSION = -1e+32
DECLINATION = -1e+32
OFFSET_ANGLE = 1.5
SPACECRAFT_SOLAR_DISTANCE = 2.36992e+08
TARGET_NAME = MARS
/* CAMERA DATA ELEMENTS */
DETECTOR_TEMPERATURE = 17.9627
FOCAL_PLANE_TEMPERATURE = 9.8067
INST_CMPRS_NAME = "DISCRETE COSINE TRANSFORMATION (DCT)"
INST_CMPRS_RATIO = 12.9844
INST_CMPRS_QUALITY = 0
INST_CMPRS_QUANTZ_TBL_ID = 0
INSTRUMENT_TEMPERATURE = 12.2535
LENS_TEMPERATURE = 10.2145
MACROPIXEL_SIZE = 4
MISSING_FRAMES = 0
PIXEL_SUBSAMPLING_FLAG = N
SIGNAL_CHAIN_ID = 2
/* RADIOMETRIC DATA ELEMENTS */
BANDWIDTH = 81.0
CENTER_FILTER_WAVELENGTH = 955.5
RADIANCE_OFFSET = 0.267277
RADIANCE_SCALING_FACTOR = 0.00107967
REFLECTANCE_SCALING_FACTOR = 0.000130824
MEX:REFLECTANCE_OFFSET = 0.0323862
/* IMAGE OBJECT DEFINITIONS */
OBJECT = IMAGE
  INTERCHANGE_FORMAT = BINARY
  LINES = 23977
  LINE_SAMPLES = 2993
  SAMPLE_TYPE = UNSIGNED_INTEGER
  SAMPLE_BITS = 8
  BANDS = 1
  BAND_STORAGE_TYPE = BAND_SEQUENTIAL
  MAXIMUM = 255
  MEAN = 165.824
  MINIMUM = 1
  STANDARD_DEVIATION = 28.9194
END_OBJECT = IMAGE
/* MAP OBJECT DEFINITIONS */
OBJECT = IMAGE_MAP_PROJECTION
  ^DATA_SET_MAP_PROJECTION_CATALOG= "DSMAP.CAT"
  A_AXIS_RADIUS = 3396.0
  B_AXIS_RADIUS = 3396.0
  C_AXIS_RADIUS = 3396.0
  CENTER_LATITUDE = 0.0
  CENTER_LONGITUDE = 313.0
  COORDINATE_SYSTEM_NAME = PLANETOGRAPHIC
  COORDINATE_SYSTEM_TYPE = "BODY-FIXED ROTATING"
  EASTERNMOST_LONGITUDE = 314.141
  FIRST_STANDARD_PARALLEL = "N/A"
  LINE_FIRST_PIXEL = 1
  LINE_LAST_PIXEL = 23977
  LINE_PROJECTION_OFFSET = 2089.375
  MAP_PROJECTION_ROTATION = 0.0
  MAP_PROJECTION_TYPE = SINUSOIDAL
  MAP_RESOLUTION = 1185.42760773333
  MAP_SCALE = 0.05
  MAXIMUM_LATITUDE = 1.80722
  MINIMUM_LATITUDE = -18.5398
  POSITIVE_LONGITUDE_DIRECTION = EAST
  REFERENCE_LATITUDE = "N/A"
  REFERENCE_LONGITUDE = "N/A"
  SAMPLE_FIRST_PIXEL = 1
  SAMPLE_LAST_PIXEL = 2993
  SAMPLE_PROJECTION_OFFSET = 1626.125
  SECOND_STANDARD_PARALLEL = "N/A"
  WESTERNMOST_LONGITUDE = 311.665
END_OBJECT = IMAGE_MAP_PROJECTION
END
