PDS_VERSION_ID = PDS3
/* FILE DATA ELEMENTS */
RECORD_TYPE = UNDEFINED
/* POINTERS TO DATA OBJECTS */
^IMAGE = ("HO052_0000_P24.TIF")
/* IDENTIFICATION DATA ELEMENTS */
DATA_SET_ID = "MEX-M-HRSC-4-REFDR-MAPPROJECT-EXT9-V4.0"
DATA_SET_NAME = "MARS EXPRESS HRSC MAP PROJECTED REFDR EXTENSION9 V4.0"
DETECTOR_ID = MEX_HRSC_P2
EVENT_TYPE = "MARS-LOCAL-MAPPING-Vo-Te"
INSTRUMENT_HOST_ID = MEX
INSTRUMENT_HOST_NAME = "MARS EXPRESS"
INSTRUMENT_ID = HRSC
INSTRUMENT_NAME = "HIGH RESOLUTION STEREO CAMERA"
MISSION_NAME = "MARS EXPRESS"
MISSION_PHASE_NAME = ME_Phase_47
PROCESSING_LEVEL_ID = 4
PRODUCT_CREATION_TIME = 2023-11-14T12:58:33.000Z
PRODUCT_ID = "HO052_0000_P24.TIF"
RELEASE_ID = 0001
REVISION_ID = 0000
/* QUALITY DATA ELEMENTS */
DATA_QUALITY_ID = 1
DATA_QUALITY_DESC = "Data calculated based on original SPICE kernels"
/* TIME DATA ELEMENTS */
SPACECRAFT_CLOCK_START_COUNT = "1/0622000467.25678"
SPACECRAFT_CLOCK_STOP_COUNT = "1/0622000863.16701"
START_TIME = 2023-01-17T01:56:04.578Z
STOP_TIME = 2023-01-17T02:01:18.723Z
/* ORBITAL DATA ELEMENTS */
ASCENDING_NODE_LONGITUDE = 126.59
MAXIMUM_RESOLUTION = 0.0322
FOOTPRINT_POINT_LATITUDE = (17.7025,17.6564,17.6199,17.5852, 17.5841,17.5742,16.5364,16.018,15.1566, 14.4703,14.1208,13.7691,13.4185,13.0683 ,12.7189,12.3698,12.0209,11.6725, 11.3244,10.7924,10.4367,10.081,9.7259, 9.37133,9.01717,8.65681,8.29474,7.93336 ,7.5725,7.21237,6.84804,6.48029,6.11319 ,4.90773,4.3485,3.78721,3.40793,3.02965 ,2.65183,2.26616,1.88217,1.49861,1.1083 ,0.718316,0.329111,-0.0674795,-0.661868 ,-1.06387,-1.46562,-1.66607,-1.71925, -1.68076,-1.63279,-1.59624,-1.59484, -1.59374,-1.19218,-0.789031,-0.388671, 0.00650963,0.597922,0.987016,1.37706, 1.95578,2.33965,2.91485,3.29241,3.67123 ,4.23724,4.60891,5.16808,6.37041, 6.73776,7.287,7.64686,8.00733,8.36871, 8.73032,9.09162,9.44561,9.80024,10.1552 ,10.5108,10.8668,11.4002,11.7481, 12.0964,12.4455,12.795,13.1449,13.4951, 13.8463,14.1975,14.5482,15.2344,15.9225 ,16.6119,17.4754,17.6484,17.7025)
FOOTPRINT_POINT_LONGITUDE = (261.737,261.088,260.579,260.099, 260.085,260.069,260.044,260.031,260.011 ,259.996,259.988,259.979,259.972, 259.964,259.957,259.95,259.942,259.934, 259.926,259.914,259.906,259.898,259.889 ,259.88,259.871,259.862,259.853,259.844 ,259.835,259.825,259.816,259.806, 259.796,259.764,259.748,259.733,259.723 ,259.712,259.701,259.69,259.68,259.669, 259.657,259.646,259.635,259.623,259.604 ,259.592,259.579,259.573,259.571, 260.197,260.933,261.441,261.461,261.468 ,261.468,261.47,261.473,261.473,261.473 ,261.473,261.473,261.474,261.475, 261.478,261.48,261.482,261.486,261.489, 261.493,261.504,261.509,261.515,261.519 ,261.524,261.529,261.533,261.538, 261.543,261.549,261.554,261.56,261.566, 261.575,261.58,261.586,261.592,261.599, 261.606,261.612,261.62,261.627,261.635, 261.651,261.669,261.687,261.711,261.716 ,261.737)
ORBIT_NUMBER = 24052
ORBITAL_ECCENTRICITY = 0.574
ORBITAL_INCLINATION = 87.04
ORBITAL_SEMIMAJOR_AXIS = 8850.86
PERIAPSIS_ALTITUDE = 375.8
PERIAPSIS_ARGUMENT_ANGLE = 160.26
PERIAPSIS_TIME = 2023-01-17T01:55:08.000Z
SPACECRAFT_ORIENTATION = (0.0,-1.0,0.0)
^MEX_ORIENTATION_DESC = "MEX_ORIENTATION_DESC.TXT"
SPACECRAFT_POINTING_MODE = ACROSSTRACK
^MEX_POINTING_DESC = "MEX_POINTING_DESC.TXT"
RIGHT_ASCENSION = -1e+32
DECLINATION = -1e+32
OFFSET_ANGLE = 2.519
SPACECRAFT_SOLAR_DISTANCE = 2.36844e+08
TARGET_NAME = MARS
/* CAMERA DATA ELEMENTS */
DETECTOR_TEMPERATURE = 18.9822
FOCAL_PLANE_TEMPERATURE = 10.4184
INST_CMPRS_NAME = "DISCRETE COSINE TRANSFORMATION (DCT)"
INST_CMPRS_RATIO = 6.25018
INST_CMPRS_QUALITY = 0
INST_CMPRS_QUANTZ_TBL_ID = 0
INSTRUMENT_TEMPERATURE = 13.0691
LENS_TEMPERATURE = 10.4184
MACROPIXEL_SIZE = 2
PIXEL_SUBSAMPLING_FLAG = N
SIGNAL_CHAIN_ID = 3
/* RADIOMETRIC DATA ELEMENTS */
BANDWIDTH = 177.0
CENTER_FILTER_WAVELENGTH = 676.5
RADIANCE_OFFSET = 1.96239
RADIANCE_SCALING_FACTOR = 0.0115823
REFLECTANCE_SCALING_FACTOR = 0.000344489
MEX:REFLECTANCE_OFFSET = 0.0583666
/* IMAGE OBJECT DEFINITIONS */
OBJECT = IMAGE
  INTERCHANGE_FORMAT = BINARY
  LINES = 45750
  LINE_SAMPLES = 4903
  SAMPLE_TYPE = UNSIGNED_INTEGER
  SAMPLE_BITS = 8
  BANDS = 1
  BAND_STORAGE_TYPE = BAND_SEQUENTIAL
  MAXIMUM = 255
  MEAN = 104.951
  MINIMUM = 1
  STANDARD_DEVIATION = 18.221
END_OBJECT = IMAGE
/* MAP OBJECT DEFINITIONS */
OBJECT = IMAGE_MAP_PROJECTION
  ^DATA_SET_MAP_PROJECTION_CATALOG= "DSMAP.CAT"
  A_AXIS_RADIUS = 3396.0
  B_AXIS_RADIUS = 3396.0
  C_AXIS_RADIUS = 3396.0
  CENTER_LATITUDE = 0.0
  CENTER_LONGITUDE = 261.0
  COORDINATE_SYSTEM_NAME = PLANETOGRAPHIC
  COORDINATE_SYSTEM_TYPE = "BODY-FIXED ROTATING"
  EASTERNMOST_LONGITUDE = 261.737
  FIRST_STANDARD_PARALLEL = "N/A"
  LINE_FIRST_PIXEL = 1
  LINE_LAST_PIXEL = 45750
  LINE_PROJECTION_OFFSET = 41870.75
  MAP_PROJECTION_ROTATION = 0.0
  MAP_PROJECTION_TYPE = SINUSOIDAL
  MAP_RESOLUTION = 2370.85521546667
  MAP_SCALE = 0.025
  MAXIMUM_LATITUDE = 17.7025
  MINIMUM_LATITUDE = -1.71925
  POSITIVE_LONGITUDE_DIRECTION = EAST
  REFERENCE_LATITUDE = "N/A"
  REFERENCE_LONGITUDE = "N/A"
  SAMPLE_FIRST_PIXEL = 1
  SAMPLE_LAST_PIXEL = 4903
  SAMPLE_PROJECTION_OFFSET = 3324.75
  SECOND_STANDARD_PARALLEL = "N/A"
  WESTERNMOST_LONGITUDE = 259.571
END_OBJECT = IMAGE_MAP_PROJECTION
END
