PDS_VERSION_ID = PDS3
/* FILE DATA ELEMENTS */
RECORD_TYPE = UNDEFINED
/* POINTERS TO DATA OBJECTS */
^IMAGE = ("HO052_0000_GR4.TIF")
/* IDENTIFICATION DATA ELEMENTS */
DATA_SET_ID = "MEX-M-HRSC-4-REFDR-MAPPROJECT-EXT9-V4.0"
DATA_SET_NAME = "MARS EXPRESS HRSC MAP PROJECTED REFDR EXTENSION9 V4.0"
DETECTOR_ID = MEX_HRSC_GREEN
EVENT_TYPE = "MARS-LOCAL-MAPPING-Vo-Te"
INSTRUMENT_HOST_ID = MEX
INSTRUMENT_HOST_NAME = "MARS EXPRESS"
INSTRUMENT_ID = HRSC
INSTRUMENT_NAME = "HIGH RESOLUTION STEREO CAMERA"
MISSION_NAME = "MARS EXPRESS"
MISSION_PHASE_NAME = ME_Phase_47
PROCESSING_LEVEL_ID = 4
PRODUCT_CREATION_TIME = 2023-11-14T12:58:33.000Z
PRODUCT_ID = "HO052_0000_GR4.TIF"
RELEASE_ID = 0001
REVISION_ID = 0000
/* QUALITY DATA ELEMENTS */
DATA_QUALITY_ID = 1
DATA_QUALITY_DESC = "Data calculated based on original SPICE kernels"
/* TIME DATA ELEMENTS */
SPACECRAFT_CLOCK_START_COUNT = "1/0622000467.25678"
SPACECRAFT_CLOCK_STOP_COUNT = "1/0622000863.16701"
START_TIME = 2023-01-17T01:55:34.010Z
STOP_TIME = 2023-01-17T02:00:38.257Z
/* ORBITAL DATA ELEMENTS */
ASCENDING_NODE_LONGITUDE = 126.59
MAXIMUM_RESOLUTION = 0.0622
FOOTPRINT_POINT_LATITUDE = (17.599,17.6286,17.6481,17.6652,17.6657 ,17.6671,17.3224,16.9779,16.6334, 16.2889,15.9446,15.6001,14.9114,14.2228 ,13.3625,12.6745,12.318,11.9651,11.6124 ,11.2598,10.7231,10.371,10.0192,9.6676, 9.31624,8.77689,8.41693,8.05723,7.69777 ,7.33871,6.97989,6.61315,6.24578, 5.87879,5.51213,5.1458,4.77421,4.39955, 4.02522,2.80691,2.23498,1.8541,1.46509, 0.882115,0.494164,0.0978704,-0.297687, -0.69263,-1.29592,-1.49717,-1.59892, -1.62015,-1.63905,-1.65775,-1.65835, -1.65738,-1.25523,-0.654683,-0.25995, 0.135844,0.529897,0.917845,1.30636, 1.88764,2.26843,2.84039,4.05629,4.43059 ,4.99156,5.35773,5.7242,6.09104,6.45817 ,7.00619,7.36504,7.72412,8.08352, 8.44314,8.80312,9.34014,9.69139,10.0429 ,10.3946,10.7466,11.107,11.4594,11.812, 12.1647,12.5151,13.0388,13.7267,14.2428 ,14.9312,15.6198,15.9642,16.4809, 16.9977,17.3422,17.5145,17.599)
FOOTPRINT_POINT_LONGITUDE = (261.717,261.041,260.56,260.106,260.092 ,260.077,260.07,260.062,260.055,260.047 ,260.038,260.031,260.015,260.0,259.982, 259.969,259.962,259.954,259.947,259.94, 259.928,259.92,259.912,259.904,259.896, 259.883,259.875,259.866,259.858,259.849 ,259.84,259.831,259.822,259.813,259.803 ,259.794,259.785,259.775,259.766, 259.734,259.719,259.709,259.699,259.683 ,259.673,259.662,259.651,259.639, 259.622,259.616,259.613,260.265,260.837 ,261.389,261.407,261.413,261.415,261.42 ,261.423,261.424,261.425,261.426, 261.427,261.429,261.431,261.435,261.446 ,261.449,261.454,261.458,261.462, 261.466,261.471,261.479,261.483,261.488 ,261.493,261.499,261.504,261.513, 261.519,261.525,261.531,261.537,261.544 ,261.55,261.556,261.563,261.57,261.58, 261.595,261.607,261.624,261.642,261.651 ,261.665,261.68,261.69,261.695,261.717)
ORBIT_NUMBER = 24052
ORBITAL_ECCENTRICITY = 0.574
ORBITAL_INCLINATION = 87.04
ORBITAL_SEMIMAJOR_AXIS = 8850.86
PERIAPSIS_ALTITUDE = 375.8
PERIAPSIS_ARGUMENT_ANGLE = 160.26
PERIAPSIS_TIME = 2023-01-17T01:55:08.000Z
SPACECRAFT_ORIENTATION = (0.0,-1.0,0.0)
^MEX_ORIENTATION_DESC = "MEX_ORIENTATION_DESC.TXT"
SPACECRAFT_POINTING_MODE = ACROSSTRACK
^MEX_POINTING_DESC = "MEX_POINTING_DESC.TXT"
RIGHT_ASCENSION = -1e+32
DECLINATION = -1e+32
OFFSET_ANGLE = 2.519
SPACECRAFT_SOLAR_DISTANCE = 2.36844e+08
TARGET_NAME = MARS
/* CAMERA DATA ELEMENTS */
DETECTOR_TEMPERATURE = 18.5744
FOCAL_PLANE_TEMPERATURE = 10.4184
INST_CMPRS_NAME = "DISCRETE COSINE TRANSFORMATION (DCT)"
INST_CMPRS_RATIO = 9.99938
INST_CMPRS_QUALITY = 0
INST_CMPRS_QUANTZ_TBL_ID = 0
INSTRUMENT_TEMPERATURE = 13.0691
LENS_TEMPERATURE = 10.4184
MACROPIXEL_SIZE = 4
PIXEL_SUBSAMPLING_FLAG = N
SIGNAL_CHAIN_ID = 2
/* RADIOMETRIC DATA ELEMENTS */
BANDWIDTH = 88.0
CENTER_FILTER_WAVELENGTH = 538.0
RADIANCE_OFFSET = 0.693291
RADIANCE_SCALING_FACTOR = 0.00331352
REFLECTANCE_SCALING_FACTOR = 0.000160031
MEX:REFLECTANCE_OFFSET = 0.0334834
/* IMAGE OBJECT DEFINITIONS */
OBJECT = IMAGE
  INTERCHANGE_FORMAT = BINARY
  LINES = 22875
  LINE_SAMPLES = 2452
  SAMPLE_TYPE = UNSIGNED_INTEGER
  SAMPLE_BITS = 8
  BANDS = 1
  BAND_STORAGE_TYPE = BAND_SEQUENTIAL
  MAXIMUM = 255
  MEAN = 135.762
  MINIMUM = 1
  STANDARD_DEVIATION = 36.1673
END_OBJECT = IMAGE
/* MAP OBJECT DEFINITIONS */
OBJECT = IMAGE_MAP_PROJECTION
  ^DATA_SET_MAP_PROJECTION_CATALOG= "DSMAP.CAT"
  A_AXIS_RADIUS = 3396.0
  B_AXIS_RADIUS = 3396.0
  C_AXIS_RADIUS = 3396.0
  CENTER_LATITUDE = 0.0
  CENTER_LONGITUDE = 261.0
  COORDINATE_SYSTEM_NAME = PLANETOGRAPHIC
  COORDINATE_SYSTEM_TYPE = "BODY-FIXED ROTATING"
  EASTERNMOST_LONGITUDE = 261.717
  FIRST_STANDARD_PARALLEL = "N/A"
  LINE_FIRST_PIXEL = 1
  LINE_LAST_PIXEL = 22875
  LINE_PROJECTION_OFFSET = 20935.125
  MAP_PROJECTION_ROTATION = 0.0
  MAP_PROJECTION_TYPE = SINUSOIDAL
  MAP_RESOLUTION = 1185.42760773333
  MAP_SCALE = 0.05
  MAXIMUM_LATITUDE = 17.6671
  MINIMUM_LATITUDE = -1.65835
  POSITIVE_LONGITUDE_DIRECTION = EAST
  REFERENCE_LATITUDE = "N/A"
  REFERENCE_LONGITUDE = "N/A"
  SAMPLE_FIRST_PIXEL = 1
  SAMPLE_LAST_PIXEL = 2452
  SAMPLE_PROJECTION_OFFSET = 1662.125
  SECOND_STANDARD_PARALLEL = "N/A"
  WESTERNMOST_LONGITUDE = 259.613
END_OBJECT = IMAGE_MAP_PROJECTION
END
