PDS_VERSION_ID = PDS3
/* FILE DATA ELEMENTS */
RECORD_TYPE = UNDEFINED
/* POINTERS TO DATA OBJECTS */
^IMAGE = ("HO050_0000_BL4.TIF")
/* IDENTIFICATION DATA ELEMENTS */
DATA_SET_ID = "MEX-M-HRSC-4-REFDR-MAPPROJECT-EXT9-V4.0"
DATA_SET_NAME = "MARS EXPRESS HRSC MAP PROJECTED REFDR EXTENSION9 V4.0"
DETECTOR_ID = MEX_HRSC_BLUE
EVENT_TYPE = "MARS-REGIONAL-MAPPING-Te-Im-Mw"
INSTRUMENT_HOST_ID = MEX
INSTRUMENT_HOST_NAME = "MARS EXPRESS"
INSTRUMENT_ID = HRSC
INSTRUMENT_NAME = "HIGH RESOLUTION STEREO CAMERA"
MISSION_NAME = "MARS EXPRESS"
MISSION_PHASE_NAME = ME_Phase_47
PROCESSING_LEVEL_ID = 4
PRODUCT_CREATION_TIME = 2023-11-14T12:58:33.000Z
PRODUCT_ID = "HO050_0000_BL4.TIF"
RELEASE_ID = 0001
REVISION_ID = 0000
/* QUALITY DATA ELEMENTS */
DATA_QUALITY_ID = 1
DATA_QUALITY_DESC = "Data calculated based on original SPICE kernels"
/* TIME DATA ELEMENTS */
SPACECRAFT_CLOCK_START_COUNT = "1/0621950161.24886"
SPACECRAFT_CLOCK_STOP_COUNT = "1/0621950469.39071"
START_TIME = 2023-01-16T11:57:17.143Z
STOP_TIME = 2023-01-16T12:01:08.227Z
/* ORBITAL DATA ELEMENTS */
ASCENDING_NODE_LONGITUDE = 126.62
MAXIMUM_RESOLUTION = 0.0607 <m/pixel>
FOOTPRINT_POINT_LATITUDE = (18.4648,18.4669,18.4676,18.4675, 18.4675,18.4722,18.1785,17.8847,17.5913 ,17.2979,17.0043,16.7109,16.4177, 16.1245,15.8315,15.3921,15.0994,14.8069 ,14.5143,14.2219,13.9298,13.6385, 13.3456,13.0538,12.7617,12.3246,12.0345 ,11.7437,11.4523,11.1619,10.872,10.5795 ,10.2903,10.0008,9.71174,9.27874, 8.98967,8.41533,8.12584,7.40553,6.68808 ,6.24787,5.95409,5.66054,5.22071, 4.92823,4.47755,4.0292,3.87964,3.8446, 3.84025,3.83745,3.83469,3.83459,3.83559 ,4.13478,4.43461,4.73468,5.03163,5.3246 ,5.61795,5.91155,6.20547,6.49965, 6.93351,7.65179,8.08391,8.66064,8.94959 ,9.38315,9.67149,9.9612,10.2507,10.6861 ,10.9765,11.2677,11.5586,11.8494, 12.2861,12.5778,12.8694,13.3072,13.5991 ,13.8913,14.1837,14.4761,14.9153, 15.3543,15.6473,15.9404,16.2336,16.527, 16.8207,17.1142,17.4078,17.7016,17.9954 ,18.2892,18.4362,18.4648)
FOOTPRINT_POINT_LONGITUDE = (104.064,103.508,103.093,102.685, 102.672,102.672,102.669,102.666,102.664 ,102.661,102.658,102.655,102.652, 102.648,102.645,102.64,102.636,102.632, 102.628,102.624,102.62,102.617,102.612, 102.608,102.603,102.596,102.592,102.587 ,102.582,102.577,102.572,102.566, 102.561,102.556,102.55,102.542,102.537, 102.526,102.52,102.504,102.488,102.479, 102.472,102.465,102.455,102.448,102.437 ,102.426,102.422,102.421,103.059, 103.586,103.916,103.93,103.935,103.936, 103.938,103.94,103.941,103.942,103.944, 103.946,103.948,103.949,103.952,103.956 ,103.96,103.965,103.968,103.972,103.97, 103.974,103.975,103.98,103.984,103.989, 103.993,103.996,104.0,104.004,104.008, 104.014,104.017,104.021,104.024,104.028 ,104.035,104.04,104.044,104.048,104.052 ,104.056,104.062,104.066,104.071, 104.076,104.08,104.085,104.087,104.064)
ORBIT_NUMBER = 24050
ORBITAL_ECCENTRICITY = 0.574
ORBITAL_INCLINATION = 87.04
ORBITAL_SEMIMAJOR_AXIS = 8843.72
PERIAPSIS_ALTITUDE = 375.43
PERIAPSIS_ARGUMENT_ANGLE = 160.59
PERIAPSIS_TIME = 2023-01-16T11:56:57.000Z
SPACECRAFT_ORIENTATION = (0.0,-1.0,0.0)
^MEX_ORIENTATION_DESC = "MEX_ORIENTATION_DESC.TXT"
SPACECRAFT_POINTING_MODE = ACROSSTRACK
^MEX_POINTING_DESC = "MEX_POINTING_DESC.TXT"
RIGHT_ASCENSION = -1e+32
DECLINATION = -1e+32
OFFSET_ANGLE = 0.794
SPACECRAFT_SOLAR_DISTANCE = 2.36745e+08
TARGET_NAME = MARS
/* CAMERA DATA ELEMENTS */
DETECTOR_TEMPERATURE = 18.7783 <degC>
FOCAL_PLANE_TEMPERATURE = 9.3989 <degC>
INST_CMPRS_NAME = "DISCRETE COSINE TRANSFORMATION (DCT)"
INST_CMPRS_RATIO = 3.91562
INST_CMPRS_QUALITY = 0
INST_CMPRS_QUANTZ_TBL_ID = 0
INSTRUMENT_TEMPERATURE = 11.8457 <degC>
LENS_TEMPERATURE = 10.2145 <degC>
MACROPIXEL_SIZE = 4
MISSING_FRAMES = 0
PIXEL_SUBSAMPLING_FLAG = N
SIGNAL_CHAIN_ID = 2
/* RADIOMETRIC DATA ELEMENTS */
BANDWIDTH = 76.0 <nm>
CENTER_FILTER_WAVELENGTH = 444.0 <nm>
RADIANCE_OFFSET = 0.331616 <W*m**-2*sr**-1>
RADIANCE_SCALING_FACTOR = 0.0011105 <W*m**-2*sr**-1>
REFLECTANCE_SCALING_FACTOR = 6.39491e-05
MEX:REFLECTANCE_OFFSET = 0.0190964
/* IMAGE OBJECT DEFINITIONS */
OBJECT = IMAGE
  INTERCHANGE_FORMAT = BINARY
  LINES = 17356
  LINE_SAMPLES = 1912
  SAMPLE_TYPE = UNSIGNED_INTEGER
  SAMPLE_BITS = 8
  BANDS = 1
  BAND_STORAGE_TYPE = BAND_SEQUENTIAL
  MAXIMUM = 255
  MEAN = 110.704
  MINIMUM = 2
  STANDARD_DEVIATION = 22.1149
END_OBJECT = IMAGE
/* MAP OBJECT DEFINITIONS */
OBJECT = IMAGE_MAP_PROJECTION
  ^DATA_SET_MAP_PROJECTION_CATALOG= "DSMAP.CAT"
  A_AXIS_RADIUS = 3396.0 <km>
  B_AXIS_RADIUS = 3396.0 <km>
  C_AXIS_RADIUS = 3396.0 <km>
  CENTER_LATITUDE = 0.0
  CENTER_LONGITUDE = 103.0
  COORDINATE_SYSTEM_NAME = PLANETOGRAPHIC
  COORDINATE_SYSTEM_TYPE = "BODY-FIXED ROTATING"
  EASTERNMOST_LONGITUDE = 104.087
  FIRST_STANDARD_PARALLEL = "N/A"
  LINE_FIRST_PIXEL = 1
  LINE_LAST_PIXEL = 17356
  LINE_PROJECTION_OFFSET = 21903.875
  MAP_PROJECTION_ROTATION = 0.0
  MAP_PROJECTION_TYPE = SINUSOIDAL
  MAP_RESOLUTION = 1185.42760773333 <pixel/degree>
  MAP_SCALE = 0.05 <km/pixel>
  MAXIMUM_LATITUDE = 18.4722
  MINIMUM_LATITUDE = 3.83459
  POSITIVE_LONGITUDE_DIRECTION = EAST
  REFERENCE_LATITUDE = "N/A"
  REFERENCE_LONGITUDE = "N/A"
  SAMPLE_FIRST_PIXEL = 1
  SAMPLE_LAST_PIXEL = 1912
  SAMPLE_PROJECTION_OFFSET = 689.375
  SECOND_STANDARD_PARALLEL = "N/A"
  WESTERNMOST_LONGITUDE = 102.421
END_OBJECT = IMAGE_MAP_PROJECTION
END
