PDS_VERSION_ID = PDS3
/* FILE DATA ELEMENTS */
RECORD_TYPE = UNDEFINED
/* POINTERS TO DATA OBJECTS */
^IMAGE = ("HO046_0000_ND4.TIF")
/* IDENTIFICATION DATA ELEMENTS */
DATA_SET_ID = "MEX-M-HRSC-4-REFDR-MAPPROJECT-EXT9-V4.0"
DATA_SET_NAME = "MARS EXPRESS HRSC MAP PROJECTED REFDR
EXTENSION9 V4.0"
DETECTOR_ID = MEX_HRSC_NADIR
EVENT_TYPE = "MARS-REGIONAL-MAPPING-Vo-Te"
INSTRUMENT_HOST_ID = MEX
INSTRUMENT_HOST_NAME = "MARS EXPRESS"
INSTRUMENT_ID = HRSC
INSTRUMENT_NAME = "HIGH RESOLUTION STEREO CAMERA"
MISSION_NAME = "MARS EXPRESS"
MISSION_PHASE_NAME = ME_Phase_47
PROCESSING_LEVEL_ID = 4
PRODUCT_CREATION_TIME = 2023-11-14T12:58:33.000Z
PRODUCT_ID = "HO046_0000_ND4.TIF"
RELEASE_ID = 0001
REVISION_ID = 0000
/* QUALITY DATA ELEMENTS */
DATA_QUALITY_ID = 1
DATA_QUALITY_DESC = "Data calculated based on original
SPICE kernels"
/* TIME DATA ELEMENTS */
SPACECRAFT_CLOCK_START_COUNT = "1/0621849495.25692"
SPACECRAFT_CLOCK_STOP_COUNT = "1/0621849949.05964"
START_TIME = 2023-01-15T07:59:32.663Z
STOP_TIME = 2023-01-15T08:05:32.659Z
/* ORBITAL DATA ELEMENTS */
ASCENDING_NODE_LONGITUDE = 126.68
MAXIMUM_RESOLUTION = 0.0166 <m/pixel>
FOOTPRINT_POINT_LATITUDE = (23.271,23.2616,23.249,23.2298,23.2291,
23.2287,22.563,21.6753,20.7869,19.8979,
19.4533,19.0085,18.3414,17.8966,17.2295
,16.7847,15.8954,15.0065,14.1181,
13.2304,12.3437,11.4579,11.0059,10.5528
,10.1,9.64756,9.19553,8.74393,8.29277,
7.83253,7.37134,6.91068,6.45055,5.991,
5.52306,5.05381,4.58522,4.11731,3.40361
,2.92669,2.45057,1.96737,1.48216,
0.754014,0.507047,0.505237,0.490899,
0.481119,0.471891,0.471592,0.471749,
0.964045,1.44989,1.93664,2.42141,
2.89903,3.37742,4.09338,4.56275,5.0328,
5.50351,5.97293,6.43392,6.89548,7.35758
,7.82021,8.28193,8.7345,9.18752,9.64096
,10.0948,10.549,11.0036,11.4571,12.3457
,13.2353,13.6805,14.1259,14.5714,
15.0172,15.4631,15.9091,16.3552,16.8014
,17.2477,17.6941,18.1404,18.5868,
19.0332,19.4795,19.9258,20.372,20.8182,
21.2642,21.7101,22.1558,22.6014,23.0468
,23.2694,23.271)
FOOTPRINT_POINT_LONGITUDE = (148.021,147.445,146.815,146.031,
146.008,146.005,146.009,146.038,146.066
,146.091,146.101,146.111,146.127,
146.136,146.15,146.157,146.168,146.176,
146.18,146.183,146.185,146.186,146.186,
146.184,146.185,146.185,146.185,146.184
,146.182,146.18,146.177,146.174,146.17,
146.166,146.162,146.157,146.152,146.145
,146.135,146.128,146.12,146.111,146.101
,146.089,146.085,146.085,146.95,147.54,
148.093,148.111,148.12,148.121,148.122,
148.123,148.123,148.123,148.124,148.125
,148.125,148.125,148.125,148.125,
148.124,148.124,148.123,148.123,148.122
,148.122,148.121,148.12,148.119,148.118
,148.117,148.115,148.113,148.11,148.109
,148.107,148.106,148.104,148.102,
148.101,148.098,148.096,148.092,148.088
,148.081,148.075,148.069,148.063,148.06
,148.054,148.049,148.045,148.04,148.035
,148.031,148.027,148.028,148.021)
ORBIT_NUMBER = 24046
ORBITAL_ECCENTRICITY = 0.573
ORBITAL_INCLINATION = 87.04
ORBITAL_SEMIMAJOR_AXIS = 8838.77
PERIAPSIS_ALTITUDE = 375.98
PERIAPSIS_ARGUMENT_ANGLE = 161.32
PERIAPSIS_TIME = 2023-01-15T08:00:44.000Z
SPACECRAFT_ORIENTATION = (0.0,-1.0,0.0)
^MEX_ORIENTATION_DESC = "MEX_ORIENTATION_DESC.TXT"
SPACECRAFT_POINTING_MODE = ACROSSTRACK
^MEX_POINTING_DESC = "MEX_POINTING_DESC.TXT"
RIGHT_ASCENSION = -1e+32
DECLINATION = -1e+32
OFFSET_ANGLE = -3.664
SPACECRAFT_SOLAR_DISTANCE = 2.36545e+08
TARGET_NAME = MARS
/* CAMERA DATA ELEMENTS */
DETECTOR_TEMPERATURE = 18.7783 <degC>
FOCAL_PLANE_TEMPERATURE = 10.0106 <degC>
INST_CMPRS_NAME = "DISCRETE COSINE TRANSFORMATION (DCT)"
INST_CMPRS_RATIO = 6.2567
INST_CMPRS_QUALITY = 0
INST_CMPRS_QUANTZ_TBL_ID = 0
INSTRUMENT_TEMPERATURE = 12.8652 <degC>
LENS_TEMPERATURE = 10.4184 <degC>
MACROPIXEL_SIZE = 1
MISSING_FRAMES = 0
PIXEL_SUBSAMPLING_FLAG = N
SIGNAL_CHAIN_ID = 0
/* RADIOMETRIC DATA ELEMENTS */
BANDWIDTH = 177.0 <nm>
CENTER_FILTER_WAVELENGTH = 677.5 <nm>
RADIANCE_OFFSET = 2.05291 <W*m**-2*sr**-1>
RADIANCE_SCALING_FACTOR = 0.0231296 <W*m**-2*sr**-1>
REFLECTANCE_SCALING_FACTOR = 0.000687511
MEX:REFLECTANCE_OFFSET = 0.0610214
/* IMAGE OBJECT DEFINITIONS */
OBJECT = IMAGE
INTERCHANGE_FORMAT = BINARY
LINES = 108109
LINE_SAMPLES = 9693
SAMPLE_TYPE = UNSIGNED_INTEGER
SAMPLE_BITS = 8
BANDS = 1
BAND_STORAGE_TYPE = BAND_SEQUENTIAL
MAXIMUM = 255
MEAN = 111.697
MINIMUM = 1
STANDARD_DEVIATION = 21.3394
END_OBJECT = IMAGE
/* MAP OBJECT DEFINITIONS */
OBJECT = IMAGE_MAP_PROJECTION
^DATA_SET_MAP_PROJECTION_CATALOG= "DSMAP.CAT"
A_AXIS_RADIUS = 3396.0 <km>
B_AXIS_RADIUS = 3396.0 <km>
C_AXIS_RADIUS = 3396.0 <km>
CENTER_LATITUDE = 0.0
CENTER_LONGITUDE = 147.0
COORDINATE_SYSTEM_NAME = PLANETOGRAPHIC
COORDINATE_SYSTEM_TYPE = "BODY-FIXED ROTATING"
EASTERNMOST_LONGITUDE = 148.125
FIRST_STANDARD_PARALLEL = "N/A"
LINE_FIRST_PIXEL = 1
LINE_LAST_PIXEL = 108109
LINE_PROJECTION_OFFSET = 110344.0
MAP_PROJECTION_ROTATION = 0.0
MAP_PROJECTION_TYPE = SINUSOIDAL
MAP_RESOLUTION = 4741.71043093333 <pixel/degree>
MAP_SCALE = 0.0125 <km/pixel>
MAXIMUM_LATITUDE = 23.271
MINIMUM_LATITUDE = 0.471592
POSITIVE_LONGITUDE_DIRECTION = EAST
REFERENCE_LATITUDE = "N/A"
REFERENCE_LONGITUDE = "N/A"
SAMPLE_FIRST_PIXEL = 1
SAMPLE_LAST_PIXEL = 9693
SAMPLE_PROJECTION_OFFSET = 4364.0
SECOND_STANDARD_PARALLEL = "N/A"
WESTERNMOST_LONGITUDE = 146.005
END_OBJECT = IMAGE_MAP_PROJECTION
END