PDS_VERSION_ID = PDS3
/* FILE DATA ELEMENTS */
RECORD_TYPE = UNDEFINED
/* POINTERS TO DATA OBJECTS */
^IMAGE = ("HO044_0000_S24.TIF")
/* IDENTIFICATION DATA ELEMENTS */
DATA_SET_ID = "MEX-M-HRSC-4-REFDR-MAPPROJECT-EXT9-V4.0"
DATA_SET_NAME = "MARS EXPRESS HRSC MAP PROJECTED REFDR EXTENSION9 V4.0"
DETECTOR_ID = MEX_HRSC_S2
EVENT_TYPE = "MARS-REGIONAL-MAPPING-Fl-Eo-La"
INSTRUMENT_HOST_ID = MEX
INSTRUMENT_HOST_NAME = "MARS EXPRESS"
INSTRUMENT_ID = HRSC
INSTRUMENT_NAME = "HIGH RESOLUTION STEREO CAMERA"
MISSION_NAME = "MARS EXPRESS"
MISSION_PHASE_NAME = ME_Phase_47
PROCESSING_LEVEL_ID = 4
PRODUCT_CREATION_TIME = 2023-11-14T12:58:33.000Z
PRODUCT_ID = "HO044_0000_S24.TIF"
RELEASE_ID = 0001
REVISION_ID = 0000
/* QUALITY DATA ELEMENTS */
DATA_QUALITY_ID = 1
DATA_QUALITY_DESC = "Data calculated based on original SPICE kernels"
/* TIME DATA ELEMENTS */
SPACECRAFT_CLOCK_START_COUNT = "1/0621799157.24919"
SPACECRAFT_CLOCK_STOP_COUNT = "1/0621799475.30584"
START_TIME = 2023-01-14T18:01:04.893Z
STOP_TIME = 2023-01-14T18:05:09.145Z
/* ORBITAL DATA ELEMENTS */
ASCENDING_NODE_LONGITUDE = 126.73
MAXIMUM_RESOLUTION = 0.0323
FOOTPRINT_POINT_LATITUDE = (26.0477,26.049,26.0497,26.0504,26.0504 ,26.0896,25.7733,25.2992,24.8249, 24.5091,24.1929,23.8775,23.5627,23.2476 ,22.932,22.459,22.1437,21.8293,21.5157, 21.201,20.7307,20.4179,19.9475,19.4788, 19.0103,18.6978,18.3864,18.0764,17.7648 ,17.3063,17.002,16.6917,16.379,16.0603, 15.7525,15.4442,14.9833,14.676,14.3692, 14.0616,13.7551,13.2962,12.839,12.5327, 12.2289,11.9264,11.6222,11.3192,11.0167 ,10.7148,10.5643,10.5438,10.5379, 10.5372,10.5277,10.5276,10.528,10.8307, 11.283,11.5869,12.0413,12.3504,12.8139, 13.413,13.7187,14.0256,14.3353,14.6417, 14.9501,15.4124,15.8743,16.1823,16.4966 ,16.9631,17.2689,17.5796,17.8899,18.2, 18.5119,18.8267,19.1379,19.6097,19.9229 ,20.389,20.7031,21.0167,21.4878,21.8022 ,22.2741,22.7473,23.22,23.5355,23.8518, 24.3255,24.7999,25.1168,25.5908,25.907, 26.0649,26.0477)
FOOTPRINT_POINT_LONGITUDE = (356.163,355.601,355.198,354.693, 354.678,354.66,354.664,354.669,354.673, 354.676,354.678,354.68,354.682,354.684, 354.686,354.688,354.69,354.691,354.691, 354.692,354.693,354.693,354.693,354.692 ,354.691,354.691,354.69,354.688,354.687 ,354.682,354.679,354.677,354.676, 354.677,354.674,354.672,354.667,354.664 ,354.661,354.658,354.655,354.65,354.644 ,354.641,354.637,354.632,354.628, 354.624,354.619,354.614,354.612,354.611 ,355.082,355.58,356.022,356.036,356.041 ,356.043,356.045,356.047,356.049, 356.052,356.057,356.057,356.059,356.061 ,356.064,356.066,356.069,356.072, 356.076,356.078,356.082,356.086,356.087 ,356.09,356.092,356.095,356.097,356.101 ,356.104,356.109,356.112,356.116, 356.119,356.122,356.127,356.13,356.135, 356.14,356.145,356.148,356.152,356.157, 356.162,356.166,356.171,356.174,356.176 ,356.163)
ORBIT_NUMBER = 24044
ORBITAL_ECCENTRICITY = 0.573
ORBITAL_INCLINATION = 87.04
ORBITAL_SEMIMAJOR_AXIS = 8838.37
PERIAPSIS_ALTITUDE = 375.61
PERIAPSIS_ARGUMENT_ANGLE = 161.61
PERIAPSIS_TIME = 2023-01-14T18:02:30.000Z
SPACECRAFT_ORIENTATION = (0.0,-1.0,0.0)
^MEX_ORIENTATION_DESC = "MEX_ORIENTATION_DESC.TXT"
SPACECRAFT_POINTING_MODE = NADIR
^MEX_POINTING_DESC = "MEX_POINTING_DESC.TXT"
RIGHT_ASCENSION = -1e+32
DECLINATION = -1e+32
OFFSET_ANGLE = -1e+32
SPACECRAFT_SOLAR_DISTANCE = 2.36445e+08
TARGET_NAME = MARS
/* CAMERA DATA ELEMENTS */
DETECTOR_TEMPERATURE = 19.39
FOCAL_PLANE_TEMPERATURE = 9.3989
INST_CMPRS_NAME = "DISCRETE COSINE TRANSFORMATION (DCT)"
INST_CMPRS_RATIO = 10.6282
INST_CMPRS_QUALITY = 0
INST_CMPRS_QUANTZ_TBL_ID = 0
INSTRUMENT_TEMPERATURE = 11.6418
LENS_TEMPERATURE = 9.8067
MACROPIXEL_SIZE = 2
MISSING_FRAMES = 0
PIXEL_SUBSAMPLING_FLAG = N
SIGNAL_CHAIN_ID = 1
/* RADIOMETRIC DATA ELEMENTS */
BANDWIDTH = 178.0
CENTER_FILTER_WAVELENGTH = 679.0
RADIANCE_OFFSET = 2.08925
RADIANCE_SCALING_FACTOR = 0.0111112
REFLECTANCE_SCALING_FACTOR = 0.000328966
MEX:REFLECTANCE_OFFSET = 0.0618556
/* IMAGE OBJECT DEFINITIONS */
OBJECT = IMAGE
  INTERCHANGE_FORMAT = BINARY
  LINES = 36902
  LINE_SAMPLES = 3373
  SAMPLE_TYPE = UNSIGNED_INTEGER
  SAMPLE_BITS = 8
  BANDS = 1
  BAND_STORAGE_TYPE = BAND_SEQUENTIAL
  MAXIMUM = 255
  MEAN = 100.896
  MINIMUM = 1
  STANDARD_DEVIATION = 29.8408
END_OBJECT = IMAGE
/* MAP OBJECT DEFINITIONS */
OBJECT = IMAGE_MAP_PROJECTION
  ^DATA_SET_MAP_PROJECTION_CATALOG= "DSMAP.CAT"
  A_AXIS_RADIUS = 3396.0
  B_AXIS_RADIUS = 3396.0
  C_AXIS_RADIUS = 3396.0
  CENTER_LATITUDE = 0.0
  CENTER_LONGITUDE = 355.0
  COORDINATE_SYSTEM_NAME = PLANETOGRAPHIC
  COORDINATE_SYSTEM_TYPE = "BODY-FIXED ROTATING"
  EASTERNMOST_LONGITUDE = 356.176
  FIRST_STANDARD_PARALLEL = "N/A"
  LINE_FIRST_PIXEL = 1
  LINE_LAST_PIXEL = 36902
  LINE_PROJECTION_OFFSET = 61814.25
  MAP_PROJECTION_ROTATION = 0.0
  MAP_PROJECTION_TYPE = SINUSOIDAL
  MAP_RESOLUTION = 2370.85521546667
  MAP_SCALE = 0.025
  MAXIMUM_LATITUDE = 26.0896
  MINIMUM_LATITUDE = 10.5276
  POSITIVE_LONGITUDE_DIRECTION = EAST
  REFERENCE_LATITUDE = "N/A"
  REFERENCE_LONGITUDE = "N/A"
  SAMPLE_FIRST_PIXEL = 1
  SAMPLE_LAST_PIXEL = 3373
  SAMPLE_PROJECTION_OFFSET = 856.25
  SECOND_STANDARD_PARALLEL = "N/A"
  WESTERNMOST_LONGITUDE = 354.611
END_OBJECT = IMAGE_MAP_PROJECTION
END
