PDS_VERSION_ID = PDS3
/* FILE DATA ELEMENTS */
RECORD_TYPE = UNDEFINED
/* POINTERS TO DATA OBJECTS */
^IMAGE = ("HO039_0000_GR4.TIF")
/* IDENTIFICATION DATA ELEMENTS */
DATA_SET_ID = "MEX-M-HRSC-4-REFDR-MAPPROJECT-EXT9-V4.0"
DATA_SET_NAME = "MARS EXPRESS HRSC MAP PROJECTED REFDR EXTENSION9 V4.0"
DETECTOR_ID = MEX_HRSC_GREEN
EVENT_TYPE = "MARS-REGIONAL-MAPPING-Vo-Te-Fl"
INSTRUMENT_HOST_ID = MEX
INSTRUMENT_HOST_NAME = "MARS EXPRESS"
INSTRUMENT_ID = HRSC
INSTRUMENT_NAME = "HIGH RESOLUTION STEREO CAMERA"
MISSION_NAME = "MARS EXPRESS"
MISSION_PHASE_NAME = ME_Phase_47
PROCESSING_LEVEL_ID = 4
PRODUCT_CREATION_TIME = 2023-11-14T12:58:33.000Z
PRODUCT_ID = "HO039_0000_GR4.TIF"
RELEASE_ID = 0001
REVISION_ID = 0000
/* QUALITY DATA ELEMENTS */
DATA_QUALITY_ID = 1
DATA_QUALITY_DESC = "Data calculated based on original SPICE kernels"
/* TIME DATA ELEMENTS */
SPACECRAFT_CLOCK_START_COUNT = "1/0621673425.24679"
SPACECRAFT_CLOCK_STOP_COUNT = "1/0621673743.57446"
START_TIME = 2023-01-13T07:05:31.111Z
STOP_TIME = 2023-01-13T07:08:18.170Z
/* ORBITAL DATA ELEMENTS */
ASCENDING_NODE_LONGITUDE = 126.81
MAXIMUM_RESOLUTION = 0.0602
FOOTPRINT_POINT_LATITUDE = (23.5197,23.5147,23.5083,23.4973,23.497 ,23.4943,23.1781,22.9592,22.5371, 22.1147,21.6922,21.2693,20.8461,20.6345 ,20.4228,20.105,19.8932,19.6812,19.4693 ,19.2572,19.045,18.8329,18.6208,18.4086 ,18.1963,17.984,17.6655,17.4531,17.1344 ,16.922,16.7096,16.4971,16.1784,15.9659 ,15.6471,15.3283,15.1158,14.9033, 14.6908,14.4783,14.1595,13.9471,13.7346 ,13.416,13.2035,12.9911,12.8849,12.81, 12.8132,12.8158,12.817,12.817,12.8181, 13.0307,13.3497,13.6689,13.9882,14.201, 14.4139,14.7332,14.946,15.1588,15.3716, 15.5844,15.7972,16.01,16.2228,16.4356, 16.6483,16.8611,17.0738,17.3928,17.6054 ,17.818,18.0306,18.2432,18.4557,18.6682 ,18.8807,19.0931,19.3055,19.6241, 19.8364,20.0487,20.2608,20.473,20.685, 20.8971,21.109,21.3208,21.5326,21.8503, 22.0619,22.2735,22.4852,22.9082,23.1278 ,23.3395,23.4453,23.5197)
FOOTPRINT_POINT_LONGITUDE = (145.608,145.173,144.727,144.124, 144.109,144.097,144.103,144.106,144.114 ,144.12,144.127,144.133,144.138,144.141 ,144.144,144.147,144.149,144.151, 144.153,144.155,144.156,144.157,144.159 ,144.16,144.161,144.162,144.163,144.164 ,144.164,144.165,144.165,144.166, 144.166,144.166,144.165,144.165,144.165 ,144.164,144.164,144.163,144.162, 144.162,144.161,144.16,144.158,144.157, 144.156,144.156,144.627,145.15,145.545, 145.558,145.562,145.563,145.564,145.566 ,145.567,145.568,145.57,145.571,145.572 ,145.573,145.574,145.575,145.576, 145.577,145.578,145.579,145.58,145.581, 145.582,145.583,145.584,145.585,145.586 ,145.587,145.588,145.589,145.589,145.59 ,145.591,145.593,145.593,145.594, 145.595,145.596,145.597,145.597,145.598 ,145.599,145.6,145.601,145.602,145.602, 145.603,145.605,145.606,145.607,145.608 ,145.608)
ORBIT_NUMBER = 24039
ORBITAL_ECCENTRICITY = 0.574
ORBITAL_INCLINATION = 87.03
ORBITAL_SEMIMAJOR_AXIS = 8841.02
PERIAPSIS_ALTITUDE = 375.17
PERIAPSIS_ARGUMENT_ANGLE = 162.52
PERIAPSIS_TIME = 2023-01-13T07:07:11.000Z
SPACECRAFT_ORIENTATION = (0.0,-1.0,0.0)
^MEX_ORIENTATION_DESC = "MEX_ORIENTATION_DESC.TXT"
SPACECRAFT_POINTING_MODE = ACROSSTRACK
^MEX_POINTING_DESC = "MEX_POINTING_DESC.TXT"
RIGHT_ASCENSION = -1e+32
DECLINATION = -1e+32
OFFSET_ANGLE = -1.145
SPACECRAFT_SOLAR_DISTANCE = 2.36194e+08
TARGET_NAME = MARS
/* CAMERA DATA ELEMENTS */
DETECTOR_TEMPERATURE = 0.0
FOCAL_PLANE_TEMPERATURE = 0.0
INST_CMPRS_NAME = "DISCRETE COSINE TRANSFORMATION (DCT)"
INST_CMPRS_RATIO = 8.55968
INST_CMPRS_QUALITY = 0
INST_CMPRS_QUANTZ_TBL_ID = 0
INSTRUMENT_TEMPERATURE = 0.0
LENS_TEMPERATURE = 0.0
MACROPIXEL_SIZE = 4
MISSING_FRAMES = 1
PIXEL_SUBSAMPLING_FLAG = N
SIGNAL_CHAIN_ID = 2
/* RADIOMETRIC DATA ELEMENTS */
BANDWIDTH = 88.0
CENTER_FILTER_WAVELENGTH = 538.0
RADIANCE_OFFSET = 0.695693
RADIANCE_SCALING_FACTOR = 0.00464806
REFLECTANCE_SCALING_FACTOR = 0.000223253
MEX:REFLECTANCE_OFFSET = 0.0334151
/* IMAGE OBJECT DEFINITIONS */
OBJECT = IMAGE
  INTERCHANGE_FORMAT = BINARY
  LINES = 12690
  LINE_SAMPLES = 1655
  SAMPLE_TYPE = UNSIGNED_INTEGER
  SAMPLE_BITS = 8
  BANDS = 1
  BAND_STORAGE_TYPE = BAND_SEQUENTIAL
  MAXIMUM = 255
  MEAN = 107.518
  MINIMUM = 1
  STANDARD_DEVIATION = 16.0195
END_OBJECT = IMAGE
/* MAP OBJECT DEFINITIONS */
OBJECT = IMAGE_MAP_PROJECTION
  ^DATA_SET_MAP_PROJECTION_CATALOG= "DSMAP.CAT"
  A_AXIS_RADIUS = 3396.0
  B_AXIS_RADIUS = 3396.0
  C_AXIS_RADIUS = 3396.0
  CENTER_LATITUDE = 0.0
  CENTER_LONGITUDE = 145.0
  COORDINATE_SYSTEM_NAME = PLANETOGRAPHIC
  COORDINATE_SYSTEM_TYPE = "BODY-FIXED ROTATING"
  EASTERNMOST_LONGITUDE = 145.608
  FIRST_STANDARD_PARALLEL = "N/A"
  LINE_FIRST_PIXEL = 1
  LINE_LAST_PIXEL = 12690
  LINE_PROJECTION_OFFSET = 28322.375
  MAP_PROJECTION_ROTATION = 0.0
  MAP_PROJECTION_TYPE = SINUSOIDAL
  MAP_RESOLUTION = 1185.42760773333
  MAP_SCALE = 0.05
  MAXIMUM_LATITUDE = 23.5197
  MINIMUM_LATITUDE = 12.81
  POSITIVE_LONGITUDE_DIRECTION = EAST
  REFERENCE_LATITUDE = "N/A"
  REFERENCE_LONGITUDE = "N/A"
  SAMPLE_FIRST_PIXEL = 1
  SAMPLE_LAST_PIXEL = 1655
  SAMPLE_PROJECTION_OFFSET = 993.125
  SECOND_STANDARD_PARALLEL = "N/A"
  WESTERNMOST_LONGITUDE = 144.097
END_OBJECT = IMAGE_MAP_PROJECTION
END
