PDS_VERSION_ID = PDS3
/* FILE DATA ELEMENTS */
RECORD_TYPE = UNDEFINED
/* POINTERS TO DATA OBJECTS */
^IMAGE = ("HO039_0000_BL4.TIF")
/* IDENTIFICATION DATA ELEMENTS */
DATA_SET_ID = "MEX-M-HRSC-4-REFDR-MAPPROJECT-EXT9-V4.0"
DATA_SET_NAME = "MARS EXPRESS HRSC MAP PROJECTED REFDR EXTENSION9 V4.0"
DETECTOR_ID = MEX_HRSC_BLUE
EVENT_TYPE = "MARS-REGIONAL-MAPPING-Vo-Te-Fl"
INSTRUMENT_HOST_ID = MEX
INSTRUMENT_HOST_NAME = "MARS EXPRESS"
INSTRUMENT_ID = HRSC
INSTRUMENT_NAME = "HIGH RESOLUTION STEREO CAMERA"
MISSION_NAME = "MARS EXPRESS"
MISSION_PHASE_NAME = ME_Phase_47
PROCESSING_LEVEL_ID = 4
PRODUCT_CREATION_TIME = 2023-11-14T12:58:33.000Z
PRODUCT_ID = "HO039_0000_BL4.TIF"
RELEASE_ID = 0001
REVISION_ID = 0000
/* QUALITY DATA ELEMENTS */
DATA_QUALITY_ID = 1
DATA_QUALITY_DESC = "Data calculated based on original SPICE kernels"
/* TIME DATA ELEMENTS */
SPACECRAFT_CLOCK_START_COUNT = "1/0621673425.24679"
SPACECRAFT_CLOCK_STOP_COUNT = "1/0621673743.57446"
START_TIME = 2023-01-13T07:05:31.111Z
STOP_TIME = 2023-01-13T07:08:18.170Z
/* ORBITAL DATA ELEMENTS */
ASCENDING_NODE_LONGITUDE = 126.81
MAXIMUM_RESOLUTION = 0.0602
FOOTPRINT_POINT_LATITUDE = (24.2714,24.275,24.2775,24.279,24.279, 24.2796,23.8559,23.6439,23.4319,23.1137 ,22.9015,22.6893,22.4771,22.2648, 21.9463,21.7339,21.5216,21.3091,21.0968 ,20.8844,20.6719,20.4594,20.247,20.0346 ,19.8221,19.6097,19.3972,19.1848, 18.9725,18.7601,18.5476,18.3352,18.1228 ,17.9106,17.5921,17.3798,17.1677, 16.9555,16.7432,16.531,16.3188,16.1067, 15.7886,15.4706,15.0467,14.623,14.1995, 13.7762,13.6704,13.5878,13.5824,13.5767 ,13.5729,13.5653,13.5651,13.566,13.9895 ,14.3072,14.5192,14.7312,14.9433, 15.1555,15.3677,15.58,15.7923,16.0047, 16.217,16.4294,16.6419,16.8543,17.1733, 17.4921,17.7048,17.9174,18.13,18.4491, 18.7681,18.9809,19.2999,19.619,19.8317, 20.0444,20.2571,20.4699,20.6827,20.8954 ,21.1081,21.3209,21.64,21.8527,22.0653, 22.2779,22.4904,22.703,22.9153,23.1276, 23.5515,24.0802,24.1859,24.2714)
FOOTPRINT_POINT_LONGITUDE = (145.607,145.17,144.721,144.115,144.1, 144.088,144.095,144.099,144.103,144.109 ,144.112,144.115,144.119,144.122, 144.127,144.13,144.133,144.136,144.139, 144.141,144.144,144.146,144.148,144.151 ,144.153,144.154,144.156,144.157, 144.158,144.16,144.161,144.162,144.163, 144.164,144.165,144.165,144.165,144.166 ,144.166,144.166,144.166,144.166, 144.166,144.165,144.165,144.163,144.162 ,144.16,144.159,144.159,144.525,144.895 ,145.13,145.551,145.563,145.568,145.57, 145.571,145.572,145.573,145.574,145.575 ,145.576,145.576,145.577,145.578, 145.579,145.58,145.581,145.582,145.583, 145.584,145.585,145.586,145.586,145.587 ,145.589,145.589,145.59,145.592,145.592 ,145.593,145.594,145.595,145.595, 145.596,145.597,145.597,145.598,145.599 ,145.599,145.6,145.601,145.601,145.602, 145.603,145.605,145.609,145.61,145.607)
ORBIT_NUMBER = 24039
ORBITAL_ECCENTRICITY = 0.574
ORBITAL_INCLINATION = 87.03
ORBITAL_SEMIMAJOR_AXIS = 8841.02
PERIAPSIS_ALTITUDE = 375.17
PERIAPSIS_ARGUMENT_ANGLE = 162.52
PERIAPSIS_TIME = 2023-01-13T07:07:11.000Z
SPACECRAFT_ORIENTATION = (0.0,-1.0,0.0)
^MEX_ORIENTATION_DESC = "MEX_ORIENTATION_DESC.TXT"
SPACECRAFT_POINTING_MODE = ACROSSTRACK
^MEX_POINTING_DESC = "MEX_POINTING_DESC.TXT"
RIGHT_ASCENSION = -1e+32
DECLINATION = -1e+32
OFFSET_ANGLE = -1.145
SPACECRAFT_SOLAR_DISTANCE = 2.36194e+08
TARGET_NAME = MARS
/* CAMERA DATA ELEMENTS */
DETECTOR_TEMPERATURE = 0.0
FOCAL_PLANE_TEMPERATURE = 0.0
INST_CMPRS_NAME = "DISCRETE COSINE TRANSFORMATION (DCT)"
INST_CMPRS_RATIO = 3.90408
INST_CMPRS_QUALITY = 0
INST_CMPRS_QUANTZ_TBL_ID = 0
INSTRUMENT_TEMPERATURE = 0.0
LENS_TEMPERATURE = 0.0
MACROPIXEL_SIZE = 4
MISSING_FRAMES = 0
PIXEL_SUBSAMPLING_FLAG = N
SIGNAL_CHAIN_ID = 2
/* RADIOMETRIC DATA ELEMENTS */
BANDWIDTH = 76.0
CENTER_FILTER_WAVELENGTH = 444.0
RADIANCE_OFFSET = 0.278875
RADIANCE_SCALING_FACTOR = 0.00170976
REFLECTANCE_SCALING_FACTOR = 9.8e-05
MEX:REFLECTANCE_OFFSET = 0.0159846
/* IMAGE OBJECT DEFINITIONS */
OBJECT = IMAGE
  INTERCHANGE_FORMAT = BINARY
  LINES = 12690
  LINE_SAMPLES = 1655
  SAMPLE_TYPE = UNSIGNED_INTEGER
  SAMPLE_BITS = 8
  BANDS = 1
  BAND_STORAGE_TYPE = BAND_SEQUENTIAL
  MAXIMUM = 255
  MEAN = 117.616
  MINIMUM = 1
  STANDARD_DEVIATION = 19.2371
END_OBJECT = IMAGE
/* MAP OBJECT DEFINITIONS */
OBJECT = IMAGE_MAP_PROJECTION
  ^DATA_SET_MAP_PROJECTION_CATALOG= "DSMAP.CAT"
  A_AXIS_RADIUS = 3396.0
  B_AXIS_RADIUS = 3396.0
  C_AXIS_RADIUS = 3396.0
  CENTER_LATITUDE = 0.0
  CENTER_LONGITUDE = 145.0
  COORDINATE_SYSTEM_NAME = PLANETOGRAPHIC
  COORDINATE_SYSTEM_TYPE = "BODY-FIXED ROTATING"
  EASTERNMOST_LONGITUDE = 145.61
  FIRST_STANDARD_PARALLEL = "N/A"
  LINE_FIRST_PIXEL = 1
  LINE_LAST_PIXEL = 12690
  LINE_PROJECTION_OFFSET = 28322.375
  MAP_PROJECTION_ROTATION = 0.0
  MAP_PROJECTION_TYPE = SINUSOIDAL
  MAP_RESOLUTION = 1185.42760773333
  MAP_SCALE = 0.05
  MAXIMUM_LATITUDE = 24.2796
  MINIMUM_LATITUDE = 13.5651
  POSITIVE_LONGITUDE_DIRECTION = EAST
  REFERENCE_LATITUDE = "N/A"
  REFERENCE_LONGITUDE = "N/A"
  SAMPLE_FIRST_PIXEL = 1
  SAMPLE_LAST_PIXEL = 1655
  SAMPLE_PROJECTION_OFFSET = 993.125
  SECOND_STANDARD_PARALLEL = "N/A"
  WESTERNMOST_LONGITUDE = 144.088
END_OBJECT = IMAGE_MAP_PROJECTION
END
