PDS_VERSION_ID = PDS3
/* FILE DATA ELEMENTS */
RECORD_TYPE = UNDEFINED
/* POINTERS TO DATA OBJECTS */
^IMAGE = ("HO033_0000_IR4.TIF")
/* IDENTIFICATION DATA ELEMENTS */
DATA_SET_ID = "MEX-M-HRSC-4-REFDR-MAPPROJECT-EXT9-V4.0"
DATA_SET_NAME = "MARS EXPRESS HRSC MAP PROJECTED REFDR EXTENSION9 V4.0"
DETECTOR_ID = MEX_HRSC_IR
EVENT_TYPE = "MARS-REGIONAL-MAPPING-Im-Fl"
INSTRUMENT_HOST_ID = MEX
INSTRUMENT_HOST_NAME = "MARS EXPRESS"
INSTRUMENT_ID = HRSC
INSTRUMENT_NAME = "HIGH RESOLUTION STEREO CAMERA"
MISSION_NAME = "MARS EXPRESS"
MISSION_PHASE_NAME = ME_Phase_47
PROCESSING_LEVEL_ID = 4
PRODUCT_CREATION_TIME = 2023-11-14T12:58:33.000Z
PRODUCT_ID = "HO033_0000_IR4.TIF"
RELEASE_ID = 0001
REVISION_ID = 0000
/* QUALITY DATA ELEMENTS */
DATA_QUALITY_ID = 1
DATA_QUALITY_DESC = "Data calculated based on original SPICE kernels"
/* TIME DATA ELEMENTS */
SPACECRAFT_CLOCK_START_COUNT = "1/0621522447.25696"
SPACECRAFT_CLOCK_STOP_COUNT = "1/0621522814.58390"
START_TIME = 2023-01-11T13:08:10.510Z
STOP_TIME = 2023-01-11T13:13:05.274Z
/* ORBITAL DATA ELEMENTS */
ASCENDING_NODE_LONGITUDE = 126.92
MAXIMUM_RESOLUTION = 0.0623
FOOTPRINT_POINT_LATITUDE = (31.4954,31.5109,31.5189,31.5235, 31.5236,31.4942,31.1182,30.5517,30.1698 ,29.6194,29.2497,28.6935,28.3281, 27.9631,27.416,26.5191,25.7997,25.2608, 24.9005,24.5406,24.1791,23.8183,23.4549 ,23.0931,22.73,22.3668,21.8214,21.4559, 21.0866,20.72,20.3537,19.9909,19.6239, 19.2551,18.7025,18.1497,17.7801,17.2253 ,16.8553,16.4843,16.1133,15.5572, 15.1861,14.8128,14.2534,13.8776,13.3157 ,13.1279,13.0824,13.0687,13.0408, 13.0403,13.0412,13.4155,13.9755,14.3491 ,14.7236,15.0963,15.4677,15.8401, 16.2116,16.7684,17.3249,17.8797,18.2492 ,18.8026,19.1709,19.5394,19.9081, 20.2748,20.6431,21.0093,21.3743,21.7404 ,22.1049,22.4691,22.833,23.1953,23.5583 ,23.9206,24.2822,24.8248,25.1846,25.545 ,25.9028,26.2611,26.6197,26.9759, 27.3383,27.7046,28.0687,28.6154,29.1711 ,29.5432,29.9108,30.2868,30.6662, 31.2323,31.42,31.4954)
FOOTPRINT_POINT_LONGITUDE = (40.4635,39.7554,39.2219,38.6927, 38.6762,38.6677,38.6771,38.6903,38.698, 38.7104,38.7179,38.7282,38.7343,38.7402 ,38.7487,38.7616,38.7699,38.7757, 38.7792,38.7826,38.7856,38.7885,38.7909 ,38.7934,38.7955,38.7974,38.7998,38.801 ,38.8016,38.8023,38.8029,38.8037, 38.8039,38.8037,38.8031,38.8022,38.8012 ,38.7994,38.798,38.7963,38.7945,38.7914 ,38.7892,38.7865,38.7823,38.7789, 38.7738,38.772,38.7717,39.4059,40.1045, 40.1173,40.1216,40.1262,40.1341,40.139, 40.1433,40.1486,40.1546,40.1599,40.1657 ,40.1744,40.183,40.1924,40.1986,40.2082 ,40.2148,40.2211,40.2271,40.2341, 40.2399,40.2469,40.2543,40.2609,40.2682 ,40.2756,40.2828,40.2908,40.2981, 40.3056,40.3132,40.3241,40.3321,40.3395 ,40.3483,40.3564,40.364,40.3729,40.3816 ,40.3896,40.3988,40.4114,40.4249, 40.4337,40.4451,40.4523,40.4615,40.4763 ,40.4817,40.4635)
ORBIT_NUMBER = 24033
ORBITAL_ECCENTRICITY = 0.574
ORBITAL_INCLINATION = 87.03
ORBITAL_SEMIMAJOR_AXIS = 8846.38
PERIAPSIS_ALTITUDE = 374.06
PERIAPSIS_ARGUMENT_ANGLE = 163.54
PERIAPSIS_TIME = 2023-01-11T13:12:40.000Z
SPACECRAFT_ORIENTATION = (0.0,-1.0,0.0)
^MEX_ORIENTATION_DESC = "MEX_ORIENTATION_DESC.TXT"
SPACECRAFT_POINTING_MODE = ACROSSTRACK
^MEX_POINTING_DESC = "MEX_POINTING_DESC.TXT"
RIGHT_ASCENSION = -1e+32
DECLINATION = -1e+32
OFFSET_ANGLE = 0.458
SPACECRAFT_SOLAR_DISTANCE = 2.3589e+08
TARGET_NAME = MARS
/* CAMERA DATA ELEMENTS */
DETECTOR_TEMPERATURE = 18.5744
FOCAL_PLANE_TEMPERATURE = 9.8067
INST_CMPRS_NAME = "DISCRETE COSINE TRANSFORMATION (DCT)"
INST_CMPRS_RATIO = 6.30917
INST_CMPRS_QUALITY = 0
INST_CMPRS_QUANTZ_TBL_ID = 0
INSTRUMENT_TEMPERATURE = 12.0496
LENS_TEMPERATURE = 10.2145
MACROPIXEL_SIZE = 4
MISSING_FRAMES = 0
PIXEL_SUBSAMPLING_FLAG = N
SIGNAL_CHAIN_ID = 2
/* RADIOMETRIC DATA ELEMENTS */
BANDWIDTH = 81.0
CENTER_FILTER_WAVELENGTH = 955.5
RADIANCE_OFFSET = 0.517714
RADIANCE_SCALING_FACTOR = 0.00285838
REFLECTANCE_SCALING_FACTOR = 0.000343136
MEX:REFLECTANCE_OFFSET = 0.0621492
/* IMAGE OBJECT DEFINITIONS */
OBJECT = IMAGE
  INTERCHANGE_FORMAT = BINARY
  LINES = 21860
  LINE_SAMPLES = 1878
  SAMPLE_TYPE = UNSIGNED_INTEGER
  SAMPLE_BITS = 8
  BANDS = 1
  BAND_STORAGE_TYPE = BAND_SEQUENTIAL
  MAXIMUM = 255
  MEAN = 102.397
  MINIMUM = 1
  STANDARD_DEVIATION = 21.7129
END_OBJECT = IMAGE
/* MAP OBJECT DEFINITIONS */
OBJECT = IMAGE_MAP_PROJECTION
  ^DATA_SET_MAP_PROJECTION_CATALOG= "DSMAP.CAT"
  A_AXIS_RADIUS = 3396.0
  B_AXIS_RADIUS = 3396.0
  C_AXIS_RADIUS = 3396.0
  CENTER_LATITUDE = 0.0
  CENTER_LONGITUDE = 40.0
  COORDINATE_SYSTEM_NAME = PLANETOGRAPHIC
  COORDINATE_SYSTEM_TYPE = "BODY-FIXED ROTATING"
  EASTERNMOST_LONGITUDE = 40.4817
  FIRST_STANDARD_PARALLEL = "N/A"
  LINE_FIRST_PIXEL = 1
  LINE_LAST_PIXEL = 21860
  LINE_PROJECTION_OFFSET = 37325.125
  MAP_PROJECTION_ROTATION = 0.0
  MAP_PROJECTION_TYPE = SINUSOIDAL
  MAP_RESOLUTION = 1185.42760773333
  MAP_SCALE = 0.05
  MAXIMUM_LATITUDE = 31.5236
  MINIMUM_LATITUDE = 13.0403
  POSITIVE_LONGITUDE_DIRECTION = EAST
  REFERENCE_LATITUDE = "N/A"
  REFERENCE_LONGITUDE = "N/A"
  SAMPLE_FIRST_PIXEL = 1
  SAMPLE_LAST_PIXEL = 1878
  SAMPLE_PROJECTION_OFFSET = 1428.375
  SECOND_STANDARD_PARALLEL = "N/A"
  WESTERNMOST_LONGITUDE = 38.6677
END_OBJECT = IMAGE_MAP_PROJECTION
END
