PDS_VERSION_ID = PDS3
/* FILE DATA ELEMENTS */
RECORD_TYPE = UNDEFINED
/* POINTERS TO DATA OBJECTS */
^IMAGE = ("HO018_0000_P14.TIF")
/* IDENTIFICATION DATA ELEMENTS */
DATA_SET_ID = "MEX-M-HRSC-4-REFDR-MAPPROJECT-EXT9-V4.0"
DATA_SET_NAME = "MARS EXPRESS HRSC MAP PROJECTED REFDR EXTENSION9 V4.0"
DETECTOR_ID = MEX_HRSC_P1
EVENT_TYPE = "MARS-REGIONAL-MAPPING-Te-Im"
INSTRUMENT_HOST_ID = MEX
INSTRUMENT_HOST_NAME = "MARS EXPRESS"
INSTRUMENT_ID = HRSC
INSTRUMENT_NAME = "HIGH RESOLUTION STEREO CAMERA"
MISSION_NAME = "MARS EXPRESS"
MISSION_PHASE_NAME = ME_Phase_47
PROCESSING_LEVEL_ID = 4
PRODUCT_CREATION_TIME = 2023-11-14T12:58:33.000Z
PRODUCT_ID = "HO018_0000_P14.TIF"
RELEASE_ID = 0001
REVISION_ID = 0000
/* QUALITY DATA ELEMENTS */
DATA_QUALITY_ID = 1
DATA_QUALITY_DESC = "Data calculated based on original SPICE kernels"
/* TIME DATA ELEMENTS */
SPACECRAFT_CLOCK_START_COUNT = "1/0621145737.25010"
SPACECRAFT_CLOCK_STOP_COUNT = "1/0621146087.63379"
START_TIME = 2023-01-07T04:29:45.530Z
STOP_TIME = 2023-01-07T04:33:46.857Z
/* ORBITAL DATA ELEMENTS */
ASCENDING_NODE_LONGITUDE = 127.19
MAXIMUM_RESOLUTION = 0.0331
FOOTPRINT_POINT_LATITUDE = (0.621198,0.612836,0.603583,0.591209, 0.590864,0.581592,0.036696,-0.373229, -1.2005,-1.89667,-2.31709,-2.59678, -2.88172,-3.1696,-3.46178,-3.7497, -4.03705,-4.3216,-4.61446,-4.90964, -5.20414,-5.49781,-5.79524,-6.09509, -6.54449,-6.84372,-7.14808,-7.45477, -7.76582,-8.07412,-8.54319,-8.85648, -9.16698,-9.64702,-9.96708,-10.2814, -10.6049,-10.93,-11.257,-11.5876, -12.0808,-12.4178,-12.7592,-13.0971, -13.4383,-13.782,-14.1254,-14.4751, -14.6495,-14.6999,-14.6974,-14.6947, -14.6904,-14.6879,-14.685,-14.6846, -14.6839,-14.3339,-13.8145,-13.47, -13.1279,-12.7896,-12.4497,-11.9445, -11.6171,-11.2857,-10.7954,-10.4709, -10.1485,-9.8295,-9.50929,-9.19277, -8.72048,-8.40773,-7.94061,-7.63431, -7.17707,-6.8707,-6.41702,-6.11394, -5.81507,-5.51609,-5.22258,-4.93048, -4.63638,-4.19515,-3.90715,-3.47528, -3.04451,-2.75708,-2.47423,-2.05391, -1.49958,-1.21847,-0.93604,-0.386897, 0.0238084,0.436382,0.5738,0.621198)
FOOTPRINT_POINT_LONGITUDE = (130.768,130.334,129.891,129.353, 129.339,129.324,129.317,129.309,129.291 ,129.281,129.271,129.265,129.258,129.25 ,129.238,129.23,129.222,129.219,129.212 ,129.202,129.193,129.185,129.176, 129.168,129.155,129.147,129.138,129.128 ,129.114,129.101,129.085,129.074, 129.066,129.046,129.034,129.027,129.016 ,129.005,128.991,128.977,128.962, 128.945,128.928,128.914,128.899,128.885 ,128.871,128.856,128.848,128.846, 129.244,129.638,130.102,130.45,130.741, 130.759,130.766,130.764,130.761,130.76, 130.758,130.757,130.755,130.754,130.753 ,130.752,130.751,130.75,130.75,130.749, 130.749,130.748,130.748,130.748,130.748 ,130.748,130.748,130.748,130.748, 130.749,130.749,130.75,130.75,130.75, 130.751,130.752,130.752,130.753,130.755 ,130.755,130.756,130.757,130.758, 130.759,130.76,130.763,130.764,130.766, 130.767,130.768)
ORBIT_NUMBER = 24018
ORBITAL_ECCENTRICITY = 0.574
ORBITAL_INCLINATION = 87.03
ORBITAL_SEMIMAJOR_AXIS = 8845.7
PERIAPSIS_ALTITUDE = 372.6
PERIAPSIS_ARGUMENT_ANGLE = 166.11
PERIAPSIS_TIME = 2023-01-07T04:26:41.000Z
SPACECRAFT_ORIENTATION = (0.0,-1.0,0.0)
^MEX_ORIENTATION_DESC = "MEX_ORIENTATION_DESC.TXT"
SPACECRAFT_POINTING_MODE = ACROSSTRACK
^MEX_POINTING_DESC = "MEX_POINTING_DESC.TXT"
RIGHT_ASCENSION = -1e+32
DECLINATION = -1e+32
OFFSET_ANGLE = -0.916
SPACECRAFT_SOLAR_DISTANCE = 2.35121e+08
TARGET_NAME = MARS
/* CAMERA DATA ELEMENTS */
DETECTOR_TEMPERATURE = 17.5549
FOCAL_PLANE_TEMPERATURE = 8.5833
INST_CMPRS_NAME = "DISCRETE COSINE TRANSFORMATION (DCT)"
INST_CMPRS_RATIO = 7.78369
INST_CMPRS_QUALITY = 0
INST_CMPRS_QUANTZ_TBL_ID = 0
INSTRUMENT_TEMPERATURE = 11.4379
LENS_TEMPERATURE = 9.3989
MACROPIXEL_SIZE = 2
MISSING_FRAMES = 0
PIXEL_SUBSAMPLING_FLAG = N
SIGNAL_CHAIN_ID = 3
/* RADIOMETRIC DATA ELEMENTS */
BANDWIDTH = 174.0
CENTER_FILTER_WAVELENGTH = 675.0
RADIANCE_OFFSET = 1.39421
RADIANCE_SCALING_FACTOR = 0.00648288
REFLECTANCE_SCALING_FACTOR = 0.00019277
MEX:REFLECTANCE_OFFSET = 0.0414571
/* IMAGE OBJECT DEFINITIONS */
OBJECT = IMAGE
  INTERCHANGE_FORMAT = BINARY
  LINES = 36343
  LINE_SAMPLES = 4589
  SAMPLE_TYPE = UNSIGNED_INTEGER
  SAMPLE_BITS = 8
  BANDS = 1
  BAND_STORAGE_TYPE = BAND_SEQUENTIAL
  MAXIMUM = 255
  MEAN = 126.572
  MINIMUM = 1
  STANDARD_DEVIATION = 54.4356
END_OBJECT = IMAGE
/* MAP OBJECT DEFINITIONS */
OBJECT = IMAGE_MAP_PROJECTION
  ^DATA_SET_MAP_PROJECTION_CATALOG= "DSMAP.CAT"
  A_AXIS_RADIUS = 3396.0
  B_AXIS_RADIUS = 3396.0
  C_AXIS_RADIUS = 3396.0
  CENTER_LATITUDE = 0.0
  CENTER_LONGITUDE = 130.0
  COORDINATE_SYSTEM_NAME = PLANETOGRAPHIC
  COORDINATE_SYSTEM_TYPE = "BODY-FIXED ROTATING"
  EASTERNMOST_LONGITUDE = 130.768
  FIRST_STANDARD_PARALLEL = "N/A"
  LINE_FIRST_PIXEL = 1
  LINE_LAST_PIXEL = 36343
  LINE_PROJECTION_OFFSET = 1474.25
  MAP_PROJECTION_ROTATION = 0.0
  MAP_PROJECTION_TYPE = SINUSOIDAL
  MAP_RESOLUTION = 2370.85521546667
  MAP_SCALE = 0.025
  MAXIMUM_LATITUDE = 0.621198
  MINIMUM_LATITUDE = -14.6999
  POSITIVE_LONGITUDE_DIRECTION = EAST
  REFERENCE_LATITUDE = "N/A"
  REFERENCE_LONGITUDE = "N/A"
  SAMPLE_FIRST_PIXEL = 1
  SAMPLE_LAST_PIXEL = 4589
  SAMPLE_PROJECTION_OFFSET = 2732.75
  SECOND_STANDARD_PARALLEL = "N/A"
  WESTERNMOST_LONGITUDE = 128.846
END_OBJECT = IMAGE_MAP_PROJECTION
END
