PDS_VERSION_ID = PDS3
/* FILE DATA ELEMENTS */
RECORD_TYPE = UNDEFINED
/* POINTERS TO DATA OBJECTS */
^IMAGE = ("HO016_0000_GR4.TIF")
/* IDENTIFICATION DATA ELEMENTS */
DATA_SET_ID = "MEX-M-HRSC-4-REFDR-MAPPROJECT-EXT9-V4.0"
DATA_SET_NAME = "MARS EXPRESS HRSC MAP PROJECTED REFDR EXTENSION9 V4.0"
DETECTOR_ID = MEX_HRSC_GREEN
EVENT_TYPE = "MARS-LOCAL-COLOR-La-Tc-Ot"
INSTRUMENT_HOST_ID = MEX
INSTRUMENT_HOST_NAME = "MARS EXPRESS"
INSTRUMENT_ID = HRSC
INSTRUMENT_NAME = "HIGH RESOLUTION STEREO CAMERA"
MISSION_NAME = "MARS EXPRESS"
MISSION_PHASE_NAME = ME_Phase_47
PROCESSING_LEVEL_ID = 4
PRODUCT_CREATION_TIME = 2023-11-14T12:58:33.000Z
PRODUCT_ID = "HO016_0000_GR4.TIF"
RELEASE_ID = 0001
REVISION_ID = 0000
/* QUALITY DATA ELEMENTS */
DATA_QUALITY_ID = 1
DATA_QUALITY_DESC = "Data calculated based on original SPICE kernels"
/* TIME DATA ELEMENTS */
SPACECRAFT_CLOCK_START_COUNT = "1/0621095118.23938"
SPACECRAFT_CLOCK_STOP_COUNT = "1/0621095273.30000"
START_TIME = 2023-01-06T14:26:24.232Z
STOP_TIME = 2023-01-06T14:27:47.391Z
/* ORBITAL DATA ELEMENTS */
ASCENDING_NODE_LONGITUDE = 127.23
MAXIMUM_RESOLUTION = 0.0303
FOOTPRINT_POINT_LATITUDE = (21.3647,21.366,21.3676,21.3688,21.3695 ,21.3705,21.3708,21.3713,21.3713, 21.3713,21.3645,21.154,20.8907,20.7326, 20.469,20.2054,20.0471,19.8887,19.6775, 19.5191,19.3605,19.1492,19.0435,18.8849 ,18.7791,18.6734,18.5146,18.4087, 18.3028,18.144,18.0381,17.9321,17.8262, 17.6672,17.5083,17.4023,17.2432,17.1372 ,17.0311,16.8719,16.7659,16.6598, 16.5536,16.4474,16.2883,16.1291,16.0761 ,16.0589,16.0576,16.0566,16.0547, 16.0536,16.052,16.0504,16.0484,16.0483, 16.0487,16.155,16.2612,16.4205,16.5267, 16.6328,16.739,16.8982,17.0044,17.1105, 17.2167,17.3758,17.4819,17.5879,17.6939 ,17.7999,17.906,18.012,18.171,18.277, 18.436,18.542,18.6479,18.7537,18.8595, 18.9654,19.1242,19.23,19.3358,19.4416, 19.5473,19.653,19.8114,19.9171,20.0228, 20.2859,20.4443,20.6556,20.7618,20.9725 ,21.1305,21.2887,21.3413,21.3647)
FOOTPRINT_POINT_LONGITUDE = (336.213,336.06,335.85,335.668,335.528, 335.305,335.179,334.956,334.788,334.774 ,334.756,334.757,334.759,334.76,334.762 ,334.764,334.764,334.765,334.766, 334.767,334.767,334.768,334.769,334.769 ,334.769,334.77,334.77,334.77,334.77, 334.771,334.771,334.771,334.771,334.771 ,334.772,334.772,334.772,334.772, 334.772,334.771,334.771,334.771,334.771 ,334.771,334.771,334.771,334.771, 334.771,335.037,335.21,335.462,335.621, 335.807,335.953,336.126,336.14,336.145, 336.146,336.147,336.15,336.151,336.153, 336.155,336.157,336.158,336.16,336.161, 336.164,336.165,336.167,336.169,336.17, 336.172,336.173,336.176,336.177,336.179 ,336.181,336.183,336.184,336.186, 336.188,336.19,336.192,336.193,336.195, 336.197,336.198,336.201,336.203,336.204 ,336.21,336.213,336.216,336.216,336.22, 336.223,336.225,336.226,336.213)
ORBIT_NUMBER = 24016
ORBITAL_ECCENTRICITY = 0.574
ORBITAL_INCLINATION = 87.05
ORBITAL_SEMIMAJOR_AXIS = 8839.88
PERIAPSIS_ALTITUDE = 372.62
PERIAPSIS_ARGUMENT_ANGLE = 166.44
PERIAPSIS_TIME = 2023-01-06T14:28:32.000Z
SPACECRAFT_ORIENTATION = (0.0,-1.0,0.0)
^MEX_ORIENTATION_DESC = "MEX_ORIENTATION_DESC.TXT"
SPACECRAFT_POINTING_MODE = NADIR
^MEX_POINTING_DESC = "MEX_POINTING_DESC.TXT"
RIGHT_ASCENSION = -1e+32
DECLINATION = -1e+32
OFFSET_ANGLE = -1e+32
SPACECRAFT_SOLAR_DISTANCE = 2.35018e+08
TARGET_NAME = MARS
/* CAMERA DATA ELEMENTS */
DETECTOR_TEMPERATURE = 18.5744
FOCAL_PLANE_TEMPERATURE = 10.2145
INST_CMPRS_NAME = "DISCRETE COSINE TRANSFORMATION (DCT)"
INST_CMPRS_RATIO = 3.48522
INST_CMPRS_QUALITY = 0
INST_CMPRS_QUANTZ_TBL_ID = 0
INSTRUMENT_TEMPERATURE = 12.2535
LENS_TEMPERATURE = 8.9911
MACROPIXEL_SIZE = 2
MISSING_FRAMES = 0
PIXEL_SUBSAMPLING_FLAG = N
SIGNAL_CHAIN_ID = 2
/* RADIOMETRIC DATA ELEMENTS */
BANDWIDTH = 88.0
CENTER_FILTER_WAVELENGTH = 538.0
RADIANCE_OFFSET = 0.603879
RADIANCE_SCALING_FACTOR = 0.00152357
REFLECTANCE_SCALING_FACTOR = 7.2452e-05
MEX:REFLECTANCE_OFFSET = 0.028717
/* IMAGE OBJECT DEFINITIONS */
OBJECT = IMAGE
  INTERCHANGE_FORMAT = BINARY
  LINES = 12619
  LINE_SAMPLES = 3243
  SAMPLE_TYPE = UNSIGNED_INTEGER
  SAMPLE_BITS = 8
  BANDS = 1
  BAND_STORAGE_TYPE = BAND_SEQUENTIAL
  MAXIMUM = 255
  MEAN = 121.963
  MINIMUM = 1
  STANDARD_DEVIATION = 29.8667
END_OBJECT = IMAGE
/* MAP OBJECT DEFINITIONS */
OBJECT = IMAGE_MAP_PROJECTION
  ^DATA_SET_MAP_PROJECTION_CATALOG= "DSMAP.CAT"
  A_AXIS_RADIUS = 3396.0
  B_AXIS_RADIUS = 3396.0
  C_AXIS_RADIUS = 3396.0
  CENTER_LATITUDE = 0.0
  CENTER_LONGITUDE = 335.0
  COORDINATE_SYSTEM_NAME = PLANETOGRAPHIC
  COORDINATE_SYSTEM_TYPE = "BODY-FIXED ROTATING"
  EASTERNMOST_LONGITUDE = 336.226
  FIRST_STANDARD_PARALLEL = "N/A"
  LINE_FIRST_PIXEL = 1
  LINE_LAST_PIXEL = 12619
  LINE_PROJECTION_OFFSET = 50681.75
  MAP_PROJECTION_ROTATION = 0.0
  MAP_PROJECTION_TYPE = SINUSOIDAL
  MAP_RESOLUTION = 2370.85521546667
  MAP_SCALE = 0.025
  MAXIMUM_LATITUDE = 21.3713
  MINIMUM_LATITUDE = 16.0483
  POSITIVE_LONGITUDE_DIRECTION = EAST
  REFERENCE_LATITUDE = "N/A"
  REFERENCE_LONGITUDE = "N/A"
  SAMPLE_FIRST_PIXEL = 1
  SAMPLE_LAST_PIXEL = 3243
  SAMPLE_PROJECTION_OFFSET = 539.75
  SECOND_STANDARD_PARALLEL = "N/A"
  WESTERNMOST_LONGITUDE = 334.756
END_OBJECT = IMAGE_MAP_PROJECTION
END
