PDS_VERSION_ID = PDS3
/* FILE DATA ELEMENTS */
RECORD_TYPE = UNDEFINED
/* POINTERS TO DATA OBJECTS */
^IMAGE = ("HO007_0005_SR4.TIF")
/* IDENTIFICATION DATA ELEMENTS */
DATA_SET_ID = "MEX-M-HRSC-4-REFDR-MAPPROJECT-EXT9-V4.0"
DATA_SET_NAME = "MARS EXPRESS HRSC MAP PROJECTED REFDR EXTENSION9 V4.0"
DETECTOR_ID = MEX_HRSC_SRC
EVENT_TYPE = "MARS-LOCAL-CALIBRATION-Im-Tc"
INSTRUMENT_HOST_ID = MEX
INSTRUMENT_HOST_NAME = "MARS EXPRESS"
INSTRUMENT_ID = HRSC
INSTRUMENT_NAME = "HIGH RESOLUTION STEREO CAMERA"
MISSION_NAME = "MARS EXPRESS"
MISSION_PHASE_NAME = ME_Phase_47
PROCESSING_LEVEL_ID = 4
PRODUCT_CREATION_TIME = 2023-11-14T12:58:33.000Z
PRODUCT_ID = "HO007_0005_SR4.TIF"
RELEASE_ID = 0001
REVISION_ID = 0000
/* QUALITY DATA ELEMENTS */
DATA_QUALITY_ID = 1
DATA_QUALITY_DESC = "Data calculated based on original SPICE kernels"
/* TIME DATA ELEMENTS */
SPACECRAFT_CLOCK_START_COUNT = "1/0620869139.25682"
SPACECRAFT_CLOCK_STOP_COUNT = "1/0620869372.59279"
IMAGE_TIME = 2023-01-03T23:41:23.170Z
START_TIME = 2023-01-03T23:41:23.168Z
STOP_TIME = 2023-01-03T23:41:23.173Z
/* ORBITAL DATA ELEMENTS */
ASCENDING_NODE_LONGITUDE = 127.38
MAXIMUM_RESOLUTION = 0.004243
FOOTPRINT_POINT_LATITUDE = (-4.21321,-4.20947,-4.20688,-4.20457, -4.20134,-4.19839,-4.19349,-4.19019, -4.18587,-4.18119,-4.17788,-4.17414, -4.17119,-4.16896,-4.16616,-4.16277, -4.1604,-4.15623,-4.15328,-4.1486, -4.14623,-4.1409,-4.14083,-4.14083, -4.14089,-4.14095,-4.14101,-4.14107, -4.14113,-4.14119,-4.14125,-4.14131, -4.14137,-4.14143,-4.14149,-4.14155, -4.14161,-4.14167,-4.14173,-4.14179, -4.14185,-4.1419,-4.14196,-4.14202, -4.14208,-4.14214,-4.1422,-4.14226, -4.14232,-4.14233,-4.14234,-4.14485, -4.14908,-4.15474,-4.15825,-4.16097, -4.16449,-4.17036,-4.17416,-4.17817, -4.18161,-4.18498,-4.18734,-4.19071, -4.19307,-4.1968,-4.19967,-4.20382, -4.20683,-4.20977,-4.21435,-4.21443, -4.21443,-4.21438,-4.21433,-4.21428, -4.21423,-4.21419,-4.21414,-4.21409, -4.21404,-4.214,-4.21395,-4.2139, -4.21385,-4.2138,-4.21376,-4.21371, -4.21366,-4.21361,-4.21356,-4.21352, -4.21347,-4.21342,-4.21337,-4.21332, -4.21327,-4.21323,-4.21321,-4.21321)
FOOTPRINT_POINT_LONGITUDE = (171.612,171.612,171.612,171.612, 171.612,171.612,171.612,171.612,171.612 ,171.613,171.613,171.613,171.613, 171.613,171.613,171.613,171.613,171.613 ,171.613,171.613,171.613,171.613, 171.613,171.613,171.616,171.62,171.623, 171.626,171.629,171.632,171.635,171.638 ,171.642,171.645,171.648,171.651, 171.654,171.657,171.66,171.664,171.667, 171.67,171.673,171.676,171.679,171.682, 171.686,171.689,171.692,171.693,171.693 ,171.693,171.693,171.693,171.693, 171.693,171.693,171.693,171.693,171.693 ,171.693,171.692,171.692,171.692, 171.692,171.692,171.692,171.692,171.692 ,171.692,171.692,171.692,171.692, 171.689,171.686,171.683,171.679,171.676 ,171.673,171.67,171.667,171.664,171.661 ,171.657,171.654,171.651,171.648, 171.645,171.642,171.638,171.635,171.632 ,171.629,171.626,171.623,171.62,171.616 ,171.613,171.612,171.612)
ORBIT_NUMBER = 24007
ORBITAL_ECCENTRICITY = 0.574
ORBITAL_INCLINATION = 87.05
ORBITAL_SEMIMAJOR_AXIS = 8840.03
PERIAPSIS_ALTITUDE = 371.88
PERIAPSIS_ARGUMENT_ANGLE = 168.0
PERIAPSIS_TIME = 2023-01-03T23:37:08.000Z
SPACECRAFT_ORIENTATION = (0.0,-1.0,0.0)
^MEX_ORIENTATION_DESC = "MEX_ORIENTATION_DESC.TXT"
SPACECRAFT_POINTING_MODE = ACROSSTRACK
^MEX_POINTING_DESC = "MEX_POINTING_DESC.TXT"
RIGHT_ASCENSION = -1e+32
DECLINATION = -1e+32
OFFSET_ANGLE = -2.78
SPACECRAFT_SOLAR_DISTANCE = 2.34549e+08
TARGET_NAME = MARS
/* CAMERA DATA ELEMENTS */
BUFFER_MODE_ID = BUFFER_8
EXPOSURE_DURATION = 5.04
INST_CMPRS_NAME = NONE
INST_CMPRS_RATIO = 1.0
INST_CMPRS_QUALITY = -2147483648
INST_CMPRS_QUANTZ_TBL_ID = -2147483648
INSTRUMENT_TEMPERATURE = 11.2121
MISSING_FRAMES = 0
START_BIT = 0
/* RADIOMETRIC DATA ELEMENTS */
BANDWIDTH = 250.0
CENTER_FILTER_WAVELENGTH = 600.0
RADIANCE_OFFSET = -9.99e+31
RADIANCE_SCALING_FACTOR = -9.99e+31
REFLECTANCE_SCALING_FACTOR = -9.99e+31
MEX:REFLECTANCE_OFFSET = -9.99e+31
/* IMAGE OBJECT DEFINITIONS */
OBJECT = IMAGE
  INTERCHANGE_FORMAT = BINARY
  LINES = 913
  LINE_SAMPLES = 1000
  SAMPLE_TYPE = UNSIGNED_INTEGER
  SAMPLE_BITS = 8
  BANDS = 1
  BAND_STORAGE_TYPE = BAND_SEQUENTIAL
  MAXIMUM = 251
  MEAN = 227.695
  MINIMUM = 1
  STANDARD_DEVIATION = 11.382
END_OBJECT = IMAGE
/* MAP OBJECT DEFINITIONS */
OBJECT = IMAGE_MAP_PROJECTION
  ^DATA_SET_MAP_PROJECTION_CATALOG= "DSMAP.CAT"
  A_AXIS_RADIUS = 3396.19
  B_AXIS_RADIUS = 3396.19
  C_AXIS_RADIUS = 3396.19
  CENTER_LATITUDE = 0.0
  CENTER_LONGITUDE = 172.0
  COORDINATE_SYSTEM_NAME = PLANETOGRAPHIC
  COORDINATE_SYSTEM_TYPE = "BODY-FIXED ROTATING"
  EASTERNMOST_LONGITUDE = 171.693
  FIRST_STANDARD_PARALLEL = "N/A"
  LINE_FIRST_PIXEL = 1
  LINE_LAST_PIXEL = 913
  LINE_PROJECTION_OFFSET = -49069.0
  MAP_PROJECTION_ROTATION = 0.0
  MAP_PROJECTION_TYPE = SINUSOIDAL
  MAP_RESOLUTION = 11854.9393024378
  MAP_SCALE = 0.005
  MAXIMUM_LATITUDE = -4.14083
  MINIMUM_LATITUDE = -4.21443
  POSITIVE_LONGITUDE_DIRECTION = EAST
  REFERENCE_LATITUDE = "N/A"
  REFERENCE_LONGITUDE = "N/A"
  SAMPLE_FIRST_PIXEL = 1
  SAMPLE_LAST_PIXEL = 1000
  SAMPLE_PROJECTION_OFFSET = 4600.0
  SECOND_STANDARD_PARALLEL = "N/A"
  WESTERNMOST_LONGITUDE = 171.612
END_OBJECT = IMAGE_MAP_PROJECTION
END
