PDS_VERSION_ID = PDS3
/* FILE DATA ELEMENTS */
RECORD_TYPE = UNDEFINED
/* POINTERS TO DATA OBJECTS */
^IMAGE = ("HO007_0002_SR4.TIF")
/* IDENTIFICATION DATA ELEMENTS */
DATA_SET_ID = "MEX-M-HRSC-4-REFDR-MAPPROJECT-EXT9-V4.0"
DATA_SET_NAME = "MARS EXPRESS HRSC MAP PROJECTED REFDR EXTENSION9 V4.0"
DETECTOR_ID = MEX_HRSC_SRC
EVENT_TYPE = "MARS-LOCAL-CALIBRATION-Im-Tc"
INSTRUMENT_HOST_ID = MEX
INSTRUMENT_HOST_NAME = "MARS EXPRESS"
INSTRUMENT_ID = HRSC
INSTRUMENT_NAME = "HIGH RESOLUTION STEREO CAMERA"
MISSION_NAME = "MARS EXPRESS"
MISSION_PHASE_NAME = ME_Phase_47
PROCESSING_LEVEL_ID = 4
PRODUCT_CREATION_TIME = 2023-11-14T12:58:33.000Z
PRODUCT_ID = "HO007_0002_SR4.TIF"
RELEASE_ID = 0001
REVISION_ID = 0000
/* QUALITY DATA ELEMENTS */
DATA_QUALITY_ID = 1
DATA_QUALITY_DESC = "Data calculated based on original SPICE kernels"
/* TIME DATA ELEMENTS */
SPACECRAFT_CLOCK_START_COUNT = "1/0620869139.25682"
SPACECRAFT_CLOCK_STOP_COUNT = "1/0620869372.59279"
IMAGE_TIME = 2023-01-03T23:41:21.535Z
START_TIME = 2023-01-03T23:41:21.533Z
STOP_TIME = 2023-01-03T23:41:21.538Z
/* ORBITAL DATA ELEMENTS */
ASCENDING_NODE_LONGITUDE = 127.38
MAXIMUM_RESOLUTION = 0.004237
FOOTPRINT_POINT_LATITUDE = (-4.11128,-4.10747,-4.10453,-4.10101, -4.09691,-4.09461,-4.09131,-4.08656, -4.08074,-4.07658,-4.07342,-4.06911, -4.06616,-4.06343,-4.05933,-4.0566, -4.05294,-4.05071,-4.04762,-4.04496, -4.03907,-4.039,-4.039,-4.03906, -4.03912,-4.03918,-4.03924,-4.0393, -4.03936,-4.03942,-4.03948,-4.03954, -4.0396,-4.03966,-4.03972,-4.03978, -4.03983,-4.03989,-4.03995,-4.04001, -4.04007,-4.04013,-4.04019,-4.04025, -4.04031,-4.04037,-4.04043,-4.04048, -4.0405,-4.04051,-4.04316,-4.04695, -4.05024,-4.05439,-4.05661,-4.06011, -4.06355,-4.06827,-4.07077,-4.07528, -4.08022,-4.08394,-4.08673,-4.08909, -4.09174,-4.09453,-4.09825,-4.10276, -4.10612,-4.11013,-4.11242,-4.11249, -4.11249,-4.11244,-4.11239,-4.11235, -4.1123,-4.11225,-4.1122,-4.11216, -4.11211,-4.11206,-4.11201,-4.11197, -4.11192,-4.11187,-4.11182,-4.11178, -4.11173,-4.11168,-4.11163,-4.11159, -4.11154,-4.11149,-4.11144,-4.11139, -4.11135,-4.1113,-4.11129,-4.11128)
FOOTPRINT_POINT_LONGITUDE = (171.614,171.614,171.614,171.614, 171.614,171.614,171.614,171.614,171.614 ,171.614,171.614,171.614,171.614, 171.614,171.615,171.615,171.615,171.615 ,171.615,171.615,171.615,171.615, 171.615,171.618,171.621,171.624,171.628 ,171.631,171.634,171.637,171.64,171.643 ,171.646,171.65,171.653,171.656,171.659 ,171.662,171.665,171.668,171.672, 171.675,171.678,171.681,171.684,171.687 ,171.69,171.693,171.694,171.695,171.695 ,171.695,171.695,171.695,171.694, 171.694,171.694,171.694,171.694,171.694 ,171.694,171.694,171.694,171.694, 171.694,171.694,171.694,171.694,171.694 ,171.694,171.694,171.694,171.693,171.69 ,171.687,171.684,171.681,171.678, 171.675,171.672,171.668,171.665,171.662 ,171.659,171.656,171.653,171.65,171.646 ,171.643,171.64,171.637,171.634,171.631 ,171.628,171.624,171.621,171.618, 171.615,171.614,171.614)
ORBIT_NUMBER = 24007
ORBITAL_ECCENTRICITY = 0.574
ORBITAL_INCLINATION = 87.05
ORBITAL_SEMIMAJOR_AXIS = 8840.03
PERIAPSIS_ALTITUDE = 371.88
PERIAPSIS_ARGUMENT_ANGLE = 168.0
PERIAPSIS_TIME = 2023-01-03T23:37:08.000Z
SPACECRAFT_ORIENTATION = (0.0,-1.0,0.0)
^MEX_ORIENTATION_DESC = "MEX_ORIENTATION_DESC.TXT"
SPACECRAFT_POINTING_MODE = ACROSSTRACK
^MEX_POINTING_DESC = "MEX_POINTING_DESC.TXT"
RIGHT_ASCENSION = -1e+32
DECLINATION = -1e+32
OFFSET_ANGLE = -2.78
SPACECRAFT_SOLAR_DISTANCE = 2.34549e+08
TARGET_NAME = MARS
/* CAMERA DATA ELEMENTS */
BUFFER_MODE_ID = BUFFER_8
EXPOSURE_DURATION = 5.04
INST_CMPRS_NAME = NONE
INST_CMPRS_RATIO = 1.0
INST_CMPRS_QUALITY = -2147483648
INST_CMPRS_QUANTZ_TBL_ID = -2147483648
INSTRUMENT_TEMPERATURE = 11.2121
MISSING_FRAMES = 0
START_BIT = 0
/* RADIOMETRIC DATA ELEMENTS */
BANDWIDTH = 250.0
CENTER_FILTER_WAVELENGTH = 600.0
RADIANCE_OFFSET = -9.99e+31
RADIANCE_SCALING_FACTOR = -9.99e+31
REFLECTANCE_SCALING_FACTOR = -9.99e+31
MEX:REFLECTANCE_OFFSET = -9.99e+31
/* IMAGE OBJECT DEFINITIONS */
OBJECT = IMAGE
  INTERCHANGE_FORMAT = BINARY
  LINES = 912
  LINE_SAMPLES = 999
  SAMPLE_TYPE = UNSIGNED_INTEGER
  SAMPLE_BITS = 8
  BANDS = 1
  BAND_STORAGE_TYPE = BAND_SEQUENTIAL
  MAXIMUM = 253
  MEAN = 224.268
  MINIMUM = 86
  STANDARD_DEVIATION = 3.74416
END_OBJECT = IMAGE
/* MAP OBJECT DEFINITIONS */
OBJECT = IMAGE_MAP_PROJECTION
  ^DATA_SET_MAP_PROJECTION_CATALOG= "DSMAP.CAT"
  A_AXIS_RADIUS = 3396.19
  B_AXIS_RADIUS = 3396.19
  C_AXIS_RADIUS = 3396.19
  CENTER_LATITUDE = 0.0
  CENTER_LONGITUDE = 172.0
  COORDINATE_SYSTEM_NAME = PLANETOGRAPHIC
  COORDINATE_SYSTEM_TYPE = "BODY-FIXED ROTATING"
  EASTERNMOST_LONGITUDE = 171.695
  FIRST_STANDARD_PARALLEL = "N/A"
  LINE_FIRST_PIXEL = 1
  LINE_LAST_PIXEL = 912
  LINE_PROJECTION_OFFSET = -47862.0
  MAP_PROJECTION_ROTATION = 0.0
  MAP_PROJECTION_TYPE = SINUSOIDAL
  MAP_RESOLUTION = 11854.9393024378
  MAP_SCALE = 0.005
  MAXIMUM_LATITUDE = -4.039
  MINIMUM_LATITUDE = -4.11249
  POSITIVE_LONGITUDE_DIRECTION = EAST
  REFERENCE_LATITUDE = "N/A"
  REFERENCE_LONGITUDE = "N/A"
  SAMPLE_FIRST_PIXEL = 1
  SAMPLE_LAST_PIXEL = 999
  SAMPLE_PROJECTION_OFFSET = 4580.0
  SECOND_STANDARD_PARALLEL = "N/A"
  WESTERNMOST_LONGITUDE = 171.614
END_OBJECT = IMAGE_MAP_PROJECTION
END
