PDS_VERSION_ID = PDS3
/* FILE DATA ELEMENTS */
RECORD_TYPE = UNDEFINED
/* POINTERS TO DATA OBJECTS */
^IMAGE = ("HO007_0000_ND4.TIF")
/* IDENTIFICATION DATA ELEMENTS */
DATA_SET_ID = "MEX-M-HRSC-4-REFDR-MAPPROJECT-EXT9-V4.0"
DATA_SET_NAME = "MARS EXPRESS HRSC MAP PROJECTED REFDR EXTENSION9 V4.0"
DETECTOR_ID = MEX_HRSC_NADIR
EVENT_TYPE = "MARS-LOCAL-CALIBRATION-Im-Tc"
INSTRUMENT_HOST_ID = MEX
INSTRUMENT_HOST_NAME = "MARS EXPRESS"
INSTRUMENT_ID = HRSC
INSTRUMENT_NAME = "HIGH RESOLUTION STEREO CAMERA"
MISSION_NAME = "MARS EXPRESS"
MISSION_PHASE_NAME = ME_Phase_47
PROCESSING_LEVEL_ID = 4
PRODUCT_CREATION_TIME = 2023-11-14T12:58:33.000Z
PRODUCT_ID = "HO007_0000_ND4.TIF"
RELEASE_ID = 0001
REVISION_ID = 0000
/* QUALITY DATA ELEMENTS */
DATA_QUALITY_ID = 1
DATA_QUALITY_DESC = "Data calculated based on original SPICE kernels"
/* TIME DATA ELEMENTS */
SPACECRAFT_CLOCK_START_COUNT = "1/0620869139.25682"
SPACECRAFT_CLOCK_STOP_COUNT = "1/0620869372.59279"
START_TIME = 2023-01-03T23:40:14.262Z
STOP_TIME = 2023-01-03T23:42:36.242Z
/* ORBITAL DATA ELEMENTS */
ASCENDING_NODE_LONGITUDE = 127.38
MAXIMUM_RESOLUTION = 0.017
FOOTPRINT_POINT_LATITUDE = (0.16511,0.168839,0.172699,0.176673, 0.180778,0.185029,0.190558,0.190841, 0.191694,-0.231731,-0.57012,-0.908201, -1.24594,-1.58334,-1.92806,-2.27316, -2.61787,-2.96219,-3.30612,-3.56953, -3.74538,-3.9211,-4.09671,-4.27224, -4.44763,-4.62294,-4.79811,-4.97621, -5.15531,-5.3343,-5.51317,-5.69193, -5.87052,-6.04896,-6.3185,-6.50075, -6.68286,-6.86483,-7.04666,-7.22838, -7.40994,-7.59385,-7.7792,-7.96442, -8.14954,-8.33453,-8.5193,-8.61164, -8.62862,-8.63493,-8.6404,-8.64467, -8.65278,-8.65955,-8.66705,-8.67259, -8.67295,-8.67283,-8.48774,-8.30249, -8.11711,-7.93155,-7.74581,-7.46822, -7.28631,-7.10423,-6.92201,-6.73964, -6.55714,-6.37449,-6.19335,-6.01458, -5.83567,-5.65662,-5.47746,-5.29817, -5.11876,-4.85017,-4.67464,-4.49901, -4.32326,-4.1474,-3.97145,-3.79537, -3.61916,-3.35485,-3.01025,-2.66526, -2.31986,-2.14702,-1.97409,-1.80106, -1.62831,-1.29026,-0.951859,-0.61313, -0.274073,0.065305,0.150196,0.16511)
FOOTPRINT_POINT_LONGITUDE = (172.541,172.296,172.044,171.784, 171.516,171.238,170.876,170.858,170.811 ,170.802,170.795,170.789,170.781, 170.774,170.766,170.758,170.749,170.74, 170.731,170.724,170.719,170.714,170.709 ,170.705,170.7,170.696,170.691,170.686, 170.68,170.675,170.671,170.666,170.661, 170.655,170.645,170.638,170.632,170.625 ,170.618,170.612,170.605,170.599, 170.591,170.584,170.578,170.573,170.566 ,170.563,170.562,170.809,171.029, 171.205,171.548,171.846,172.187,172.45, 172.467,172.475,172.476,172.477,172.479 ,172.479,172.48,172.481,172.483,172.484 ,172.486,172.487,172.488,172.489,172.49 ,172.49,172.491,172.491,172.492,172.493 ,172.493,172.494,172.495,172.496, 172.497,172.498,172.499,172.5,172.501, 172.502,172.504,172.506,172.508,172.509 ,172.51,172.511,172.512,172.514,172.515 ,172.517,172.518,172.52,172.52,172.541)
ORBIT_NUMBER = 24007
ORBITAL_ECCENTRICITY = 0.574
ORBITAL_INCLINATION = 87.05
ORBITAL_SEMIMAJOR_AXIS = 8840.03
PERIAPSIS_ALTITUDE = 371.88
PERIAPSIS_ARGUMENT_ANGLE = 168.0
PERIAPSIS_TIME = 2023-01-03T23:37:08.000Z
SPACECRAFT_ORIENTATION = (0.0,-1.0,0.0)
^MEX_ORIENTATION_DESC = "MEX_ORIENTATION_DESC.TXT"
SPACECRAFT_POINTING_MODE = ACROSSTRACK
^MEX_POINTING_DESC = "MEX_POINTING_DESC.TXT"
RIGHT_ASCENSION = -1e+32
DECLINATION = -1e+32
OFFSET_ANGLE = -2.78
SPACECRAFT_SOLAR_DISTANCE = 2.34549e+08
TARGET_NAME = MARS
/* CAMERA DATA ELEMENTS */
DETECTOR_TEMPERATURE = 18.7783
FOCAL_PLANE_TEMPERATURE = 9.3989
INST_CMPRS_NAME = "DISCRETE COSINE TRANSFORMATION (DCT)"
INST_CMPRS_RATIO = 5.69778
INST_CMPRS_QUALITY = 0
INST_CMPRS_QUANTZ_TBL_ID = 0
INSTRUMENT_TEMPERATURE = 11.4379
LENS_TEMPERATURE = 9.3989
MACROPIXEL_SIZE = 1
MISSING_FRAMES = 0
PIXEL_SUBSAMPLING_FLAG = N
SIGNAL_CHAIN_ID = 0
/* RADIOMETRIC DATA ELEMENTS */
BANDWIDTH = 177.0
CENTER_FILTER_WAVELENGTH = 677.5
RADIANCE_OFFSET = 2.2495
RADIANCE_SCALING_FACTOR = 0.00690921
REFLECTANCE_SCALING_FACTOR = 0.000201921
MEX:REFLECTANCE_OFFSET = 0.0657414
/* IMAGE OBJECT DEFINITIONS */
OBJECT = IMAGE
  INTERCHANGE_FORMAT = BINARY
  LINES = 42036
  LINE_SAMPLES = 9208
  SAMPLE_TYPE = UNSIGNED_INTEGER
  SAMPLE_BITS = 8
  BANDS = 1
  BAND_STORAGE_TYPE = BAND_SEQUENTIAL
  MAXIMUM = 255
  MEAN = 123.209
  MINIMUM = 1
  STANDARD_DEVIATION = 47.3792
END_OBJECT = IMAGE
/* MAP OBJECT DEFINITIONS */
OBJECT = IMAGE_MAP_PROJECTION
  ^DATA_SET_MAP_PROJECTION_CATALOG= "DSMAP.CAT"
  A_AXIS_RADIUS = 3396.0
  B_AXIS_RADIUS = 3396.0
  C_AXIS_RADIUS = 3396.0
  CENTER_LATITUDE = 0.0
  CENTER_LONGITUDE = 172.0
  COORDINATE_SYSTEM_NAME = PLANETOGRAPHIC
  COORDINATE_SYSTEM_TYPE = "BODY-FIXED ROTATING"
  EASTERNMOST_LONGITUDE = 172.541
  FIRST_STANDARD_PARALLEL = "N/A"
  LINE_FIRST_PIXEL = 1
  LINE_LAST_PIXEL = 42036
  LINE_PROJECTION_OFFSET = 910.0
  MAP_PROJECTION_ROTATION = 0.0
  MAP_PROJECTION_TYPE = SINUSOIDAL
  MAP_RESOLUTION = 4741.71043093333
  MAP_SCALE = 0.0125
  MAXIMUM_LATITUDE = 0.191694
  MINIMUM_LATITUDE = -8.67295
  POSITIVE_LONGITUDE_DIRECTION = EAST
  REFERENCE_LATITUDE = "N/A"
  REFERENCE_LONGITUDE = "N/A"
  SAMPLE_FIRST_PIXEL = 1
  SAMPLE_LAST_PIXEL = 9208
  SAMPLE_PROJECTION_OFFSET = 6741.0
  SECOND_STANDARD_PARALLEL = "N/A"
  WESTERNMOST_LONGITUDE = 170.562
END_OBJECT = IMAGE_MAP_PROJECTION
END
