PDS_VERSION_ID = PDS3
/* FILE DATA ELEMENTS */
RECORD_TYPE = UNDEFINED
/* POINTERS TO DATA OBJECTS */
^IMAGE = ("HN999_0000_S24.TIF")
/* IDENTIFICATION DATA ELEMENTS */
DATA_SET_ID = "MEX-M-HRSC-4-REFDR-MAPPROJECT-EXT9-V4.0"
DATA_SET_NAME = "MARS EXPRESS HRSC MAP PROJECTED REFDR EXTENSION9 V4.0"
DETECTOR_ID = MEX_HRSC_S2
EVENT_TYPE = "MARS-TERMINATOR-CALIBRATION-Tc"
INSTRUMENT_HOST_ID = MEX
INSTRUMENT_HOST_NAME = "MARS EXPRESS"
INSTRUMENT_ID = HRSC
INSTRUMENT_NAME = "HIGH RESOLUTION STEREO CAMERA"
MISSION_NAME = "MARS EXPRESS"
MISSION_PHASE_NAME = ME_Phase_47
PROCESSING_LEVEL_ID = 4
PRODUCT_CREATION_TIME = 2023-11-14T12:58:33.000Z
PRODUCT_ID = "HN999_0000_S24.TIF"
RELEASE_ID = 0001
REVISION_ID = 0000
/* QUALITY DATA ELEMENTS */
DATA_QUALITY_ID = 1
DATA_QUALITY_DESC = "Data calculated based on original SPICE kernels"
/* TIME DATA ELEMENTS */
SPACECRAFT_CLOCK_START_COUNT = "1/0620664357.24933"
SPACECRAFT_CLOCK_STOP_COUNT = "1/0620664915.62997"
START_TIME = 2023-01-01T14:50:19.391Z
STOP_TIME = 2023-01-01T14:55:49.434Z
/* ORBITAL DATA ELEMENTS */
ASCENDING_NODE_LONGITUDE = 127.53
MAXIMUM_RESOLUTION = 0.679
FOOTPRINT_POINT_LATITUDE = (-10.2458,-10.2981,-9.78347,-9.14906, -7.80886,-7.05108,-7.46108,-3.79029, -1.02815,2.06965,4.53648,8.33164, 11.2617,13.7768,15.9872,17.9831,21.4976 ,24.5709,27.3303,29.8592,32.2038, 34.4031,36.4826,40.3618,43.9618,47.3615 ,50.6171,53.7732,56.8643,58.9684,63.545 ,66.6143,69.7126,72.8275,75.8774, 77.3035,78.5713,79.5453,80.0208,79.7401 ,78.4742,76.0617,74.3387,72.1613, 69.3094,67.4635,65.0936,61.509,58.6619, 57.9514,59.4811,59.2586,58.655,58.4917, 62.9651,66.4623,68.8752,72.4389,75.1317 ,77.3173,79.1297,80.6506,82.7364, 83.5188,82.7823,80.8659,79.2205,77.514, 75.8025,72.4382,69.1793,66.0136,62.9131 ,59.8499,56.7931,53.7131,50.5777, 47.3514,43.9911,40.444,36.6371,34.6044, 32.4636,30.1911,27.7564,25.1177,22.2115 ,18.94,15.1569,12.9736,10.5258,7.64881, 4.01478,1.74234,-1.13698,-5.81537, -9.0855,-9.84611,-10.2458)
FOOTPRINT_POINT_LONGITUDE = (112.999,113.02,114.518,119.108,121.168 ,124.492,128.496,128.14,127.615,127.094 ,126.706,126.165,125.801,125.517, 125.293,125.111,124.838,124.652,124.531 ,124.458,124.429,124.438,124.482,124.67 ,124.987,125.444,126.061,126.868, 127.924,128.831,131.537,134.174,137.913 ,143.497,152.421,159.0,167.722,179.163, 193.519,209.833,225.879,239.682,245.572 ,250.86,255.702,258.047,260.45,263.187, 265.51,269.517,273.754,282.971,287.696, 306.914,308.766,310.765,312.566,316.223 ,320.294,325.073,330.827,337.963, 356.794,17.9039,50.8467,69.0723,77.1486 ,82.7164,86.7221,92.0491,95.4114, 97.7233,99.4138,100.704,101.722,102.548 ,103.23,103.803,104.289,104.705,105.062 ,105.22,105.366,105.5,105.62,105.728, 105.821,105.896,105.95,105.964,105.968, 105.954,105.908,105.866,105.796,105.644 ,106.7,110.885,112.999)
ORBIT_NUMBER = 23999
ORBITAL_ECCENTRICITY = 0.575
ORBITAL_INCLINATION = 87.03
ORBITAL_SEMIMAJOR_AXIS = 8855.92
PERIAPSIS_ALTITUDE = 370.48
PERIAPSIS_ARGUMENT_ANGLE = 169.39
PERIAPSIS_TIME = 2023-01-01T15:44:46.000Z
SPACECRAFT_ORIENTATION = (0.0,-1.0,0.0)
^MEX_ORIENTATION_DESC = "MEX_ORIENTATION_DESC.TXT"
SPACECRAFT_POINTING_MODE = FIXED
^MEX_POINTING_DESC = "MEX_POINTING_DESC.TXT"
RIGHT_ASCENSION = -1e+32
DECLINATION = -1e+32
OFFSET_ANGLE = -1e+32
SPACECRAFT_SOLAR_DISTANCE = 2.34128e+08
TARGET_NAME = MARS
/* CAMERA DATA ELEMENTS */
DETECTOR_TEMPERATURE = 19.5939
FOCAL_PLANE_TEMPERATURE = 9.6028
INST_CMPRS_NAME = "DISCRETE COSINE TRANSFORMATION (DCT)"
INST_CMPRS_RATIO = 26.7693
INST_CMPRS_QUALITY = 0
INST_CMPRS_QUANTZ_TBL_ID = 0
INSTRUMENT_TEMPERATURE = 11.6418
LENS_TEMPERATURE = 10.2145
MACROPIXEL_SIZE = 4
MISSING_FRAMES = 0
PIXEL_SUBSAMPLING_FLAG = N
SIGNAL_CHAIN_ID = 3
/* RADIOMETRIC DATA ELEMENTS */
BANDWIDTH = 178.0
CENTER_FILTER_WAVELENGTH = 679.0
RADIANCE_OFFSET = 0.0
RADIANCE_SCALING_FACTOR = 0.0109976
REFLECTANCE_SCALING_FACTOR = 0.000319232
MEX:REFLECTANCE_OFFSET = 0.0
/* IMAGE OBJECT DEFINITIONS */
OBJECT = IMAGE
  INTERCHANGE_FORMAT = BINARY
  LINES = 7698
  LINE_SAMPLES = 1848
  SAMPLE_TYPE = UNSIGNED_INTEGER
  SAMPLE_BITS = 8
  BANDS = 1
  BAND_STORAGE_TYPE = BAND_SEQUENTIAL
  MAXIMUM = 255
  MEAN = 119.123
  MINIMUM = 1
  STANDARD_DEVIATION = 95.0527
END_OBJECT = IMAGE
/* MAP OBJECT DEFINITIONS */
OBJECT = IMAGE_MAP_PROJECTION
  ^DATA_SET_MAP_PROJECTION_CATALOG= "DSMAP.CAT"
  A_AXIS_RADIUS = 3396.0
  B_AXIS_RADIUS = 3396.0
  C_AXIS_RADIUS = 3396.0
  CENTER_LATITUDE = 55.709
  CENTER_LONGITUDE = 114.078
  COORDINATE_SYSTEM_NAME = PLANETOGRAPHIC
  COORDINATE_SYSTEM_TYPE = "BODY-FIXED ROTATING"
  EASTERNMOST_LONGITUDE = 360.0
  FIRST_STANDARD_PARALLEL = "N/A"
  LINE_FIRST_PIXEL = 1
  LINE_LAST_PIXEL = 7698
  LINE_PROJECTION_OFFSET = 3789.75
  MAP_PROJECTION_ROTATION = 0.0
  MAP_PROJECTION_TYPE = ORTHOGRAPHIC
  MAP_RESOLUTION = 74.08922548333329
  MAP_SCALE = 0.8
  MAXIMUM_LATITUDE = 90.0
  MINIMUM_LATITUDE = -10.2981
  POSITIVE_LONGITUDE_DIRECTION = EAST
  REFERENCE_LATITUDE = "N/A"
  REFERENCE_LONGITUDE = "N/A"
  SAMPLE_FIRST_PIXEL = 1
  SAMPLE_LAST_PIXEL = 1848
  SAMPLE_PROJECTION_OFFSET = 692.75
  SECOND_STANDARD_PARALLEL = "N/A"
  WESTERNMOST_LONGITUDE = 0.0
END_OBJECT = IMAGE_MAP_PROJECTION
END
