PDS_VERSION_ID = PDS3
/* FILE DATA ELEMENTS */
RECORD_TYPE = UNDEFINED
/* POINTERS TO DATA OBJECTS */
^IMAGE = ("HN999_0000_P24.TIF")
/* IDENTIFICATION DATA ELEMENTS */
DATA_SET_ID = "MEX-M-HRSC-4-REFDR-MAPPROJECT-EXT9-V4.0"
DATA_SET_NAME = "MARS EXPRESS HRSC MAP PROJECTED REFDR EXTENSION9 V4.0"
DETECTOR_ID = MEX_HRSC_P2
EVENT_TYPE = "MARS-TERMINATOR-CALIBRATION-Tc"
INSTRUMENT_HOST_ID = MEX
INSTRUMENT_HOST_NAME = "MARS EXPRESS"
INSTRUMENT_ID = HRSC
INSTRUMENT_NAME = "HIGH RESOLUTION STEREO CAMERA"
MISSION_NAME = "MARS EXPRESS"
MISSION_PHASE_NAME = ME_Phase_47
PROCESSING_LEVEL_ID = 4
PRODUCT_CREATION_TIME = 2023-11-14T12:58:33.000Z
PRODUCT_ID = "HN999_0000_P24.TIF"
RELEASE_ID = 0001
REVISION_ID = 0000
/* QUALITY DATA ELEMENTS */
DATA_QUALITY_ID = 1
DATA_QUALITY_DESC = "Data calculated based on original SPICE kernels"
/* TIME DATA ELEMENTS */
SPACECRAFT_CLOCK_START_COUNT = "1/0620664357.24933"
SPACECRAFT_CLOCK_STOP_COUNT = "1/0620664915.62997"
START_TIME = 2023-01-01T14:49:42.570Z
STOP_TIME = 2023-01-01T14:55:11.343Z
/* ORBITAL DATA ELEMENTS */
ASCENDING_NODE_LONGITUDE = 127.53
MAXIMUM_RESOLUTION = 0.6881
FOOTPRINT_POINT_LATITUDE = (-10.912,-10.969,-10.1035,-9.09208, -8.76131,-8.80372,-7.34378,-4.96947, -1.89313,2.56863,4.84407,8.40931, 11.2385,13.6875,15.8586,19.6222,22.8627 ,25.7457,28.3711,30.7938,33.0577, 35.1923,37.2208,41.0269,44.5816,47.9552 ,51.2009,54.3598,57.4659,61.1272, 63.2489,66.3549,69.4937,72.6512,75.7409 ,77.1797,78.448,79.3983,79.8093,79.4061 ,77.9448,75.2299,73.2713,70.728,67.1739 ,62.7926,59.1757,59.8261,59.1092,59.629 ,59.3232,58.4573,59.0416,63.2857, 66.7537,69.1476,71.0568,74.0769,76.4398 ,78.3634,79.9411,82.112,82.9336,82.7249 ,81.6826,80.2222,78.5793,76.875,75.1622 ,71.7883,68.5145,65.3304,62.2095, 59.1231,56.2347,53.1301,49.9696,46.7169 ,43.3287,39.7495,35.9083,33.8558, 31.6925,29.395,26.9322,24.2579,21.3074, 17.9797,14.1151,11.9043,9.35214,6.30715 ,2.4839,-0.00019393,-3.30911,-5.87129, -9.8062,-9.93471,-10.912)
FOOTPRINT_POINT_LONGITUDE = (113.324,113.345,114.41,119.134,123.512 ,126.528,128.613,128.74,128.124,127.355 ,126.994,126.482,126.125,125.845,125.62 ,125.286,125.057,124.902,124.802,124.75 ,124.738,124.764,124.824,125.043, 125.397,125.897,126.568,127.447,128.599 ,130.447,131.847,134.516,138.312, 144.001,153.141,159.903,168.892,180.678 ,195.388,211.917,227.948,241.596, 247.432,252.728,257.731,261.774,264.055 ,272.03,277.289,284.449,290.158,299.814 ,308.606,310.592,312.824,314.842, 316.856,321.157,326.086,331.933,339.004 ,357.439,17.5463,39.8449,56.8517, 68.4062,76.27,81.7774,85.7932,91.2013, 94.6532,97.0442,98.8002,100.146,101.15, 102.024,102.747,103.353,103.867,104.305 ,104.68,104.845,104.997,105.136,105.26, 105.37,105.463,105.535,105.582,105.593, 105.587,105.557,105.491,105.429,105.325 ,105.224,105.662,108.773,113.324)
ORBIT_NUMBER = 23999
ORBITAL_ECCENTRICITY = 0.575
ORBITAL_INCLINATION = 87.03
ORBITAL_SEMIMAJOR_AXIS = 8855.92
PERIAPSIS_ALTITUDE = 370.48
PERIAPSIS_ARGUMENT_ANGLE = 169.39
PERIAPSIS_TIME = 2023-01-01T15:44:46.000Z
SPACECRAFT_ORIENTATION = (0.0,-1.0,0.0)
^MEX_ORIENTATION_DESC = "MEX_ORIENTATION_DESC.TXT"
SPACECRAFT_POINTING_MODE = FIXED
^MEX_POINTING_DESC = "MEX_POINTING_DESC.TXT"
RIGHT_ASCENSION = -1e+32
DECLINATION = -1e+32
OFFSET_ANGLE = -1e+32
SPACECRAFT_SOLAR_DISTANCE = 2.34128e+08
TARGET_NAME = MARS
/* CAMERA DATA ELEMENTS */
DETECTOR_TEMPERATURE = 19.5939
FOCAL_PLANE_TEMPERATURE = 9.6028
INST_CMPRS_NAME = "DISCRETE COSINE TRANSFORMATION (DCT)"
INST_CMPRS_RATIO = 18.1567
INST_CMPRS_QUALITY = 0
INST_CMPRS_QUANTZ_TBL_ID = 0
INSTRUMENT_TEMPERATURE = 11.6418
LENS_TEMPERATURE = 10.2145
MACROPIXEL_SIZE = 4
MISSING_FRAMES = 0
PIXEL_SUBSAMPLING_FLAG = N
SIGNAL_CHAIN_ID = 3
/* RADIOMETRIC DATA ELEMENTS */
BANDWIDTH = 177.0
CENTER_FILTER_WAVELENGTH = 676.5
RADIANCE_OFFSET = 0.0
RADIANCE_SCALING_FACTOR = 0.00980435
REFLECTANCE_SCALING_FACTOR = 0.000284941
MEX:REFLECTANCE_OFFSET = 0.0
/* IMAGE OBJECT DEFINITIONS */
OBJECT = IMAGE
  INTERCHANGE_FORMAT = BINARY
  LINES = 7698
  LINE_SAMPLES = 1848
  SAMPLE_TYPE = UNSIGNED_INTEGER
  SAMPLE_BITS = 8
  BANDS = 1
  BAND_STORAGE_TYPE = BAND_SEQUENTIAL
  MAXIMUM = 255
  MEAN = 131.937
  MINIMUM = 1
  STANDARD_DEVIATION = 96.5265
END_OBJECT = IMAGE
/* MAP OBJECT DEFINITIONS */
OBJECT = IMAGE_MAP_PROJECTION
  ^DATA_SET_MAP_PROJECTION_CATALOG= "DSMAP.CAT"
  A_AXIS_RADIUS = 3396.0
  B_AXIS_RADIUS = 3396.0
  C_AXIS_RADIUS = 3396.0
  CENTER_LATITUDE = 55.709
  CENTER_LONGITUDE = 114.078
  COORDINATE_SYSTEM_NAME = PLANETOGRAPHIC
  COORDINATE_SYSTEM_TYPE = "BODY-FIXED ROTATING"
  EASTERNMOST_LONGITUDE = 360.0
  FIRST_STANDARD_PARALLEL = "N/A"
  LINE_FIRST_PIXEL = 1
  LINE_LAST_PIXEL = 7698
  LINE_PROJECTION_OFFSET = 3789.75
  MAP_PROJECTION_ROTATION = 0.0
  MAP_PROJECTION_TYPE = ORTHOGRAPHIC
  MAP_RESOLUTION = 74.08922548333329
  MAP_SCALE = 0.8
  MAXIMUM_LATITUDE = 90.0
  MINIMUM_LATITUDE = -10.969
  POSITIVE_LONGITUDE_DIRECTION = EAST
  REFERENCE_LATITUDE = "N/A"
  REFERENCE_LONGITUDE = "N/A"
  SAMPLE_FIRST_PIXEL = 1
  SAMPLE_LAST_PIXEL = 1848
  SAMPLE_PROJECTION_OFFSET = 692.75
  SECOND_STANDARD_PARALLEL = "N/A"
  WESTERNMOST_LONGITUDE = 0.0
END_OBJECT = IMAGE_MAP_PROJECTION
END
