PDS_VERSION_ID = PDS3
/* FILE DATA ELEMENTS */
RECORD_TYPE = UNDEFINED
/* POINTERS TO DATA OBJECTS */
^IMAGE = ("HN999_0000_ND4.TIF")
/* IDENTIFICATION DATA ELEMENTS */
DATA_SET_ID = "MEX-M-HRSC-4-REFDR-MAPPROJECT-EXT9-V4.0"
DATA_SET_NAME = "MARS EXPRESS HRSC MAP PROJECTED REFDR EXTENSION9 V4.0"
DETECTOR_ID = MEX_HRSC_NADIR
EVENT_TYPE = "MARS-TERMINATOR-CALIBRATION-Tc"
INSTRUMENT_HOST_ID = MEX
INSTRUMENT_HOST_NAME = "MARS EXPRESS"
INSTRUMENT_ID = HRSC
INSTRUMENT_NAME = "HIGH RESOLUTION STEREO CAMERA"
MISSION_NAME = "MARS EXPRESS"
MISSION_PHASE_NAME = ME_Phase_47
PROCESSING_LEVEL_ID = 4
PRODUCT_CREATION_TIME = 2023-11-14T12:58:33.000Z
PRODUCT_ID = "HN999_0000_ND4.TIF"
RELEASE_ID = 0001
REVISION_ID = 0000
/* QUALITY DATA ELEMENTS */
DATA_QUALITY_ID = 1
DATA_QUALITY_DESC = "Data calculated based on original SPICE kernels"
/* TIME DATA ELEMENTS */
SPACECRAFT_CLOCK_START_COUNT = "1/0620664357.24933"
SPACECRAFT_CLOCK_STOP_COUNT = "1/0620664915.62997"
START_TIME = 2023-01-01T14:48:26.090Z
STOP_TIME = 2023-01-01T14:53:51.094Z
/* ORBITAL DATA ELEMENTS */
ASCENDING_NODE_LONGITUDE = 127.53
MAXIMUM_RESOLUTION = 0.3523
FOOTPRINT_POINT_LATITUDE = (-12.3162,-12.3737,-12.2944,-11.5037, -11.3409,-10.2208,-9.36737,-6.39389, -3.62805,-1.59672,3.00749,5.86022, 8.98165,11.5696,13.8529,17.7721,20.9436 ,23.9313,26.6404,29.1352,31.4603,35.6, 39.8518,44.3402,47.7366,51.0166,54.2206 ,56.9889,60.1405,62.5113,65.7002, 69.0358,71.4876,74.2345,75.8119,77.9565 ,78.9984,79.6143,79.4144,78.435,76.1947 ,74.4085,72.0647,68.8239,65.1118, 62.0078,58.5382,59.2067,60.2231,60.5147 ,60.3477,59.8624,59.2311,58.6327, 62.3612,65.6896,69.6197,73.103,75.6817, 77.7068,79.3051,81.2255,82.087,81.6944, 80.5549,78.2144,76.5054,74.771,71.3347, 68.198,64.7418,61.8563,57.9277,55.5778, 52.4257,49.2217,45.9294,42.5052,38.6606 ,34.7706,32.2912,30.0795,27.7257, 25.1973,22.4436,19.3904,15.9427,13.7499 ,10.7394,8.51959,5.55702,1.89251, -0.425948,-5.28863,-8.42394,-12.1252, -11.5414,-11.8935,-12.3162)
FOOTPRINT_POINT_LONGITUDE = (114.12,114.133,114.861,117.994,122.402 ,126.259,128.118,129.364,128.79,128.392 ,127.586,127.143,126.701,126.376, 126.114,125.726,125.466,125.274,125.143 ,125.062,125.025,125.059,125.254, 125.676,126.182,126.864,127.764,128.786 ,130.305,131.778,134.385,138.254, 142.287,148.891,154.429,166.403,177.037 ,191.503,208.476,222.471,236.967, 243.677,249.721,255.322,259.592,262.133 ,264.222,271.095,274.644,280.964, 287.929,291.562,304.403,310.732,312.614 ,314.857,318.563,323.503,329.015,335.43 ,342.983,359.416,21.4628,42.9873,58.103 ,72.6337,78.8025,83.2997,89.3393, 92.9812,95.829,97.6083,99.4517,100.323, 101.289,102.085,102.752,103.316,103.824 ,104.229,104.439,104.599,104.744, 104.873,104.985,105.076,105.145,105.169 ,105.18,105.171,105.136,105.062,104.997 ,104.816,104.66,104.551,108.62,111.233, 114.12)
ORBIT_NUMBER = 23999
ORBITAL_ECCENTRICITY = 0.575
ORBITAL_INCLINATION = 87.03
ORBITAL_SEMIMAJOR_AXIS = 8855.92
PERIAPSIS_ALTITUDE = 370.48
PERIAPSIS_ARGUMENT_ANGLE = 169.39
PERIAPSIS_TIME = 2023-01-01T15:44:46.000Z
SPACECRAFT_ORIENTATION = (0.0,-1.0,0.0)
^MEX_ORIENTATION_DESC = "MEX_ORIENTATION_DESC.TXT"
SPACECRAFT_POINTING_MODE = FIXED
^MEX_POINTING_DESC = "MEX_POINTING_DESC.TXT"
RIGHT_ASCENSION = -1e+32
DECLINATION = -1e+32
OFFSET_ANGLE = -1e+32
SPACECRAFT_SOLAR_DISTANCE = 2.34128e+08
TARGET_NAME = MARS
/* CAMERA DATA ELEMENTS */
DETECTOR_TEMPERATURE = 18.5744
FOCAL_PLANE_TEMPERATURE = 9.6028
INST_CMPRS_NAME = "DISCRETE COSINE TRANSFORMATION (DCT)"
INST_CMPRS_RATIO = 11.7464
INST_CMPRS_QUALITY = 0
INST_CMPRS_QUANTZ_TBL_ID = 0
INSTRUMENT_TEMPERATURE = 11.6418
LENS_TEMPERATURE = 10.2145
MACROPIXEL_SIZE = 2
MISSING_FRAMES = 0
PIXEL_SUBSAMPLING_FLAG = N
SIGNAL_CHAIN_ID = 0
/* RADIOMETRIC DATA ELEMENTS */
BANDWIDTH = 177.0
CENTER_FILTER_WAVELENGTH = 677.5
RADIANCE_OFFSET = 0.0
RADIANCE_SCALING_FACTOR = 0.0125014
REFLECTANCE_SCALING_FACTOR = 0.000364016
MEX:REFLECTANCE_OFFSET = 0.0
/* IMAGE OBJECT DEFINITIONS */
OBJECT = IMAGE
  INTERCHANGE_FORMAT = BINARY
  LINES = 15396
  LINE_SAMPLES = 3695
  SAMPLE_TYPE = UNSIGNED_INTEGER
  SAMPLE_BITS = 8
  BANDS = 1
  BAND_STORAGE_TYPE = BAND_SEQUENTIAL
  MAXIMUM = 255
  MEAN = 103.589
  MINIMUM = 1
  STANDARD_DEVIATION = 93.3652
END_OBJECT = IMAGE
/* MAP OBJECT DEFINITIONS */
OBJECT = IMAGE_MAP_PROJECTION
  ^DATA_SET_MAP_PROJECTION_CATALOG= "DSMAP.CAT"
  A_AXIS_RADIUS = 3396.0
  B_AXIS_RADIUS = 3396.0
  C_AXIS_RADIUS = 3396.0
  CENTER_LATITUDE = 55.709
  CENTER_LONGITUDE = 114.078
  COORDINATE_SYSTEM_NAME = PLANETOGRAPHIC
  COORDINATE_SYSTEM_TYPE = "BODY-FIXED ROTATING"
  EASTERNMOST_LONGITUDE = 360.0
  FIRST_STANDARD_PARALLEL = "N/A"
  LINE_FIRST_PIXEL = 1
  LINE_LAST_PIXEL = 15396
  LINE_PROJECTION_OFFSET = 7580.0
  MAP_PROJECTION_ROTATION = 0.0
  MAP_PROJECTION_TYPE = ORTHOGRAPHIC
  MAP_RESOLUTION = 148.178450966667
  MAP_SCALE = 0.4
  MAXIMUM_LATITUDE = 90.0
  MINIMUM_LATITUDE = -12.3737
  POSITIVE_LONGITUDE_DIRECTION = EAST
  REFERENCE_LATITUDE = "N/A"
  REFERENCE_LONGITUDE = "N/A"
  SAMPLE_FIRST_PIXEL = 1
  SAMPLE_LAST_PIXEL = 3695
  SAMPLE_PROJECTION_OFFSET = 1386.0
  SECOND_STANDARD_PARALLEL = "N/A"
  WESTERNMOST_LONGITUDE = 0.0
END_OBJECT = IMAGE_MAP_PROJECTION
END
