PDS_VERSION_ID = PDS3
/* FILE DATA ELEMENTS */
RECORD_TYPE = UNDEFINED
/* POINTERS TO DATA OBJECTS */
^IMAGE = ("HN998_0000_GR4.TIF")
/* IDENTIFICATION DATA ELEMENTS */
DATA_SET_ID = "MEX-M-HRSC-4-REFDR-MAPPROJECT-EXT9-V4.0"
DATA_SET_NAME = "MARS EXPRESS HRSC MAP PROJECTED REFDR EXTENSION9 V4.0"
DETECTOR_ID = MEX_HRSC_GREEN
EVENT_TYPE = "MARS-REGIONAL-MAPPING-Im-Fl-La"
INSTRUMENT_HOST_ID = MEX
INSTRUMENT_HOST_NAME = "MARS EXPRESS"
INSTRUMENT_ID = HRSC
INSTRUMENT_NAME = "HIGH RESOLUTION STEREO CAMERA"
MISSION_NAME = "MARS EXPRESS"
MISSION_PHASE_NAME = ME_Phase_47
PROCESSING_LEVEL_ID = 4
PRODUCT_CREATION_TIME = 2023-11-14T12:58:33.000Z
PRODUCT_ID = "HN998_0000_GR4.TIF"
RELEASE_ID = 0001
REVISION_ID = 0000
/* QUALITY DATA ELEMENTS */
DATA_QUALITY_ID = 1
DATA_QUALITY_DESC = "Data calculated based on original SPICE kernels"
/* TIME DATA ELEMENTS */
SPACECRAFT_CLOCK_START_COUNT = "1/0620642347.25689"
SPACECRAFT_CLOCK_STOP_COUNT = "1/0620642674.49268"
START_TIME = 2023-01-01T08:40:24.623Z
STOP_TIME = 2023-01-01T08:44:24.217Z
/* ORBITAL DATA ELEMENTS */
ASCENDING_NODE_LONGITUDE = 127.55
MAXIMUM_RESOLUTION = 0.0642
FOOTPRINT_POINT_LATITUDE = (29.8243,29.8008,29.7728,29.7569, 29.7279,29.7267,29.7138,29.3932,29.0713 ,28.7487,28.4285,28.1125,27.6371,27.32, 27.0089,26.6987,26.3877,25.9186,25.4601 ,25.1545,24.8487,24.5419,24.2368, 23.9365,23.6359,23.3352,23.0342,22.7327 ,22.2873,21.9924,21.6973,21.4023, 21.1067,20.8108,20.5145,20.2254,19.936, 19.6465,19.3568,19.0669,18.7769,18.4864 ,18.1962,17.9054,17.3381,16.7701, 16.0592,15.4894,14.9206,14.7782,14.7637 ,14.7734,14.7843,14.7975,14.8117, 14.8121,14.8132,15.2422,15.8126,16.0981 ,16.6681,17.3801,17.9489,18.2402, 18.5317,18.968,19.2593,19.5496,19.9844, 20.2757,20.5654,20.8623,21.1592,21.4561 ,21.7523,22.0482,22.344,22.6391,22.9414 ,23.2437,23.6969,23.9986,24.2998, 24.7597,25.2199,25.5267,25.8342,26.1446 ,26.4577,26.7704,27.0832,27.3948, 27.7117,28.0302,28.3506,28.8297,29.1536 ,29.6382,29.7997,29.8243)
FOOTPRINT_POINT_LONGITUDE = (11.7035,11.1072,10.4769,10.1481, 9.59153,9.56955,9.48161,9.50677,9.52622 ,9.54406,9.55794,9.57795,9.60332, 9.62308,9.64102,9.66391,9.68334,9.69901 ,9.72107,9.73768,9.75472,9.76698, 9.77949,9.78996,9.80065,9.81292,9.82494 ,9.8354,9.85256,9.86175,9.87174,9.88486 ,9.89441,9.9046,9.91214,9.92185,9.92964 ,9.93765,9.94585,9.95442,9.96326, 9.96924,9.97986,9.98617,9.9995,10.0103, 10.0237,10.0296,10.0488,10.0518,10.052, 10.3615,10.7269,11.1868,11.7337,11.7478 ,11.7525,11.7542,11.7495,11.75,11.7483, 11.7471,11.7459,11.7451,11.7448,11.7411 ,11.7423,11.739,11.733,11.7381,11.7361, 11.7345,11.7336,11.7338,11.7316,11.7293 ,11.7276,11.724,11.722,11.7203,11.7195, 11.7183,11.7167,11.7142,11.7046,11.7011 ,11.7025,11.7018,11.6982,11.6949,11.694 ,11.6874,11.6742,11.6723,11.6816, 11.6747,11.6712,11.6639,11.6625, 11.7035)
ORBIT_NUMBER = 23998
ORBITAL_ECCENTRICITY = 0.574
ORBITAL_INCLINATION = 87.03
ORBITAL_SEMIMAJOR_AXIS = 8847.81
PERIAPSIS_ALTITUDE = 370.93
PERIAPSIS_ARGUMENT_ANGLE = 169.54
PERIAPSIS_TIME = 2023-01-01T08:45:38.000Z
SPACECRAFT_ORIENTATION = (0.0,-1.0,0.0)
^MEX_ORIENTATION_DESC = "MEX_ORIENTATION_DESC.TXT"
SPACECRAFT_POINTING_MODE = ACROSSTRACK
^MEX_POINTING_DESC = "MEX_POINTING_DESC.TXT"
RIGHT_ASCENSION = -1e+32
DECLINATION = -1e+32
OFFSET_ANGLE = -2.896
SPACECRAFT_SOLAR_DISTANCE = 2.34075e+08
TARGET_NAME = MARS
/* CAMERA DATA ELEMENTS */
DETECTOR_TEMPERATURE = 18.5744
FOCAL_PLANE_TEMPERATURE = 9.3989
INST_CMPRS_NAME = "DISCRETE COSINE TRANSFORMATION (DCT)"
INST_CMPRS_RATIO = 7.81257
INST_CMPRS_QUALITY = 0
INST_CMPRS_QUANTZ_TBL_ID = 0
INSTRUMENT_TEMPERATURE = 11.6418
LENS_TEMPERATURE = 9.195
MACROPIXEL_SIZE = 4
MISSING_FRAMES = 0
PIXEL_SUBSAMPLING_FLAG = N
SIGNAL_CHAIN_ID = 2
/* RADIOMETRIC DATA ELEMENTS */
BANDWIDTH = 88.0
CENTER_FILTER_WAVELENGTH = 538.0
RADIANCE_OFFSET = 0.876013
RADIANCE_SCALING_FACTOR = 0.00297584
REFLECTANCE_SCALING_FACTOR = 0.00014038
MEX:REFLECTANCE_OFFSET = 0.0413244
/* IMAGE OBJECT DEFINITIONS */
OBJECT = IMAGE
  INTERCHANGE_FORMAT = BINARY
  LINES = 17787
  LINE_SAMPLES = 2433
  SAMPLE_TYPE = UNSIGNED_INTEGER
  SAMPLE_BITS = 8
  BANDS = 1
  BAND_STORAGE_TYPE = BAND_SEQUENTIAL
  MAXIMUM = 255
  MEAN = 123.568
  MINIMUM = 1
  STANDARD_DEVIATION = 45.9927
END_OBJECT = IMAGE
/* MAP OBJECT DEFINITIONS */
OBJECT = IMAGE_MAP_PROJECTION
  ^DATA_SET_MAP_PROJECTION_CATALOG= "DSMAP.CAT"
  A_AXIS_RADIUS = 3396.0
  B_AXIS_RADIUS = 3396.0
  C_AXIS_RADIUS = 3396.0
  CENTER_LATITUDE = 0.0
  CENTER_LONGITUDE = 11.0
  COORDINATE_SYSTEM_NAME = PLANETOGRAPHIC
  COORDINATE_SYSTEM_TYPE = "BODY-FIXED ROTATING"
  EASTERNMOST_LONGITUDE = 11.7542
  FIRST_STANDARD_PARALLEL = "N/A"
  LINE_FIRST_PIXEL = 1
  LINE_LAST_PIXEL = 17787
  LINE_PROJECTION_OFFSET = 35319.875
  MAP_PROJECTION_ROTATION = 0.0
  MAP_PROJECTION_TYPE = SINUSOIDAL
  MAP_RESOLUTION = 1185.42760773333
  MAP_SCALE = 0.05
  MAXIMUM_LATITUDE = 29.8243
  MINIMUM_LATITUDE = 14.7637
  POSITIVE_LONGITUDE_DIRECTION = EAST
  REFERENCE_LATITUDE = "N/A"
  REFERENCE_LONGITUDE = "N/A"
  SAMPLE_FIRST_PIXEL = 1
  SAMPLE_LAST_PIXEL = 2433
  SAMPLE_PROJECTION_OFFSET = 1568.625
  SECOND_STANDARD_PARALLEL = "N/A"
  WESTERNMOST_LONGITUDE = 9.48161
END_OBJECT = IMAGE_MAP_PROJECTION
END
