PDS_VERSION_ID = PDS3
/* FILE DATA ELEMENTS */
RECORD_TYPE = UNDEFINED
/* POINTERS TO DATA OBJECTS */
^IMAGE = ("HN967_0000_ND4.TIF")
/* IDENTIFICATION DATA ELEMENTS */
DATA_SET_ID = "MEX-M-HRSC-4-REFDR-MAPPROJECT-EXT8-V4.0"
DATA_SET_NAME = "MARS EXPRESS HRSC MAP PROJECTED REFDR EXTENSION8 V4.0"
DETECTOR_ID = MEX_HRSC_NADIR
EVENT_TYPE = "MARS-TERMINATOR-VARIABLE-Ot-Ts-At"
INSTRUMENT_HOST_ID = MEX
INSTRUMENT_HOST_NAME = "MARS EXPRESS"
INSTRUMENT_ID = HRSC
INSTRUMENT_NAME = "HIGH RESOLUTION STEREO CAMERA"
MISSION_NAME = "MARS EXPRESS"
MISSION_PHASE_NAME = ME_Phase_47
PROCESSING_LEVEL_ID = 4
PRODUCT_CREATION_TIME = 2023-02-07T06:07:28.000Z
PRODUCT_ID = "HN967_0000_ND4.TIF"
RELEASE_ID = 0005
REVISION_ID = 0000
/* QUALITY DATA ELEMENTS */
DATA_QUALITY_ID = 1
DATA_QUALITY_DESC = "Data calculated based on original SPICE kernels"
/* TIME DATA ELEMENTS */
SPACECRAFT_CLOCK_START_COUNT = "1/0619862735.25668"
SPACECRAFT_CLOCK_STOP_COUNT = "1/0619863047.07962"
START_TIME = 2022-12-23T08:07:11.731Z
STOP_TIME = 2022-12-23T08:10:42.713Z
/* ORBITAL DATA ELEMENTS */
ASCENDING_NODE_LONGITUDE = 128.1
MAXIMUM_RESOLUTION = 0.017
FOOTPRINT_POINT_LATITUDE = (33.917,33.9188,33.9181,33.9159,33.9085 ,33.9082,33.9083,33.5114,33.2503, 32.9888,32.6007,32.3433,31.9589,31.7057 ,31.452,31.199,30.7002,30.1999,29.6982, 29.1951,28.6906,28.1848,27.9313,27.6775 ,27.4233,27.1689,26.9141,26.6591, 26.4037,26.148,25.892,25.6357,25.3791, 25.1222,24.8649,24.6073,24.3496,24.0915 ,23.8331,23.5743,23.3154,23.0561, 22.7965,22.5367,22.2767,22.0164,21.7558 ,21.495,21.234,21.1033,21.0963,21.0959, 21.0947,21.0916,21.0886,21.0885,21.0887 ,21.4807,21.7417,22.0025,22.263,22.5232 ,22.7832,23.0429,23.3024,23.5616, 23.8205,24.0791,24.3375,24.5956,24.8534 ,25.1111,25.3683,25.6252,25.8817, 26.1379,26.522,26.7775,27.0327,27.2876, 27.5421,27.7962,28.1771,28.6838,29.1891 ,29.6931,30.1955,30.6966,31.1961, 31.5766,31.8306,32.0841,32.3425,32.6003 ,32.9892,33.2512,33.5129,33.7776, 33.9106,33.917)
FOOTPRINT_POINT_LONGITUDE = (301.584,300.837,300.498,300.068, 299.321,299.298,299.27,299.288,299.3, 299.312,299.329,299.34,299.355,299.362, 299.372,299.382,299.4,299.418,299.434, 299.45,299.465,299.479,299.487,299.495, 299.503,299.509,299.517,299.522,299.529 ,299.535,299.54,299.545,299.551,299.555 ,299.562,299.568,299.572,299.577, 299.582,299.588,299.593,299.599,299.605 ,299.609,299.613,299.617,299.621, 299.624,299.627,299.629,299.629,299.943 ,300.319,300.837,301.198,301.214, 301.222,301.231,301.237,301.244,301.25, 301.257,301.263,301.27,301.277,301.285, 301.291,301.298,301.305,301.312,301.321 ,301.331,301.338,301.345,301.349, 301.355,301.37,301.377,301.384,301.392, 301.395,301.399,301.413,301.432,301.448 ,301.466,301.48,301.496,301.507,301.52, 301.528,301.536,301.548,301.554,301.569 ,301.578,301.587,301.597,301.602, 301.584)
ORBIT_NUMBER = 23967
ORBITAL_ECCENTRICITY = 0.575
ORBITAL_INCLINATION = 87.03
ORBITAL_SEMIMAJOR_AXIS = 8849.35
PERIAPSIS_ALTITUDE = 367.69
PERIAPSIS_ARGUMENT_ANGLE = 174.91
PERIAPSIS_TIME = 2022-12-23T08:14:53.000Z
SPACECRAFT_ORIENTATION = (0.0,-1.0,0.0)
^MEX_ORIENTATION_DESC = "MEX_ORIENTATION_DESC.TXT"
SPACECRAFT_POINTING_MODE = NADIR
^MEX_POINTING_DESC = "MEX_POINTING_DESC.TXT"
RIGHT_ASCENSION = -1e+32
DECLINATION = -1e+32
OFFSET_ANGLE = -1e+32
SPACECRAFT_SOLAR_DISTANCE = 2.32412e+08
TARGET_NAME = MARS
/* CAMERA DATA ELEMENTS */
DETECTOR_TEMPERATURE = 18.5744
FOCAL_PLANE_TEMPERATURE = 9.3989
INST_CMPRS_NAME = "DISCRETE COSINE TRANSFORMATION (DCT)"
INST_CMPRS_RATIO = 4.84997
INST_CMPRS_QUALITY = 0
INST_CMPRS_QUANTZ_TBL_ID = 0
INSTRUMENT_TEMPERATURE = 11.0301
LENS_TEMPERATURE = 9.3989
MACROPIXEL_SIZE = 1
MISSING_FRAMES = 0
PIXEL_SUBSAMPLING_FLAG = N
SIGNAL_CHAIN_ID = 0
/* RADIOMETRIC DATA ELEMENTS */
BANDWIDTH = 177.0
CENTER_FILTER_WAVELENGTH = 677.5
RADIANCE_OFFSET = 0.500458
RADIANCE_SCALING_FACTOR = 0.00445355
REFLECTANCE_SCALING_FACTOR = 0.000127793
MEX:REFLECTANCE_OFFSET = 0.0143604
/* IMAGE OBJECT DEFINITIONS */
OBJECT = IMAGE
  INTERCHANGE_FORMAT = BINARY
  LINES = 60713
  LINE_SAMPLES = 9040
  SAMPLE_TYPE = UNSIGNED_INTEGER
  SAMPLE_BITS = 8
  BANDS = 1
  BAND_STORAGE_TYPE = BAND_SEQUENTIAL
  MAXIMUM = 255
  MEAN = 75.8225
  MINIMUM = 1
  STANDARD_DEVIATION = 31.5726
END_OBJECT = IMAGE
/* MAP OBJECT DEFINITIONS */
OBJECT = IMAGE_MAP_PROJECTION
  ^DATA_SET_MAP_PROJECTION_CATALOG= "DSMAP.CAT"
  A_AXIS_RADIUS = 3396.0
  B_AXIS_RADIUS = 3396.0
  C_AXIS_RADIUS = 3396.0
  CENTER_LATITUDE = 27.5496
  CENTER_LONGITUDE = 300.448
  COORDINATE_SYSTEM_NAME = PLANETOGRAPHIC
  COORDINATE_SYSTEM_TYPE = "BODY-FIXED ROTATING"
  EASTERNMOST_LONGITUDE = 301.602
  FIRST_STANDARD_PARALLEL = "N/A"
  LINE_FIRST_PIXEL = 1
  LINE_LAST_PIXEL = 60713
  LINE_PROJECTION_OFFSET = 30150.0
  MAP_PROJECTION_ROTATION = 0.0
  MAP_PROJECTION_TYPE = ORTHOGRAPHIC
  MAP_RESOLUTION = 4741.71043093333
  MAP_SCALE = 0.0125
  MAXIMUM_LATITUDE = 33.9188
  MINIMUM_LATITUDE = 21.0885
  POSITIVE_LONGITUDE_DIRECTION = EAST
  REFERENCE_LATITUDE = "N/A"
  REFERENCE_LONGITUDE = "N/A"
  SAMPLE_FIRST_PIXEL = 1
  SAMPLE_LAST_PIXEL = 9040
  SAMPLE_PROJECTION_OFFSET = 4567.0
  SECOND_STANDARD_PARALLEL = "N/A"
  WESTERNMOST_LONGITUDE = 299.27
END_OBJECT = IMAGE_MAP_PROJECTION
END
