PDS_VERSION_ID = PDS3
/* FILE DATA ELEMENTS */
RECORD_TYPE = UNDEFINED
/* POINTERS TO DATA OBJECTS */
^IMAGE = ("HN956_0000_ND4.TIF")
/* IDENTIFICATION DATA ELEMENTS */
DATA_SET_ID = "MEX-M-HRSC-4-REFDR-MAPPROJECT-EXT8-V4.0"
DATA_SET_NAME = "MARS EXPRESS HRSC MAP PROJECTED REFDR EXTENSION8 V4.0"
DETECTOR_ID = MEX_HRSC_NADIR
EVENT_TYPE = "MARS-TERMINATOR-CALIBRATION-Tc"
INSTRUMENT_HOST_ID = MEX
INSTRUMENT_HOST_NAME = "MARS EXPRESS"
INSTRUMENT_ID = HRSC
INSTRUMENT_NAME = "HIGH RESOLUTION STEREO CAMERA"
MISSION_NAME = "MARS EXPRESS"
MISSION_PHASE_NAME = ME_Phase_47
PROCESSING_LEVEL_ID = 4
PRODUCT_CREATION_TIME = 2023-02-07T06:07:28.000Z
PRODUCT_ID = "HN956_0000_ND4.TIF"
RELEASE_ID = 0005
REVISION_ID = 0000
/* QUALITY DATA ELEMENTS */
DATA_QUALITY_ID = 1
DATA_QUALITY_DESC = "Data calculated based on original SPICE kernels"
/* TIME DATA ELEMENTS */
SPACECRAFT_CLOCK_START_COUNT = "1/0619599075.25675"
SPACECRAFT_CLOCK_STOP_COUNT = "1/0619599342.26066"
START_TIME = 2022-12-20T06:53:52.982Z
STOP_TIME = 2022-12-20T06:54:13.009Z
/* ORBITAL DATA ELEMENTS */
ASCENDING_NODE_LONGITUDE = 128.3
MAXIMUM_RESOLUTION = 0.8672
FOOTPRINT_POINT_LATITUDE = (17.6799,17.6738,17.7025,17.7687, 17.8768,17.9493,18.0359,18.1377,18.256, 18.3936,18.5541,18.7411,18.9598,19.2185 ,19.5295,19.9122,20.1406,20.4034, 20.7132,21.0932,21.5952,21.9344,22.4131 ,23.0761,22.4961,23.4068,23.9685, 23.4447,24.6752,25.1421,24.4278,25.8537 ,25.2218,26.6619,26.024,27.5351,26.8697 ,28.0381,28.5302,27.7478,29.0287, 28.3859,29.6177,30.3332,29.3303,30.3035 ,30.8554,30.0274,31.0082,31.55,30.7463, 31.7716,32.4208,31.4983,32.5898,31.9609 ,33.4957,32.7624,33.8656,33.2711, 34.8939,34.133,35.3534,34.6855,35.8782, 35.2553,36.445,35.8529,37.078,36.4791, 36.8639,36.9036,36.2131,35.2965,34.6325 ,34.1408,33.736,33.3961,32.7987,32.4045 ,31.9373,31.6113,31.3395,31.1139, 30.9322,30.7611,30.6168,30.4946,30.3085 ,30.1994,30.1897,30.1808,27.4386, 25.3563,23.357,21.4304,19.6795,17.8655, 17.7541,17.6799)
FOOTPRINT_POINT_LONGITUDE = (121.863,124.994,128.214,131.552, 135.049,136.872,138.754,140.705,142.734 ,144.857,147.092,149.463,152.001, 154.755,157.799,161.247,163.183,165.316 ,167.724,170.544,174.086,176.381, 179.513,183.25,178.736,181.04,182.809, 178.66,181.981,183.852,178.73,183.006, 178.423,182.676,178.152,182.669,178.061 ,181.383,183.26,178.098,181.923,177.569 ,181.069,184.004,177.859,180.67,182.739 ,177.56,180.356,182.34,177.343,180.294, 182.765,177.25,180.459,176.437,180.996, 176.519,179.664,175.886,180.687,176.17, 179.731,175.689,179.066,175.272,178.577 ,174.95,178.346,174.722,175.716,175.773 ,172.454,167.956,164.604,161.92,159.593 ,157.519,153.795,151.279,147.631, 144.945,142.446,140.095,137.866,135.716 ,133.647,131.646,127.801,124.121, 123.669,123.506,123.075,122.778,122.516 ,122.283,122.087,121.898,121.887, 121.863)
ORBIT_NUMBER = 23956
ORBITAL_ECCENTRICITY = 0.575
ORBITAL_INCLINATION = 87.03
ORBITAL_SEMIMAJOR_AXIS = 8846.11
PERIAPSIS_ALTITUDE = 367.11
PERIAPSIS_ARGUMENT_ANGLE = 176.75
PERIAPSIS_TIME = 2022-12-20T03:24:52.000Z
SPACECRAFT_ORIENTATION = (0.0,-1.0,0.0)
^MEX_ORIENTATION_DESC = "MEX_ORIENTATION_DESC.TXT"
SPACECRAFT_POINTING_MODE = FIXED
^MEX_POINTING_DESC = "MEX_POINTING_DESC.TXT"
RIGHT_ASCENSION = -1e+32
DECLINATION = -1e+32
OFFSET_ANGLE = -1e+32
SPACECRAFT_SOLAR_DISTANCE = 2.31812e+08
TARGET_NAME = MARS
/* CAMERA DATA ELEMENTS */
DETECTOR_TEMPERATURE = 18.7783
FOCAL_PLANE_TEMPERATURE = 9.3989
INST_CMPRS_NAME = "DISCRETE COSINE TRANSFORMATION (DCT)"
INST_CMPRS_RATIO = 11.0466
INST_CMPRS_QUALITY = 0
INST_CMPRS_QUANTZ_TBL_ID = 0
INSTRUMENT_TEMPERATURE = 11.8457
LENS_TEMPERATURE = 9.3989
MACROPIXEL_SIZE = 2
MISSING_FRAMES = 0
PIXEL_SUBSAMPLING_FLAG = N
SIGNAL_CHAIN_ID = 0
/* RADIOMETRIC DATA ELEMENTS */
BANDWIDTH = 177.0
CENTER_FILTER_WAVELENGTH = 677.5
RADIANCE_OFFSET = 0.0
RADIANCE_SCALING_FACTOR = 0.0529931
REFLECTANCE_SCALING_FACTOR = 0.00151313
MEX:REFLECTANCE_OFFSET = 0.0
/* IMAGE OBJECT DEFINITIONS */
OBJECT = IMAGE
  INTERCHANGE_FORMAT = BINARY
  LINES = 1063
  LINE_SAMPLES = 2014
  SAMPLE_TYPE = UNSIGNED_INTEGER
  SAMPLE_BITS = 8
  BANDS = 1
  BAND_STORAGE_TYPE = BAND_SEQUENTIAL
  MAXIMUM = 204
  MEAN = 99.3707
  MINIMUM = 27
  STANDARD_DEVIATION = 41.081
END_OBJECT = IMAGE
/* MAP OBJECT DEFINITIONS */
OBJECT = IMAGE_MAP_PROJECTION
  ^DATA_SET_MAP_PROJECTION_CATALOG= "DSMAP.CAT"
  A_AXIS_RADIUS = 3396.0
  B_AXIS_RADIUS = 3396.0
  C_AXIS_RADIUS = 3396.0
  CENTER_LATITUDE = 24.2631
  CENTER_LONGITUDE = 140.774
  COORDINATE_SYSTEM_NAME = PLANETOGRAPHIC
  COORDINATE_SYSTEM_TYPE = "BODY-FIXED ROTATING"
  EASTERNMOST_LONGITUDE = 184.004
  FIRST_STANDARD_PARALLEL = "N/A"
  LINE_FIRST_PIXEL = 1
  LINE_LAST_PIXEL = 1063
  LINE_PROJECTION_OFFSET = 630.0
  MAP_PROJECTION_ROTATION = 0.0
  MAP_PROJECTION_TYPE = ORTHOGRAPHIC
  MAP_RESOLUTION = 74.08922548333329
  MAP_SCALE = 0.8
  MAXIMUM_LATITUDE = 37.078
  MINIMUM_LATITUDE = 17.6738
  POSITIVE_LONGITUDE_DIRECTION = EAST
  REFERENCE_LATITUDE = "N/A"
  REFERENCE_LONGITUDE = "N/A"
  SAMPLE_FIRST_PIXEL = 1
  SAMPLE_LAST_PIXEL = 2014
  SAMPLE_PROJECTION_OFFSET = 1310.0
  SECOND_STANDARD_PARALLEL = "N/A"
  WESTERNMOST_LONGITUDE = 121.863
END_OBJECT = IMAGE_MAP_PROJECTION
END
