PDS_VERSION_ID = PDS3
/* FILE DATA ELEMENTS */
RECORD_TYPE = UNDEFINED
/* POINTERS TO DATA OBJECTS */
^IMAGE = ("HN955_0000_RE4.TIF")
/* IDENTIFICATION DATA ELEMENTS */
DATA_SET_ID = "MEX-M-HRSC-4-REFDR-MAPPROJECT-EXT8-V4.0"
DATA_SET_NAME = "MARS EXPRESS HRSC MAP PROJECTED REFDR EXTENSION8 V4.0"
DETECTOR_ID = MEX_HRSC_RED
EVENT_TYPE = "MARS-TERMINATOR-CALIBRATION-Tc"
INSTRUMENT_HOST_ID = MEX
INSTRUMENT_HOST_NAME = "MARS EXPRESS"
INSTRUMENT_ID = HRSC
INSTRUMENT_NAME = "HIGH RESOLUTION STEREO CAMERA"
MISSION_NAME = "MARS EXPRESS"
MISSION_PHASE_NAME = ME_Phase_47
PROCESSING_LEVEL_ID = 4
PRODUCT_CREATION_TIME = 2023-02-07T06:07:28.000Z
PRODUCT_ID = "HN955_0000_RE4.TIF"
RELEASE_ID = 0005
REVISION_ID = 0000
/* QUALITY DATA ELEMENTS */
DATA_QUALITY_ID = 1
DATA_QUALITY_DESC = "Data calculated based on original SPICE kernels"
/* TIME DATA ELEMENTS */
SPACECRAFT_CLOCK_START_COUNT = "1/0619573920.25107"
SPACECRAFT_CLOCK_STOP_COUNT = "1/0619574215.40425"
START_TIME = 2022-12-19T23:56:21.001Z
STOP_TIME = 2022-12-19T23:57:10.432Z
/* ORBITAL DATA ELEMENTS */
ASCENDING_NODE_LONGITUDE = 128.31
MAXIMUM_RESOLUTION = 0.8441
FOOTPRINT_POINT_LATITUDE = (6.47553,6.41078,6.34949,6.29186, 6.23793,6.18738,6.14009,6.09618,6.05561 ,6.01834,5.9843,5.95372,5.92655,5.90278 ,5.88221,5.8653,5.85227,5.84319,5.83813 ,5.83739,5.84134,5.85017,5.86444, 5.88438,5.91062,5.9631,5.97344,5.97535, 7.99816,10.0572,12.1599,14.3165,16.5367 ,17.6747,18.8343,20.0154,21.2239, 22.4633,24.7167,26.058,27.1186,28.5669, 30.0754,31.6573,33.3446,35.1602,36.1296 ,37.1507,38.8133,39.4112,39.4791,38.964 ,38.5015,38.0967,37.7553,37.4666, 37.2161,36.9816,36.7795,36.4187,36.1307 ,35.8941,35.693,35.5257,35.3814,35.2613 ,35.1621,35.0677,35.0296,34.9797, 34.9585,34.9549,34.9417,35.0452,35.0935 ,35.1585,35.2387,35.3341,35.5449, 35.5797,35.5711,33.3328,31.9102,30.5358 ,29.2044,27.9117,26.6536,25.4273, 24.2296,23.0575,20.7828,18.5872,16.4591 ,14.3882,12.3657,10.3836,8.67811,6.7552 ,6.51657,6.47553)
FOOTPRINT_POINT_LONGITUDE = (207.371,208.759,210.14,211.516,212.89, 214.261,215.632,217.004,218.382,219.765 ,221.155,222.554,223.963,225.384, 226.817,228.267,229.736,231.226,232.739 ,234.28,235.852,237.46,239.107,240.8, 242.544,245.274,245.744,245.839,246.169 ,246.578,247.071,247.664,248.369,248.77 ,249.209,249.686,250.211,250.793, 251.968,252.742,253.426,254.414,255.531 ,256.817,258.351,260.211,261.309, 262.556,264.823,265.721,265.825,263.093 ,260.628,258.42,256.438,254.633,252.957 ,251.364,249.867,247.055,244.463, 242.034,239.727,237.519,235.388,233.324 ,231.317,229.348,227.437,224.151, 222.301,220.469,218.649,216.849,215.044 ,213.237,211.424,209.601,206.372, 205.905,205.74,206.013,206.169,206.31, 206.435,206.548,206.649,206.741,206.823 ,206.897,207.024,207.127,207.207, 207.269,207.314,207.343,207.357,207.36, 207.36,207.371)
ORBIT_NUMBER = 23955
ORBITAL_ECCENTRICITY = 0.575
ORBITAL_INCLINATION = 87.04
ORBITAL_SEMIMAJOR_AXIS = 8854.38
PERIAPSIS_ALTITUDE = 366.1
PERIAPSIS_ARGUMENT_ANGLE = 176.93
PERIAPSIS_TIME = 2022-12-19T20:25:50.000Z
SPACECRAFT_ORIENTATION = (0.0,-1.0,0.0)
^MEX_ORIENTATION_DESC = "MEX_ORIENTATION_DESC.TXT"
SPACECRAFT_POINTING_MODE = FIXED
^MEX_POINTING_DESC = "MEX_POINTING_DESC.TXT"
RIGHT_ASCENSION = -1e+32
DECLINATION = -1e+32
OFFSET_ANGLE = -1e+32
SPACECRAFT_SOLAR_DISTANCE = 2.31757e+08
TARGET_NAME = MARS
/* CAMERA DATA ELEMENTS */
DETECTOR_TEMPERATURE = 18.9822
FOCAL_PLANE_TEMPERATURE = 8.9911
INST_CMPRS_NAME = "DISCRETE COSINE TRANSFORMATION (DCT)"
INST_CMPRS_RATIO = 14.7773
INST_CMPRS_QUALITY = 0
INST_CMPRS_QUANTZ_TBL_ID = 0
INSTRUMENT_TEMPERATURE = 11.234
LENS_TEMPERATURE = 9.3989
MACROPIXEL_SIZE = 2
MISSING_FRAMES = 0
PIXEL_SUBSAMPLING_FLAG = N
SIGNAL_CHAIN_ID = 1
/* RADIOMETRIC DATA ELEMENTS */
BANDWIDTH = 48.0
CENTER_FILTER_WAVELENGTH = 748.0
RADIANCE_OFFSET = 0.0
RADIANCE_SCALING_FACTOR = 0.0032084
REFLECTANCE_SCALING_FACTOR = 0.000393353
MEX:REFLECTANCE_OFFSET = 0.0
/* IMAGE OBJECT DEFINITIONS */
OBJECT = IMAGE
  INTERCHANGE_FORMAT = BINARY
  LINES = 2775
  LINE_SAMPLES = 3610
  SAMPLE_TYPE = UNSIGNED_INTEGER
  SAMPLE_BITS = 8
  BANDS = 1
  BAND_STORAGE_TYPE = BAND_SEQUENTIAL
  MAXIMUM = 255
  MEAN = 168.017
  MINIMUM = 1
  STANDARD_DEVIATION = 102.664
END_OBJECT = IMAGE
/* MAP OBJECT DEFINITIONS */
OBJECT = IMAGE_MAP_PROJECTION
  ^DATA_SET_MAP_PROJECTION_CATALOG= "DSMAP.CAT"
  A_AXIS_RADIUS = 3396.0
  B_AXIS_RADIUS = 3396.0
  C_AXIS_RADIUS = 3396.0
  CENTER_LATITUDE = 18.4201
  CENTER_LONGITUDE = 226.603
  COORDINATE_SYSTEM_NAME = PLANETOGRAPHIC
  COORDINATE_SYSTEM_TYPE = "BODY-FIXED ROTATING"
  EASTERNMOST_LONGITUDE = 265.825
  FIRST_STANDARD_PARALLEL = "N/A"
  LINE_FIRST_PIXEL = 1
  LINE_LAST_PIXEL = 2775
  LINE_PROJECTION_OFFSET = 1834.0
  MAP_PROJECTION_ROTATION = 0.0
  MAP_PROJECTION_TYPE = ORTHOGRAPHIC
  MAP_RESOLUTION = 74.08922548333329
  MAP_SCALE = 0.8
  MAXIMUM_LATITUDE = 39.4791
  MINIMUM_LATITUDE = 5.83739
  POSITIVE_LONGITUDE_DIRECTION = EAST
  REFERENCE_LATITUDE = "N/A"
  REFERENCE_LONGITUDE = "N/A"
  SAMPLE_FIRST_PIXEL = 1
  SAMPLE_LAST_PIXEL = 3610
  SAMPLE_PROJECTION_OFFSET = 1417.0
  SECOND_STANDARD_PARALLEL = "N/A"
  WESTERNMOST_LONGITUDE = 205.74
END_OBJECT = IMAGE_MAP_PROJECTION
END
