PDS_VERSION_ID = PDS3
/* FILE DATA ELEMENTS */
RECORD_TYPE = UNDEFINED
/* POINTERS TO DATA OBJECTS */
^IMAGE = ("HN955_0000_P14.TIF")
/* IDENTIFICATION DATA ELEMENTS */
DATA_SET_ID = "MEX-M-HRSC-4-REFDR-MAPPROJECT-EXT8-V4.0"
DATA_SET_NAME = "MARS EXPRESS HRSC MAP PROJECTED REFDR EXTENSION8 V4.0"
DETECTOR_ID = MEX_HRSC_P1
EVENT_TYPE = "MARS-TERMINATOR-CALIBRATION-Tc"
INSTRUMENT_HOST_ID = MEX
INSTRUMENT_HOST_NAME = "MARS EXPRESS"
INSTRUMENT_ID = HRSC
INSTRUMENT_NAME = "HIGH RESOLUTION STEREO CAMERA"
MISSION_NAME = "MARS EXPRESS"
MISSION_PHASE_NAME = ME_Phase_47
PROCESSING_LEVEL_ID = 4
PRODUCT_CREATION_TIME = 2023-02-07T06:07:28.000Z
PRODUCT_ID = "HN955_0000_P14.TIF"
RELEASE_ID = 0005
REVISION_ID = 0000
/* QUALITY DATA ELEMENTS */
DATA_QUALITY_ID = 1
DATA_QUALITY_DESC = "Data calculated based on original SPICE kernels"
/* TIME DATA ELEMENTS */
SPACECRAFT_CLOCK_START_COUNT = "1/0619573920.25107"
SPACECRAFT_CLOCK_STOP_COUNT = "1/0619574215.40425"
START_TIME = 2022-12-19T23:53:16.276Z
STOP_TIME = 2022-12-19T23:54:05.249Z
/* ORBITAL DATA ELEMENTS */
ASCENDING_NODE_LONGITUDE = 128.31
MAXIMUM_RESOLUTION = 1.6903
FOOTPRINT_POINT_LATITUDE = (6.46283,6.35062,6.29193,6.23716, 6.18626,6.10621,6.06544,6.02815,5.99465 ,5.96515,5.93946,5.91742,5.8996,5.886, 5.87672,5.87163,5.87111,5.87532,5.88453 ,5.89902,5.91903,5.94516,5.97776, 6.01716,6.06421,6.11961,6.13487,6.14829 ,7.93629,10.0091,12.1341,14.3153, 16.5669,18.9026,20.104,21.3376,22.9311, 25.2545,27.0347,28.5172,30.0651,31.6993 ,33.4574,35.3559,36.3815,37.4735, 38.6472,39.9399,40.649,40.7245,40.3803, 39.7502,39.2197,38.7504,38.3488,38.0166 ,37.7349,37.4692,37.0082,36.6447, 36.3451,36.1022,35.8844,35.7081,35.5541 ,35.4249,35.3173,35.2228,35.1683, 35.1346,35.1089,35.0922,35.0878,35.0931 ,35.1891,35.2413,35.311,35.3977,35.4998 ,35.7249,35.7624,35.7304,33.8021,32.328 ,30.9098,29.5385,28.2097,26.9201, 25.6643,23.2443,20.9277,18.6971,16.5392 ,14.443,12.3992,10.3994,8.68081,6.74533 ,6.50531,6.46283)
FOOTPRINT_POINT_LONGITUDE = (207.713,210.078,211.422,212.762, 214.099,216.439,217.778,219.121,220.47, 221.826,223.19,224.562,225.945,227.342, 228.754,230.184,231.633,233.104,234.6, 236.125,237.684,239.28,240.916,242.598, 244.332,246.126,246.585,246.642,246.953 ,247.359,247.866,248.47,249.194,250.059 ,250.549,251.095,251.867,253.118, 254.235,255.247,256.398,257.739,259.362 ,261.342,262.533,263.911,265.533, 267.528,268.732,268.861,267.264,264.276 ,261.714,259.427,257.381,255.542, 253.854,252.248,249.282,246.594,244.098 ,241.757,239.516,237.375,235.304, 233.295,231.338,229.423,227.555,225.715 ,223.894,222.09,220.303,218.526,216.762 ,214.994,213.222,211.444,209.655,206.48 ,206.021,205.874,206.133,206.315, 206.475,206.619,206.748,206.864,206.969 ,207.148,207.293,207.411,207.505, 207.578,207.633,207.671,207.691,207.701 ,207.701,207.713)
ORBIT_NUMBER = 23955
ORBITAL_ECCENTRICITY = 0.575
ORBITAL_INCLINATION = 87.04
ORBITAL_SEMIMAJOR_AXIS = 8854.38
PERIAPSIS_ALTITUDE = 366.1
PERIAPSIS_ARGUMENT_ANGLE = 176.93
PERIAPSIS_TIME = 2022-12-19T20:25:50.000Z
SPACECRAFT_ORIENTATION = (0.0,-1.0,0.0)
^MEX_ORIENTATION_DESC = "MEX_ORIENTATION_DESC.TXT"
SPACECRAFT_POINTING_MODE = FIXED
^MEX_POINTING_DESC = "MEX_POINTING_DESC.TXT"
RIGHT_ASCENSION = -1e+32
DECLINATION = -1e+32
OFFSET_ANGLE = -1e+32
SPACECRAFT_SOLAR_DISTANCE = 2.31757e+08
TARGET_NAME = MARS
/* CAMERA DATA ELEMENTS */
DETECTOR_TEMPERATURE = 17.9627
FOCAL_PLANE_TEMPERATURE = 8.9911
INST_CMPRS_NAME = "DISCRETE COSINE TRANSFORMATION (DCT)"
INST_CMPRS_RATIO = 16.4329
INST_CMPRS_QUALITY = 0
INST_CMPRS_QUANTZ_TBL_ID = 0
INSTRUMENT_TEMPERATURE = 11.234
LENS_TEMPERATURE = 9.3989
MACROPIXEL_SIZE = 4
MISSING_FRAMES = 0
PIXEL_SUBSAMPLING_FLAG = N
SIGNAL_CHAIN_ID = 3
/* RADIOMETRIC DATA ELEMENTS */
BANDWIDTH = 174.0
CENTER_FILTER_WAVELENGTH = 675.0
RADIANCE_OFFSET = 0.0
RADIANCE_SCALING_FACTOR = 0.0144709
REFLECTANCE_SCALING_FACTOR = 0.000418165
MEX:REFLECTANCE_OFFSET = 0.0
/* IMAGE OBJECT DEFINITIONS */
OBJECT = IMAGE
  INTERCHANGE_FORMAT = BINARY
  LINES = 1388
  LINE_SAMPLES = 1805
  SAMPLE_TYPE = UNSIGNED_INTEGER
  SAMPLE_BITS = 8
  BANDS = 1
  BAND_STORAGE_TYPE = BAND_SEQUENTIAL
  MAXIMUM = 255
  MEAN = 183.345
  MINIMUM = 1
  STANDARD_DEVIATION = 93.6814
END_OBJECT = IMAGE
/* MAP OBJECT DEFINITIONS */
OBJECT = IMAGE_MAP_PROJECTION
  ^DATA_SET_MAP_PROJECTION_CATALOG= "DSMAP.CAT"
  A_AXIS_RADIUS = 3396.0
  B_AXIS_RADIUS = 3396.0
  C_AXIS_RADIUS = 3396.0
  CENTER_LATITUDE = 18.4201
  CENTER_LONGITUDE = 226.603
  COORDINATE_SYSTEM_NAME = PLANETOGRAPHIC
  COORDINATE_SYSTEM_TYPE = "BODY-FIXED ROTATING"
  EASTERNMOST_LONGITUDE = 268.861
  FIRST_STANDARD_PARALLEL = "N/A"
  LINE_FIRST_PIXEL = 1
  LINE_LAST_PIXEL = 1388
  LINE_PROJECTION_OFFSET = 916.75
  MAP_PROJECTION_ROTATION = 0.0
  MAP_PROJECTION_TYPE = ORTHOGRAPHIC
  MAP_RESOLUTION = 37.0446127416667
  MAP_SCALE = 1.6
  MAXIMUM_LATITUDE = 40.7245
  MINIMUM_LATITUDE = 5.87111
  POSITIVE_LONGITUDE_DIRECTION = EAST
  REFERENCE_LATITUDE = "N/A"
  REFERENCE_LONGITUDE = "N/A"
  SAMPLE_FIRST_PIXEL = 1
  SAMPLE_LAST_PIXEL = 1805
  SAMPLE_PROJECTION_OFFSET = 708.25
  SECOND_STANDARD_PARALLEL = "N/A"
  WESTERNMOST_LONGITUDE = 205.874
END_OBJECT = IMAGE_MAP_PROJECTION
END
