PDS_VERSION_ID = PDS3
/* FILE DATA ELEMENTS */
RECORD_TYPE = UNDEFINED
/* POINTERS TO DATA OBJECTS */
^IMAGE = ("HN955_0000_IR4.TIF")
/* IDENTIFICATION DATA ELEMENTS */
DATA_SET_ID = "MEX-M-HRSC-4-REFDR-MAPPROJECT-EXT8-V4.0"
DATA_SET_NAME = "MARS EXPRESS HRSC MAP PROJECTED REFDR EXTENSION8 V4.0"
DETECTOR_ID = MEX_HRSC_IR
EVENT_TYPE = "MARS-TERMINATOR-CALIBRATION-Tc"
INSTRUMENT_HOST_ID = MEX
INSTRUMENT_HOST_NAME = "MARS EXPRESS"
INSTRUMENT_ID = HRSC
INSTRUMENT_NAME = "HIGH RESOLUTION STEREO CAMERA"
MISSION_NAME = "MARS EXPRESS"
MISSION_PHASE_NAME = ME_Phase_47
PROCESSING_LEVEL_ID = 4
PRODUCT_CREATION_TIME = 2023-02-07T06:07:28.000Z
PRODUCT_ID = "HN955_0000_IR4.TIF"
RELEASE_ID = 0005
REVISION_ID = 0000
/* QUALITY DATA ELEMENTS */
DATA_QUALITY_ID = 1
DATA_QUALITY_DESC = "Data calculated based on original SPICE kernels"
/* TIME DATA ELEMENTS */
SPACECRAFT_CLOCK_START_COUNT = "1/0619573920.25107"
SPACECRAFT_CLOCK_STOP_COUNT = "1/0619574215.40425"
START_TIME = 2022-12-19T23:52:55.001Z
STOP_TIME = 2022-12-19T23:53:44.431Z
/* ORBITAL DATA ELEMENTS */
ASCENDING_NODE_LONGITUDE = 128.31
MAXIMUM_RESOLUTION = 0.8458
FOOTPRINT_POINT_LATITUDE = (6.02249,5.92422,5.86388,5.80757, 5.75524,5.70671,5.66206,5.62119,5.58419 ,5.5511,5.52206,5.49732,5.47686,5.4605, 5.44835,5.44102,5.43861,5.44083,5.448, 5.46062,5.47914,5.50396,5.53536,5.574, 5.62036,5.67548,5.69068,5.69218,7.98393 ,9.53709,11.6514,13.8208,16.0568, 17.2045,18.3745,19.567,20.786,22.0432, 24.3266,25.6863,27.1236,28.6143,30.17, 31.8136,33.5779,34.517,35.4972,36.5312, 37.6336,39.4583,40.1341,40.2125,39.5581 ,39.0091,38.5268,38.1136,37.7683, 37.4677,37.2015,36.7384,36.3615,36.0572 ,35.8059,35.5932,35.4118,35.2576, 35.1295,35.0247,34.9278,34.8886,34.8373 ,34.8212,34.8196,34.8165,34.9252, 34.9826,35.0579,35.1492,35.2595,35.4247 ,35.4613,35.4531,33.5345,32.0679, 30.6556,29.2896,27.9661,26.6804,25.4286 ,23.0114,20.7042,18.4785,16.3247, 14.2319,12.1908,10.1939,8.23373,6.30348 ,6.06411,6.02249)
FOOTPRINT_POINT_LONGITUDE = (208.043,210.122,211.501,212.876, 214.248,215.62,216.993,218.37,219.751, 221.138,222.533,223.937,225.352,226.779 ,228.222,229.682,231.161,232.663,234.19 ,235.747,237.336,238.964,240.633, 242.349,244.12,245.952,246.421,246.514, 246.892,247.193,247.676,248.255,248.946 ,249.341,249.773,250.243,250.759,251.34 ,252.506,253.273,254.182,255.2,256.355, 257.702,259.325,260.274,261.331,262.532 ,263.924,266.525,267.603,267.733, 264.661,262.011,259.658,257.556,255.664 ,253.918,252.285,249.267,246.518, 243.975,241.585,239.309,237.125,235.016 ,232.971,230.979,229.025,227.125, 223.852,222.008,220.179,218.361,216.556 ,214.745,212.932,211.11,209.275,206.955 ,206.486,206.32,206.565,206.735,206.887 ,207.023,207.145,207.254,207.352, 207.522,207.658,207.768,207.856,207.924 ,207.974,208.007,208.026,208.031, 208.031,208.043)
ORBIT_NUMBER = 23955
ORBITAL_ECCENTRICITY = 0.575
ORBITAL_INCLINATION = 87.04
ORBITAL_SEMIMAJOR_AXIS = 8854.38
PERIAPSIS_ALTITUDE = 366.1
PERIAPSIS_ARGUMENT_ANGLE = 176.93
PERIAPSIS_TIME = 2022-12-19T20:25:50.000Z
SPACECRAFT_ORIENTATION = (0.0,-1.0,0.0)
^MEX_ORIENTATION_DESC = "MEX_ORIENTATION_DESC.TXT"
SPACECRAFT_POINTING_MODE = FIXED
^MEX_POINTING_DESC = "MEX_POINTING_DESC.TXT"
RIGHT_ASCENSION = -1e+32
DECLINATION = -1e+32
OFFSET_ANGLE = -1e+32
SPACECRAFT_SOLAR_DISTANCE = 2.31757e+08
TARGET_NAME = MARS
/* CAMERA DATA ELEMENTS */
DETECTOR_TEMPERATURE = 17.9627
FOCAL_PLANE_TEMPERATURE = 8.9911
INST_CMPRS_NAME = "DISCRETE COSINE TRANSFORMATION (DCT)"
INST_CMPRS_RATIO = 8.29159
INST_CMPRS_QUALITY = 0
INST_CMPRS_QUANTZ_TBL_ID = 0
INSTRUMENT_TEMPERATURE = 11.234
LENS_TEMPERATURE = 9.3989
MACROPIXEL_SIZE = 2
MISSING_FRAMES = 0
PIXEL_SUBSAMPLING_FLAG = N
SIGNAL_CHAIN_ID = 1
/* RADIOMETRIC DATA ELEMENTS */
BANDWIDTH = 81.0
CENTER_FILTER_WAVELENGTH = 955.5
RADIANCE_OFFSET = 0.0
RADIANCE_SCALING_FACTOR = 0.0025826
REFLECTANCE_SCALING_FACTOR = 0.000299333
MEX:REFLECTANCE_OFFSET = 0.0
/* IMAGE OBJECT DEFINITIONS */
OBJECT = IMAGE
  INTERCHANGE_FORMAT = BINARY
  LINES = 2775
  LINE_SAMPLES = 3610
  SAMPLE_TYPE = UNSIGNED_INTEGER
  SAMPLE_BITS = 8
  BANDS = 1
  BAND_STORAGE_TYPE = BAND_SEQUENTIAL
  MAXIMUM = 255
  MEAN = 173.056
  MINIMUM = 1
  STANDARD_DEVIATION = 102.539
END_OBJECT = IMAGE
/* MAP OBJECT DEFINITIONS */
OBJECT = IMAGE_MAP_PROJECTION
  ^DATA_SET_MAP_PROJECTION_CATALOG= "DSMAP.CAT"
  A_AXIS_RADIUS = 3396.0
  B_AXIS_RADIUS = 3396.0
  C_AXIS_RADIUS = 3396.0
  CENTER_LATITUDE = 18.4201
  CENTER_LONGITUDE = 226.603
  COORDINATE_SYSTEM_NAME = PLANETOGRAPHIC
  COORDINATE_SYSTEM_TYPE = "BODY-FIXED ROTATING"
  EASTERNMOST_LONGITUDE = 267.733
  FIRST_STANDARD_PARALLEL = "N/A"
  LINE_FIRST_PIXEL = 1
  LINE_LAST_PIXEL = 2775
  LINE_PROJECTION_OFFSET = 1834.0
  MAP_PROJECTION_ROTATION = 0.0
  MAP_PROJECTION_TYPE = ORTHOGRAPHIC
  MAP_RESOLUTION = 74.08922548333329
  MAP_SCALE = 0.8
  MAXIMUM_LATITUDE = 40.2125
  MINIMUM_LATITUDE = 5.43861
  POSITIVE_LONGITUDE_DIRECTION = EAST
  REFERENCE_LATITUDE = "N/A"
  REFERENCE_LONGITUDE = "N/A"
  SAMPLE_FIRST_PIXEL = 1
  SAMPLE_LAST_PIXEL = 3610
  SAMPLE_PROJECTION_OFFSET = 1417.0
  SECOND_STANDARD_PARALLEL = "N/A"
  WESTERNMOST_LONGITUDE = 206.32
END_OBJECT = IMAGE_MAP_PROJECTION
END
