PDS_VERSION_ID = PDS3
/* FILE DATA ELEMENTS */
RECORD_TYPE = UNDEFINED
/* POINTERS TO DATA OBJECTS */
^IMAGE = ("HN924_0000_IR4.TIF")
/* IDENTIFICATION DATA ELEMENTS */
DATA_SET_ID = "MEX-M-HRSC-4-REFDR-MAPPROJECT-EXT8-V4.0"
DATA_SET_NAME = "MARS EXPRESS HRSC MAP PROJECTED REFDR EXTENSION8 V4.0"
DETECTOR_ID = MEX_HRSC_IR
EVENT_TYPE = "MARS-TERMINATOR-CALIBRATION-Tc"
INSTRUMENT_HOST_ID = MEX
INSTRUMENT_HOST_NAME = "MARS EXPRESS"
INSTRUMENT_ID = HRSC
INSTRUMENT_NAME = "HIGH RESOLUTION STEREO CAMERA"
MISSION_NAME = "MARS EXPRESS"
MISSION_PHASE_NAME = ME_Phase_47
PROCESSING_LEVEL_ID = 4
PRODUCT_CREATION_TIME = 2023-02-07T06:07:28.000Z
PRODUCT_ID = "HN924_0000_IR4.TIF"
RELEASE_ID = 0005
REVISION_ID = 0000
/* QUALITY DATA ELEMENTS */
DATA_QUALITY_ID = 1
DATA_QUALITY_DESC = "Data calculated based on original SPICE kernels"
/* TIME DATA ELEMENTS */
SPACECRAFT_CLOCK_START_COUNT = "1/0618772925.24945"
SPACECRAFT_CLOCK_STOP_COUNT = "1/0618773210.29572"
START_TIME = 2022-12-10T17:22:41.060Z
STOP_TIME = 2022-12-10T17:24:00.276Z
/* ORBITAL DATA ELEMENTS */
ASCENDING_NODE_LONGITUDE = 128.87
MAXIMUM_RESOLUTION = 0.7778
FOOTPRINT_POINT_LATITUDE = (0.0178135,0.269945,0.385003,0.480434, 0.557508,0.616963,0.659546,0.685992, 0.696833,0.692501,0.673468,0.640315, 0.592897,0.53134,0.455896,0.263932, 0.0155379,-0.130074,-0.290199,-0.465174 ,-0.655566,-0.861789,-1.26247,-1.32407, -1.25343,1.44211,2.94296,4.42222, 5.88106,7.31955,8.74035,10.1485,11.5441 ,12.9295,14.3064,15.6767,17.0421, 18.4045,19.7655,21.1268,22.4902,23.8572 ,25.2295,26.6093,27.9985,29.3992, 30.8125,32.2408,34.7819,35.1487,35.1855 ,35.4036,35.7135,35.9089,36.0951, 36.2717,36.4404,36.7462,37.0981,37.2914 ,37.3897,37.5028,37.5912,37.6718, 37.7321,37.7701,37.7967,37.8124,37.8153 ,37.8063,37.7583,37.7479,37.7245, 36.1806,34.6622,33.1662,31.6897,30.2301 ,28.7847,27.3519,25.9287,24.5133, 23.1042,21.3466,19.9426,18.5379,17.1308 ,15.719,14.3008,12.8738,11.4359,9.9845, 8.51706,7.03118,5.52436,3.9928,2.43142, 0.433673,0.0272603,0.0178135)
FOOTPRINT_POINT_LONGITUDE = (207.593,210.224,211.686,213.121, 214.533,215.924,217.299,218.657,220.003 ,221.336,222.66,223.974,225.281,226.582 ,227.879,230.465,233.051,234.348,235.65 ,236.959,238.275,239.601,241.948, 242.286,242.356,242.451,242.523,242.604 ,242.697,242.802,242.921,243.049,243.19 ,243.343,243.51,243.69,243.884,244.093, 244.318,244.559,244.819,245.098,245.397 ,245.719,246.068,246.444,246.849, 247.288,248.145,248.276,248.289,246.663 ,244.221,242.606,240.998,239.394, 237.794,234.595,230.177,227.341,225.706 ,223.645,221.565,219.457,217.743, 216.017,214.269,212.495,210.694,208.859 ,205.558,205.076,204.909,205.411, 205.857,206.252,206.604,206.915,207.192 ,207.433,207.646,207.83,207.983,208.152 ,208.257,208.34,208.402,208.443,208.464 ,208.464,208.443,208.401,208.338, 208.253,208.145,208.014,207.855,207.617 ,207.564,207.593)
ORBIT_NUMBER = 23924
ORBITAL_ECCENTRICITY = 0.575
ORBITAL_INCLINATION = 87.02
ORBITAL_SEMIMAJOR_AXIS = 8850.73
PERIAPSIS_ALTITUDE = 364.25
PERIAPSIS_ARGUMENT_ANGLE = 182.27
PERIAPSIS_TIME = 2022-12-10T19:55:14.000Z
SPACECRAFT_ORIENTATION = (0.0,-1.0,0.0)
^MEX_ORIENTATION_DESC = "MEX_ORIENTATION_DESC.TXT"
SPACECRAFT_POINTING_MODE = FIXED
^MEX_POINTING_DESC = "MEX_POINTING_DESC.TXT"
RIGHT_ASCENSION = -1e+32
DECLINATION = -1e+32
OFFSET_ANGLE = -1e+32
SPACECRAFT_SOLAR_DISTANCE = 2.3004e+08
TARGET_NAME = MARS
/* CAMERA DATA ELEMENTS */
DETECTOR_TEMPERATURE = 17.5549
FOCAL_PLANE_TEMPERATURE = 7.9716
INST_CMPRS_NAME = "DISCRETE COSINE TRANSFORMATION (DCT)"
INST_CMPRS_RATIO = 6.21426
INST_CMPRS_QUALITY = 0
INST_CMPRS_QUANTZ_TBL_ID = 0
INSTRUMENT_TEMPERATURE = 11.0301
LENS_TEMPERATURE = 8.5833
MACROPIXEL_SIZE = 2
MISSING_FRAMES = 0
PIXEL_SUBSAMPLING_FLAG = N
SIGNAL_CHAIN_ID = 1
/* RADIOMETRIC DATA ELEMENTS */
BANDWIDTH = 81.0
CENTER_FILTER_WAVELENGTH = 955.5
RADIANCE_OFFSET = 0.0
RADIANCE_SCALING_FACTOR = 0.00174843
REFLECTANCE_SCALING_FACTOR = 0.000199574
MEX:REFLECTANCE_OFFSET = 0.0
/* IMAGE OBJECT DEFINITIONS */
OBJECT = IMAGE
  INTERCHANGE_FORMAT = BINARY
  LINES = 2851
  LINE_SAMPLES = 2752
  SAMPLE_TYPE = UNSIGNED_INTEGER
  SAMPLE_BITS = 8
  BANDS = 1
  BAND_STORAGE_TYPE = BAND_SEQUENTIAL
  MAXIMUM = 255
  MEAN = 102.193
  MINIMUM = 1
  STANDARD_DEVIATION = 108.731
END_OBJECT = IMAGE
/* MAP OBJECT DEFINITIONS */
OBJECT = IMAGE_MAP_PROJECTION
  ^DATA_SET_MAP_PROJECTION_CATALOG= "DSMAP.CAT"
  A_AXIS_RADIUS = 3396.0
  B_AXIS_RADIUS = 3396.0
  C_AXIS_RADIUS = 3396.0
  CENTER_LATITUDE = 18.9584
  CENTER_LONGITUDE = 226.189
  COORDINATE_SYSTEM_NAME = PLANETOGRAPHIC
  COORDINATE_SYSTEM_TYPE = "BODY-FIXED ROTATING"
  EASTERNMOST_LONGITUDE = 248.289
  FIRST_STANDARD_PARALLEL = "N/A"
  LINE_FIRST_PIXEL = 1
  LINE_LAST_PIXEL = 2851
  LINE_PROJECTION_OFFSET = 1422.0
  MAP_PROJECTION_ROTATION = 0.0
  MAP_PROJECTION_TYPE = ORTHOGRAPHIC
  MAP_RESOLUTION = 74.08922548333329
  MAP_SCALE = 0.8
  MAXIMUM_LATITUDE = 37.8153
  MINIMUM_LATITUDE = -1.32407
  POSITIVE_LONGITUDE_DIRECTION = EAST
  REFERENCE_LATITUDE = "N/A"
  REFERENCE_LONGITUDE = "N/A"
  SAMPLE_FIRST_PIXEL = 1
  SAMPLE_LAST_PIXEL = 2752
  SAMPLE_PROJECTION_OFFSET = 1435.0
  SECOND_STANDARD_PARALLEL = "N/A"
  WESTERNMOST_LONGITUDE = 204.909
END_OBJECT = IMAGE_MAP_PROJECTION
END
