PDS_VERSION_ID = PDS3
/* FILE DATA ELEMENTS */
RECORD_TYPE = UNDEFINED
/* POINTERS TO DATA OBJECTS */
^IMAGE = ("HN800_0000_GR4.TIF")
/* IDENTIFICATION DATA ELEMENTS */
DATA_SET_ID = "MEX-M-HRSC-4-REFDR-MAPPROJECT-EXT8-V4.0"
DATA_SET_NAME = "MARS EXPRESS HRSC MAP PROJECTED REFDR EXTENSION8 V4.0"
DETECTOR_ID = MEX_HRSC_GREEN
EVENT_TYPE = "MARS-TERMINATOR-CALIBRATION-Tc"
INSTRUMENT_HOST_ID = MEX
INSTRUMENT_HOST_NAME = "MARS EXPRESS"
INSTRUMENT_ID = HRSC
INSTRUMENT_NAME = "HIGH RESOLUTION STEREO CAMERA"
MISSION_NAME = "MARS EXPRESS"
MISSION_PHASE_NAME = ME_Phase_47
PROCESSING_LEVEL_ID = 4
PRODUCT_CREATION_TIME = 2023-02-07T06:07:28.000Z
PRODUCT_ID = "HN800_0000_GR4.TIF"
RELEASE_ID = 0005
REVISION_ID = 0000
/* QUALITY DATA ELEMENTS */
DATA_QUALITY_ID = 1
DATA_QUALITY_DESC = "Data calculated based on original SPICE kernels"
/* TIME DATA ELEMENTS */
SPACECRAFT_CLOCK_START_COUNT = "1/0615657294.23947"
SPACECRAFT_CLOCK_STOP_COUNT = "1/0615657726.08152"
START_TIME = 2022-11-04T15:56:50.011Z
STOP_TIME = 2022-11-04T16:00:35.803Z
/* ORBITAL DATA ELEMENTS */
ASCENDING_NODE_LONGITUDE = 131.08
MAXIMUM_RESOLUTION = 0.6619
FOOTPRINT_POINT_LATITUDE = (-15.5712,-15.7225,-15.9853,-16.5954, -16.6007,-17.557,-18.6923,-14.565, -8.68505,-5.86546,-0.774592,2.25344, 6.37501,10.1878,14.5276,18.2924,21.6563 ,26.516,29.547,31.9368,34.1866,37.0451, 39.3389,41.4081,44.1111,46.0939,48.2059 ,50.402,53.3371,54.6787,55.8727,56.887, 57.6785,58.1915,58.3499,57.8466,56.7177 ,54.6393,52.0986,49.5462,47.8708, 45.6085,42.2219,38.3268,40.8016,41.126, 43.9917,44.745,46.2611,48.0758,49.0937, 50.9562,52.336,52.9167,54.4207,57.1315, 62.0429,65.2488,69.9829,73.6603,76.7716 ,79.5105,81.9969,86.1552,88.8828, 87.4368,84.1116,79.3234,76.4409,73.6745 ,70.998,68.3922,64.1115,61.6195,59.1447 ,56.6763,54.2019,51.709,49.1844,45.3056 ,41.6173,38.4632,35.4971,32.3699, 29.0145,25.3516,21.2533,16.4812,13.695, 10.5304,6.71804,4.3642,1.11346,-4.11444 ,-7.95629,-10.3326,-12.8391,-12.9628, -15.5712)
FOOTPRINT_POINT_LONGITUDE = (261.018,260.987,264.513,269.872, 274.124,277.369,282.516,282.868,283.581 ,283.945,284.811,285.351,286.255,287.2, 288.432,289.662,290.91,293.019,294.563, 295.912,297.338,299.363,301.225,303.111 ,305.958,308.396,311.401,315.132, 321.606,325.488,329.802,334.595,339.913 ,345.787,352.242,1.58498,9.36591,17.756 ,24.5967,29.6895,32.4583,35.6567, 39.6396,43.5516,46.9759,50.3802,55.1749 ,59.836,65.0445,70.1837,73.856,81.8478, 87.1122,91.7301,96.3169,95.8162,94.9806 ,94.467,93.7688,93.3023,92.9921,92.8415 ,92.8825,94.2872,103.806,262.788, 265.642,265.956,265.77,265.473,265.124, 264.745,264.055,263.625,263.185,262.727 ,262.252,261.758,261.24,260.412,259.599 ,258.875,258.149,257.369,256.497, 255.503,254.333,252.884,251.989,250.933 ,249.588,248.709,247.476,245.211, 245.706,250.274,253.307,255.272, 261.018)
ORBIT_NUMBER = 23800
ORBITAL_ECCENTRICITY = 0.576
ORBITAL_INCLINATION = 87.04
ORBITAL_SEMIMAJOR_AXIS = 8837.93
PERIAPSIS_ALTITUDE = 354.83
PERIAPSIS_ARGUMENT_ANGLE = 203.53
PERIAPSIS_TIME = 2022-11-04T17:51:23.000Z
SPACECRAFT_ORIENTATION = (0.0,-1.0,0.0)
^MEX_ORIENTATION_DESC = "MEX_ORIENTATION_DESC.TXT"
SPACECRAFT_POINTING_MODE = FIXED
^MEX_POINTING_DESC = "MEX_POINTING_DESC.TXT"
RIGHT_ASCENSION = -1e+32
DECLINATION = -1e+32
OFFSET_ANGLE = -1e+32
SPACECRAFT_SOLAR_DISTANCE = 2.23012e+08
TARGET_NAME = MARS
/* CAMERA DATA ELEMENTS */
DETECTOR_TEMPERATURE = 17.9627
FOCAL_PLANE_TEMPERATURE = 8.5833
INST_CMPRS_NAME = "DISCRETE COSINE TRANSFORMATION (DCT)"
INST_CMPRS_RATIO = 14.2715
INST_CMPRS_QUALITY = 0
INST_CMPRS_QUANTZ_TBL_ID = 0
INSTRUMENT_TEMPERATURE = 11.234
LENS_TEMPERATURE = 8.7872
MACROPIXEL_SIZE = 2
MISSING_FRAMES = 0
PIXEL_SUBSAMPLING_FLAG = N
SIGNAL_CHAIN_ID = 2
/* RADIOMETRIC DATA ELEMENTS */
BANDWIDTH = 88.0
CENTER_FILTER_WAVELENGTH = 538.0
RADIANCE_OFFSET = 0.0
RADIANCE_SCALING_FACTOR = 0.00253789
REFLECTANCE_SCALING_FACTOR = 0.000108657
MEX:REFLECTANCE_OFFSET = 0.0
/* IMAGE OBJECT DEFINITIONS */
OBJECT = IMAGE
  INTERCHANGE_FORMAT = BINARY
  LINES = 8071
  LINE_SAMPLES = 6025
  SAMPLE_TYPE = UNSIGNED_INTEGER
  SAMPLE_BITS = 8
  BANDS = 1
  BAND_STORAGE_TYPE = BAND_SEQUENTIAL
  MAXIMUM = 255
  MEAN = 167.92
  MINIMUM = 1
  STANDARD_DEVIATION = 107.663
END_OBJECT = IMAGE
/* MAP OBJECT DEFINITIONS */
OBJECT = IMAGE_MAP_PROJECTION
  ^DATA_SET_MAP_PROJECTION_CATALOG= "DSMAP.CAT"
  A_AXIS_RADIUS = 3396.0
  B_AXIS_RADIUS = 3396.0
  C_AXIS_RADIUS = 3396.0
  CENTER_LATITUDE = 54.5551
  CENTER_LONGITUDE = 288.714
  COORDINATE_SYSTEM_NAME = PLANETOGRAPHIC
  COORDINATE_SYSTEM_TYPE = "BODY-FIXED ROTATING"
  EASTERNMOST_LONGITUDE = 360.0
  FIRST_STANDARD_PARALLEL = "N/A"
  LINE_FIRST_PIXEL = 1
  LINE_LAST_PIXEL = 8071
  LINE_PROJECTION_OFFSET = 4018.0
  MAP_PROJECTION_ROTATION = 0.0
  MAP_PROJECTION_TYPE = ORTHOGRAPHIC
  MAP_RESOLUTION = 74.08922548333329
  MAP_SCALE = 0.8
  MAXIMUM_LATITUDE = 90.0
  MINIMUM_LATITUDE = -18.6923
  POSITIVE_LONGITUDE_DIRECTION = EAST
  REFERENCE_LATITUDE = "N/A"
  REFERENCE_LONGITUDE = "N/A"
  SAMPLE_FIRST_PIXEL = 1
  SAMPLE_LAST_PIXEL = 6025
  SAMPLE_PROJECTION_OFFSET = 3001.0
  SECOND_STANDARD_PARALLEL = "N/A"
  WESTERNMOST_LONGITUDE = 0.0
END_OBJECT = IMAGE_MAP_PROJECTION
END
