PDS_VERSION_ID = PDS3
/* FILE DATA ELEMENTS */
RECORD_TYPE = UNDEFINED
/* POINTERS TO DATA OBJECTS */
^IMAGE = ("HN772_0000_P24.TIF")
/* IDENTIFICATION DATA ELEMENTS */
DATA_SET_ID = "MEX-M-HRSC-4-REFDR-MAPPROJECT-EXT8-V4.0"
DATA_SET_NAME = "MARS EXPRESS HRSC MAP PROJECTED REFDR EXTENSION8 V4.0"
DETECTOR_ID = MEX_HRSC_P2
EVENT_TYPE = "MARS-TERMINATOR-CALIBRATION-Tc"
INSTRUMENT_HOST_ID = MEX
INSTRUMENT_HOST_NAME = "MARS EXPRESS"
INSTRUMENT_ID = HRSC
INSTRUMENT_NAME = "HIGH RESOLUTION STEREO CAMERA"
MISSION_NAME = "MARS EXPRESS"
MISSION_PHASE_NAME = ME_Phase_47
PROCESSING_LEVEL_ID = 4
PRODUCT_CREATION_TIME = 2023-02-07T06:07:28.000Z
PRODUCT_ID = "HN772_0000_P24.TIF"
RELEASE_ID = 0005
REVISION_ID = 0000
/* QUALITY DATA ELEMENTS */
DATA_QUALITY_ID = 1
DATA_QUALITY_DESC = "Data calculated based on original SPICE kernels"
/* TIME DATA ELEMENTS */
SPACECRAFT_CLOCK_START_COUNT = "1/0614968519.25714"
SPACECRAFT_CLOCK_STOP_COUNT = "1/0614968818.01814"
START_TIME = 2022-10-27T16:39:17.845Z
STOP_TIME = 2022-10-27T16:40:12.623Z
/* ORBITAL DATA ELEMENTS */
ASCENDING_NODE_LONGITUDE = 131.57
MAXIMUM_RESOLUTION = 1.5132
FOOTPRINT_POINT_LATITUDE = (14.0756,13.4186,12.7504,12.0693, 11.3724,10.6575,9.92179,9.54528,9.16254 ,8.77305,8.37615,7.97125,7.5578,7.13485 ,6.70123,6.25577,5.79728,5.32429,4.8348 ,4.32649,3.52188,3.3821,3.36651,5.28398 ,7.20466,9.13286,11.0746,13.0363, 14.0268,15.0245,16.0305,17.0458,18.071, 19.1073,20.1567,21.2185,21.754,22.2921, 22.8322,23.3718,23.9081,24.1627,24.3954 ,24.8561,25.3174,25.5624,26.4938, 26.7536,27.6803,27.9431,28.4227,29.3354 ,29.6332,30.5611,31.0178,31.2402, 31.3596,31.4782,31.5888,31.8099,32.025, 32.2359,32.4471,32.6567,32.8589,33.0587 ,33.4572,33.8637,34.2696,34.6749, 35.0804,35.4859,35.893,36.2993,36.7043, 37.1109,37.7181,38.1311,38.54,39.2505, 39.6895,40.1115,40.9575,41.064,41.0931, 38.7406,37.4508,34.9808,32.6282,30.3749 ,28.2056,26.1064,24.0667,22.0771, 20.1291,18.2167,16.3334,14.4737,14.2426 ,14.0756)
FOOTPRINT_POINT_LONGITUDE = (205.745,208.096,210.457,212.841,215.26 ,217.725,220.251,221.541,222.851, 224.185,225.544,226.933,228.355,229.814 ,231.316,232.865,234.47,236.139,237.88, 239.707,242.642,243.159,243.183,244.222 ,245.391,246.723,248.258,250.034, 251.033,252.113,253.298,254.604,256.053 ,257.69,259.586,261.822,263.117,264.577 ,266.272,268.309,271.139,272.769, 275.758,274.229,272.843,276.073,272.892 ,276.38,273.294,277.933,275.407,273.187 ,277.878,274.584,273.741,276.78,272.16, 269.693,267.713,264.611,262.079,259.885 ,257.943,256.173,254.508,252.948, 250.093,247.529,245.154,242.925,240.813 ,238.796,236.857,234.979,233.152, 231.373,228.769,227.079,225.406,222.514 ,220.907,219.288,216.055,215.65,215.512 ,214.373,213.784,212.719,211.772, 210.918,210.137,209.416,208.744,208.112 ,207.512,206.94,206.391,205.86,205.795, 205.745)
ORBIT_NUMBER = 23772
ORBITAL_ECCENTRICITY = 0.576
ORBITAL_INCLINATION = 87.04
ORBITAL_SEMIMAJOR_AXIS = 8830.5
PERIAPSIS_ALTITUDE = 353.06
PERIAPSIS_ARGUMENT_ANGLE = 208.36
PERIAPSIS_TIME = 2022-10-27T14:18:21.000Z
SPACECRAFT_ORIENTATION = (0.0,-1.0,0.0)
^MEX_ORIENTATION_DESC = "MEX_ORIENTATION_DESC.TXT"
SPACECRAFT_POINTING_MODE = FIXED
^MEX_POINTING_DESC = "MEX_POINTING_DESC.TXT"
RIGHT_ASCENSION = -1e+32
DECLINATION = -1e+32
OFFSET_ANGLE = -1e+32
SPACECRAFT_SOLAR_DISTANCE = 2.21444e+08
TARGET_NAME = MARS
/* CAMERA DATA ELEMENTS */
DETECTOR_TEMPERATURE = 17.9627
FOCAL_PLANE_TEMPERATURE = 8.9911
INST_CMPRS_NAME = "DISCRETE COSINE TRANSFORMATION (DCT)"
INST_CMPRS_RATIO = 10.1935
INST_CMPRS_QUALITY = 0
INST_CMPRS_QUANTZ_TBL_ID = 0
INSTRUMENT_TEMPERATURE = 11.6418
LENS_TEMPERATURE = 9.3989
MACROPIXEL_SIZE = 4
MISSING_FRAMES = 0
PIXEL_SUBSAMPLING_FLAG = N
SIGNAL_CHAIN_ID = 3
/* RADIOMETRIC DATA ELEMENTS */
BANDWIDTH = 177.0
CENTER_FILTER_WAVELENGTH = 676.5
RADIANCE_OFFSET = 0.0
RADIANCE_SCALING_FACTOR = 0.056232
REFLECTANCE_SCALING_FACTOR = 0.00146231
MEX:REFLECTANCE_OFFSET = 0.0
/* IMAGE OBJECT DEFINITIONS */
OBJECT = IMAGE
  INTERCHANGE_FORMAT = BINARY
  LINES = 1353
  LINE_SAMPLES = 2279
  SAMPLE_TYPE = UNSIGNED_INTEGER
  SAMPLE_BITS = 8
  BANDS = 1
  BAND_STORAGE_TYPE = BAND_SEQUENTIAL
  MAXIMUM = 254
  MEAN = 183.049
  MINIMUM = 63
  STANDARD_DEVIATION = 39.0518
END_OBJECT = IMAGE
/* MAP OBJECT DEFINITIONS */
OBJECT = IMAGE_MAP_PROJECTION
  ^DATA_SET_MAP_PROJECTION_CATALOG= "DSMAP.CAT"
  A_AXIS_RADIUS = 3396.0
  B_AXIS_RADIUS = 3396.0
  C_AXIS_RADIUS = 3396.0
  CENTER_LATITUDE = 21.014
  CENTER_LONGITUDE = 227.961
  COORDINATE_SYSTEM_NAME = PLANETOGRAPHIC
  COORDINATE_SYSTEM_TYPE = "BODY-FIXED ROTATING"
  EASTERNMOST_LONGITUDE = 277.933
  FIRST_STANDARD_PARALLEL = "N/A"
  LINE_FIRST_PIXEL = 1
  LINE_LAST_PIXEL = 1353
  LINE_PROJECTION_OFFSET = 724.75
  MAP_PROJECTION_ROTATION = 0.0
  MAP_PROJECTION_TYPE = ORTHOGRAPHIC
  MAP_RESOLUTION = 37.0446127416667
  MAP_SCALE = 1.6
  MAXIMUM_LATITUDE = 41.0931
  MINIMUM_LATITUDE = 3.36651
  POSITIVE_LONGITUDE_DIRECTION = EAST
  REFERENCE_LATITUDE = "N/A"
  REFERENCE_LONGITUDE = "N/A"
  SAMPLE_FIRST_PIXEL = 1
  SAMPLE_LAST_PIXEL = 2279
  SAMPLE_PROJECTION_OFFSET = 772.75
  SECOND_STANDARD_PARALLEL = "N/A"
  WESTERNMOST_LONGITUDE = 205.745
END_OBJECT = IMAGE_MAP_PROJECTION
END
