PDS_VERSION_ID = PDS3
/* FILE DATA ELEMENTS */
RECORD_TYPE = UNDEFINED
/* POINTERS TO DATA OBJECTS */
^IMAGE = ("HN768_0000_P24.TIF")
/* IDENTIFICATION DATA ELEMENTS */
DATA_SET_ID = "MEX-M-HRSC-4-REFDR-MAPPROJECT-EXT8-V4.0"
DATA_SET_NAME = "MARS EXPRESS HRSC MAP PROJECTED REFDR EXTENSION8 V4.0"
DETECTOR_ID = MEX_HRSC_P2
EVENT_TYPE = "MARS-TERMINATOR-CALIBRATION-Tc"
INSTRUMENT_HOST_ID = MEX
INSTRUMENT_HOST_NAME = "MARS EXPRESS"
INSTRUMENT_ID = HRSC
INSTRUMENT_NAME = "HIGH RESOLUTION STEREO CAMERA"
MISSION_NAME = "MARS EXPRESS"
MISSION_PHASE_NAME = ME_Phase_47
PROCESSING_LEVEL_ID = 4
PRODUCT_CREATION_TIME = 2023-02-07T06:07:28.000Z
PRODUCT_ID = "HN768_0000_P24.TIF"
RELEASE_ID = 0005
REVISION_ID = 0000
/* QUALITY DATA ELEMENTS */
DATA_QUALITY_ID = 1
DATA_QUALITY_DESC = "Data calculated based on original SPICE kernels"
/* TIME DATA ELEMENTS */
SPACECRAFT_CLOCK_START_COUNT = "1/0614871547.25677"
SPACECRAFT_CLOCK_STOP_COUNT = "1/0614871846.08109"
START_TIME = 2022-10-26T13:43:09.012Z
STOP_TIME = 2022-10-26T13:43:59.564Z
/* ORBITAL DATA ELEMENTS */
ASCENDING_NODE_LONGITUDE = 131.65
MAXIMUM_RESOLUTION = 1.6806
FOOTPRINT_POINT_LATITUDE = (14.6444,14.515,14.3127,14.0796,13.8182 ,13.5309,13.2192,12.8844,12.5276, 12.1501,11.7523,11.3351,10.8987,10.4439 ,9.97082,9.47984,8.97082,8.44383, 7.89882,7.33571,6.75393,6.15277,5.53182 ,4.89076,4.22875,3.54496,2.83832,2.2928 ,2.10787,2.14122,3.61901,4.82804, 5.77812,6.71396,7.63646,8.54341,10.1035 ,10.9851,12.7209,14.4242,16.099,17.7498 ,19.3797,20.7903,22.388,24.1695,24.3666 ,24.5373,25.6124,26.3222,27.0192, 27.7038,28.3765,29.0375,29.6869,30.3253 ,30.9529,31.5701,32.1771,32.7736, 33.3596,33.9349,34.4977,35.0528,35.5967 ,36.1272,36.6444,37.1479,37.6374, 38.0015,38.4674,38.9149,39.3445,39.8543 ,39.9523,39.9686,39.003,38.0422,36.1324 ,34.2334,32.3395,31.3931,30.446,29.4976 ,28.5473,27.5941,26.6376,25.6768,24.711 ,23.7394,22.7612,21.7753,20.7809,19.777 ,18.7624,17.7357,16.6957,15.1076, 14.8394,14.6444)
FOOTPRINT_POINT_LONGITUDE = (201.583,202.946,204.705,206.403, 208.046,209.641,211.193,212.707,214.185 ,215.63,217.047,218.437,219.804,221.149 ,222.472,223.777,225.065,226.339,227.6, 228.849,230.088,231.32,232.546,233.767, 234.985,236.201,237.418,238.331,238.636 ,238.715,239.329,239.84,240.25,240.661, 241.075,241.49,242.226,242.65,243.509, 244.387,245.288,246.215,247.17,248.035, 249.06,250.265,250.402,250.522,248.634, 247.354,246.067,244.772,243.467,242.151 ,240.823,239.48,238.12,236.741,235.341, 233.919,232.471,230.995,229.491,227.952 ,226.377,224.768,223.119,221.428, 219.689,218.339,216.502,214.61,212.651, 210.1,209.575,209.396,209.213,209.021, 208.611,208.167,207.691,207.439,207.179 ,206.91,206.633,206.343,206.045,205.736 ,205.417,205.086,204.744,204.389, 204.021,203.64,203.243,202.83,202.4, 201.72,201.602,201.583)
ORBIT_NUMBER = 23768
ORBITAL_ECCENTRICITY = 0.576
ORBITAL_INCLINATION = 87.03
ORBITAL_SEMIMAJOR_AXIS = 8830.78
PERIAPSIS_ALTITUDE = 353.49
PERIAPSIS_ARGUMENT_ANGLE = 209.01
PERIAPSIS_TIME = 2022-10-26T10:22:09.000Z
SPACECRAFT_ORIENTATION = (0.0,-1.0,0.0)
^MEX_ORIENTATION_DESC = "MEX_ORIENTATION_DESC.TXT"
SPACECRAFT_POINTING_MODE = FIXED
^MEX_POINTING_DESC = "MEX_POINTING_DESC.TXT"
RIGHT_ASCENSION = -1e+32
DECLINATION = -1e+32
OFFSET_ANGLE = -1e+32
SPACECRAFT_SOLAR_DISTANCE = 2.21221e+08
TARGET_NAME = MARS
/* CAMERA DATA ELEMENTS */
DETECTOR_TEMPERATURE = 18.9822
FOCAL_PLANE_TEMPERATURE = 8.7872
INST_CMPRS_NAME = "DISCRETE COSINE TRANSFORMATION (DCT)"
INST_CMPRS_RATIO = 16.1145
INST_CMPRS_QUALITY = 0
INST_CMPRS_QUANTZ_TBL_ID = 0
INSTRUMENT_TEMPERATURE = 11.234
LENS_TEMPERATURE = 9.195
MACROPIXEL_SIZE = 4
MISSING_FRAMES = 0
PIXEL_SUBSAMPLING_FLAG = N
SIGNAL_CHAIN_ID = 3
/* RADIOMETRIC DATA ELEMENTS */
BANDWIDTH = 177.0
CENTER_FILTER_WAVELENGTH = 676.5
RADIANCE_OFFSET = 0.0
RADIANCE_SCALING_FACTOR = 0.0240857
REFLECTANCE_SCALING_FACTOR = 0.000625135
MEX:REFLECTANCE_OFFSET = 0.0
/* IMAGE OBJECT DEFINITIONS */
OBJECT = IMAGE
  INTERCHANGE_FORMAT = BINARY
  LINES = 1414
  LINE_SAMPLES = 1686
  SAMPLE_TYPE = UNSIGNED_INTEGER
  SAMPLE_BITS = 8
  BANDS = 1
  BAND_STORAGE_TYPE = BAND_SEQUENTIAL
  MAXIMUM = 255
  MEAN = 125.43
  MINIMUM = 1
  STANDARD_DEVIATION = 91.301
END_OBJECT = IMAGE
/* MAP OBJECT DEFINITIONS */
OBJECT = IMAGE_MAP_PROJECTION
  ^DATA_SET_MAP_PROJECTION_CATALOG= "DSMAP.CAT"
  A_AXIS_RADIUS = 3396.0
  B_AXIS_RADIUS = 3396.0
  C_AXIS_RADIUS = 3396.0
  CENTER_LATITUDE = 21.5197
  CENTER_LONGITUDE = 228.115
  COORDINATE_SYSTEM_NAME = PLANETOGRAPHIC
  COORDINATE_SYSTEM_TYPE = "BODY-FIXED ROTATING"
  EASTERNMOST_LONGITUDE = 250.522
  FIRST_STANDARD_PARALLEL = "N/A"
  LINE_FIRST_PIXEL = 1
  LINE_LAST_PIXEL = 1414
  LINE_PROJECTION_OFFSET = 687.25
  MAP_PROJECTION_ROTATION = 0.0
  MAP_PROJECTION_TYPE = ORTHOGRAPHIC
  MAP_RESOLUTION = 37.0446127416667
  MAP_SCALE = 1.6
  MAXIMUM_LATITUDE = 39.9686
  MINIMUM_LATITUDE = 2.10787
  POSITIVE_LONGITUDE_DIRECTION = EAST
  REFERENCE_LATITUDE = "N/A"
  REFERENCE_LONGITUDE = "N/A"
  SAMPLE_FIRST_PIXEL = 1
  SAMPLE_LAST_PIXEL = 1686
  SAMPLE_PROJECTION_OFFSET = 905.75
  SECOND_STANDARD_PARALLEL = "N/A"
  WESTERNMOST_LONGITUDE = 201.583
END_OBJECT = IMAGE_MAP_PROJECTION
END
