PDS_VERSION_ID = PDS3
/* FILE DATA ELEMENTS */
RECORD_TYPE = UNDEFINED
/* POINTERS TO DATA OBJECTS */
^IMAGE = ("HN739_0000_BL4.TIF")
/* IDENTIFICATION DATA ELEMENTS */
DATA_SET_ID = "MEX-M-HRSC-4-REFDR-MAPPROJECT-EXT8-V4.0"
DATA_SET_NAME = "MARS EXPRESS HRSC MAP PROJECTED REFDR EXTENSION8 V4.0"
DETECTOR_ID = MEX_HRSC_BLUE
EVENT_TYPE = "MARS-TERMINATOR-CALIBRATION-Tc"
INSTRUMENT_HOST_ID = MEX
INSTRUMENT_HOST_NAME = "MARS EXPRESS"
INSTRUMENT_ID = HRSC
INSTRUMENT_NAME = "HIGH RESOLUTION STEREO CAMERA"
MISSION_NAME = "MARS EXPRESS"
MISSION_PHASE_NAME = ME_Phase_47
PROCESSING_LEVEL_ID = 4
PRODUCT_CREATION_TIME = 2023-02-07T06:07:28.000Z
PRODUCT_ID = "HN739_0000_BL4.TIF"
RELEASE_ID = 0005
REVISION_ID = 0000
/* QUALITY DATA ELEMENTS */
DATA_QUALITY_ID = 1
DATA_QUALITY_DESC = "Data calculated based on original SPICE kernels"
/* TIME DATA ELEMENTS */
SPACECRAFT_CLOCK_START_COUNT = "1/0614141954.23966"
SPACECRAFT_CLOCK_STOP_COUNT = "1/0614142355.24313"
START_TIME = 2022-10-18T03:01:55.803Z
STOP_TIME = 2022-10-18T03:05:06.803Z
/* ORBITAL DATA ELEMENTS */
ASCENDING_NODE_LONGITUDE = 132.16
MAXIMUM_RESOLUTION = 0.8359
FOOTPRINT_POINT_LATITUDE = (-24.5102,-21.7653,-21.1677,-21.0774, -21.7846,-23.0525,-24.8319,-27.1798, -32.2992,-36.388,-39.6827,-41.4907, -41.3576,-42.6491,-44.4703,-40.9452, -34.2252,-30.3999,-27.3858,-24.8135, -22.5732,-18.6879,-15.3573,-12.3859, -9.78064,-7.28676,-4.94825,-0.681025, 3.24338,6.83476,10.2058,13.4108,16.4709 ,19.4169,22.2646,25.0265,27.71,30.3167, 32.8372,35.2492,36.4014,37.5058,38.5491 ,39.5108,40.3598,41.0494,41.4746, 41.4673,41.1655,40.4453,38.2542,40.4307 ,43.8862,47.7966,54.4908,65.3178,70.403 ,73.6254,75.4565,76.5989,83.3644, 85.6057,85.1659,83.5191,81.6177,77.9854 ,74.655,71.6228,68.8293,66.2238,63.7724 ,61.4482,57.0844,53.0193,49.1723, 45.4676,41.8762,38.3575,34.8692,31.3797 ,27.8536,24.2596,20.5441,16.6544, 12.5114,10.3072,7.99234,5.53862,2.90611 ,0.0350288,-3.22547,-5.08054,-7.31258, -9.4304,-12.2196,-16.2052,-20.408, -23.6513,-24.5102)
FOOTPRINT_POINT_LONGITUDE = (269.293,275.446,278.447,283.177, 287.084,290.528,293.654,296.528,300.361 ,301.856,302.186,302.015,301.692,306.39 ,310.502,314.003,315.508,316.464, 317.259,317.965,318.609,319.784,320.861 ,321.876,322.854,323.803,324.735, 326.576,328.411,330.291,332.236,334.269 ,336.427,338.737,341.241,343.987, 347.037,350.464,354.378,358.935,1.51491 ,4.36589,7.49622,11.0056,14.9854, 19.5289,25.0419,31.7642,35.9239,41.1665 ,50.1154,52.9213,54.8788,58.5251, 67.8051,81.9456,86.9472,93.6171,103.949 ,114.966,91.3989,52.9948,12.4628, 350.593,339.34,328.415,322.85,319.319, 316.774,314.785,313.145,311.737,309.38, 307.397,305.632,304.019,302.482,300.978 ,299.488,297.972,296.423,294.816, 293.079,291.184,289.06,287.874,286.587, 285.169,283.577,281.747,279.508,278.146 ,276.367,274.705,272.265,268.361, 266.616,268.081,269.293)
ORBIT_NUMBER = 23739
ORBITAL_ECCENTRICITY = 0.575
ORBITAL_INCLINATION = 87.03
ORBITAL_SEMIMAJOR_AXIS = 8816.74
PERIAPSIS_ALTITUDE = 352.83
PERIAPSIS_ARGUMENT_ANGLE = 213.94
PERIAPSIS_TIME = 2022-10-17T23:48:55.000Z
SPACECRAFT_ORIENTATION = (0.0,-1.0,0.0)
^MEX_ORIENTATION_DESC = "MEX_ORIENTATION_DESC.TXT"
SPACECRAFT_POINTING_MODE = FIXED
^MEX_POINTING_DESC = "MEX_POINTING_DESC.TXT"
RIGHT_ASCENSION = -1e+32
DECLINATION = -1e+32
OFFSET_ANGLE = -1e+32
SPACECRAFT_SOLAR_DISTANCE = 2.1963e+08
TARGET_NAME = MARS
/* CAMERA DATA ELEMENTS */
DETECTOR_TEMPERATURE = 18.5744
FOCAL_PLANE_TEMPERATURE = 8.5833
INST_CMPRS_NAME = "DISCRETE COSINE TRANSFORMATION (DCT)"
INST_CMPRS_RATIO = 4.45952
INST_CMPRS_QUALITY = 0
INST_CMPRS_QUANTZ_TBL_ID = 0
INSTRUMENT_TEMPERATURE = 11.6418
LENS_TEMPERATURE = 9.3989
MACROPIXEL_SIZE = 2
MISSING_FRAMES = 0
PIXEL_SUBSAMPLING_FLAG = N
SIGNAL_CHAIN_ID = 2
/* RADIOMETRIC DATA ELEMENTS */
BANDWIDTH = 76.0
CENTER_FILTER_WAVELENGTH = 444.0
RADIANCE_OFFSET = 0.0
RADIANCE_SCALING_FACTOR = 0.00831358
REFLECTANCE_SCALING_FACTOR = 0.000412123
MEX:REFLECTANCE_OFFSET = 0.0
/* IMAGE OBJECT DEFINITIONS */
OBJECT = IMAGE
  INTERCHANGE_FORMAT = BINARY
  LINES = 8180
  LINE_SAMPLES = 6795
  SAMPLE_TYPE = UNSIGNED_INTEGER
  SAMPLE_BITS = 8
  BANDS = 1
  BAND_STORAGE_TYPE = BAND_SEQUENTIAL
  MAXIMUM = 255
  MEAN = 109.639
  MINIMUM = 1
  STANDARD_DEVIATION = 62.7836
END_OBJECT = IMAGE
/* MAP OBJECT DEFINITIONS */
OBJECT = IMAGE_MAP_PROJECTION
  ^DATA_SET_MAP_PROJECTION_CATALOG= "DSMAP.CAT"
  A_AXIS_RADIUS = 3396.0
  B_AXIS_RADIUS = 3396.0
  C_AXIS_RADIUS = 3396.0
  CENTER_LATITUDE = 29.8957
  CENTER_LONGITUDE = 321.842
  COORDINATE_SYSTEM_NAME = PLANETOGRAPHIC
  COORDINATE_SYSTEM_TYPE = "BODY-FIXED ROTATING"
  EASTERNMOST_LONGITUDE = 360.0
  FIRST_STANDARD_PARALLEL = "N/A"
  LINE_FIRST_PIXEL = 1
  LINE_LAST_PIXEL = 8180
  LINE_PROJECTION_OFFSET = 4079.0
  MAP_PROJECTION_ROTATION = 0.0
  MAP_PROJECTION_TYPE = ORTHOGRAPHIC
  MAP_RESOLUTION = 74.08922548333329
  MAP_SCALE = 0.8
  MAXIMUM_LATITUDE = 90.0
  MINIMUM_LATITUDE = -44.4703
  POSITIVE_LONGITUDE_DIRECTION = EAST
  REFERENCE_LATITUDE = "N/A"
  REFERENCE_LONGITUDE = "N/A"
  SAMPLE_FIRST_PIXEL = 1
  SAMPLE_LAST_PIXEL = 6795
  SAMPLE_PROJECTION_OFFSET = 3384.0
  SECOND_STANDARD_PARALLEL = "N/A"
  WESTERNMOST_LONGITUDE = 0.0
END_OBJECT = IMAGE_MAP_PROJECTION
END
