PDS_VERSION_ID = PDS3
/* FILE DATA ELEMENTS */
RECORD_TYPE = UNDEFINED
/* POINTERS TO DATA OBJECTS */
^IMAGE = ("HN712_0000_S24.TIF")
/* IDENTIFICATION DATA ELEMENTS */
DATA_SET_ID = "MEX-M-HRSC-4-REFDR-MAPPROJECT-EXT8-V4.0"
DATA_SET_NAME = "MARS EXPRESS HRSC MAP PROJECTED REFDR EXTENSION8 V4.0"
DETECTOR_ID = MEX_HRSC_S2
EVENT_TYPE = "MARS-TERMINATOR-CALIBRATION-Tc"
INSTRUMENT_HOST_ID = MEX
INSTRUMENT_HOST_NAME = "MARS EXPRESS"
INSTRUMENT_ID = HRSC
INSTRUMENT_NAME = "HIGH RESOLUTION STEREO CAMERA"
MISSION_NAME = "MARS EXPRESS"
MISSION_PHASE_NAME = ME_Phase_47
PROCESSING_LEVEL_ID = 4
PRODUCT_CREATION_TIME = 2023-02-07T06:07:28.000Z
PRODUCT_ID = "HN712_0000_S24.TIF"
RELEASE_ID = 0005
REVISION_ID = 0000
/* QUALITY DATA ELEMENTS */
DATA_QUALITY_ID = 1
DATA_QUALITY_DESC = "Data calculated based on original SPICE kernels"
/* TIME DATA ELEMENTS */
SPACECRAFT_CLOCK_START_COUNT = "1/0613458915.25680"
SPACECRAFT_CLOCK_STOP_COUNT = "1/0613459219.39316"
START_TIME = 2022-10-10T05:19:52.810Z
STOP_TIME = 2022-10-10T05:20:53.062Z
/* ORBITAL DATA ELEMENTS */
ASCENDING_NODE_LONGITUDE = 132.64
MAXIMUM_RESOLUTION = 1.4166
FOOTPRINT_POINT_LATITUDE = (14.6871,14.2463,13.8024,13.3551, 12.9043,12.4499,11.9916,11.5293,11.0628 ,10.5918,10.1161,9.63536,9.14952, 8.65836,8.16165,7.65893,7.15001,6.63433 ,6.11139,5.58069,5.04197,4.49479, 3.93811,3.37134,2.79393,2.20541,1.29978 ,1.14598,1.13242,3.60427,6.04384, 7.80212,8.67735,9.76785,10.6421,11.5169 ,12.3921,13.2685,14.1465,15.0265, 15.9092,16.7951,17.6846,18.5783,19.4767 ,20.3804,21.2901,22.2062,23.1295, 23.3613,23.4902,24.286,24.9224,25.5509, 26.172,26.7861,27.3938,27.9958,28.5949, 29.1897,29.7814,30.3694,30.9564,31.5412 ,32.1247,32.707,33.2876,33.8682,34.4547 ,35.041,35.6285,36.2128,36.7991,37.381, 37.9709,38.5817,39.3403,39.4909,39.5357 ,37.804,36.6792,35.5774,34.4953,33.4317 ,32.3837,31.3508,30.3349,29.3327, 28.3426,27.3629,26.3944,25.4348,23.54, 21.6748,20.5184,18.6824,16.8591,15.0439 ,14.8173,14.6871)
FOOTPRINT_POINT_LONGITUDE = (206.452,207.488,208.516,209.536,210.55 ,211.558,212.561,213.56,214.557,215.551 ,216.545,217.537,218.531,219.525, 220.521,221.52,222.522,223.53,224.544, 225.566,226.597,227.638,228.691,229.757 ,230.838,231.935,233.616,233.901,233.94 ,235.18,236.503,237.533,238.075,238.79, 239.371,239.968,240.588,241.228,241.893 ,242.584,243.301,244.05,244.829,245.645 ,246.499,247.397,248.341,249.338, 250.393,250.666,250.819,249.08,247.707, 246.368,245.057,243.771,242.505,241.257 ,240.028,238.81,237.604,236.405,235.214 ,234.027,232.841,231.656,230.468, 229.279,228.092,226.897,225.695,224.481 ,223.256,222.016,220.765,219.502, 217.892,217.566,217.454,216.578,216.026 ,215.494,214.982,214.486,214.006, 213.539,213.084,212.64,212.205,211.78, 211.361,210.95,210.144,209.356,208.871, 208.103,207.342,206.582,206.487, 206.452)
ORBIT_NUMBER = 23712
ORBITAL_ECCENTRICITY = 0.576
ORBITAL_INCLINATION = 87.04
ORBITAL_SEMIMAJOR_AXIS = 8813.81
PERIAPSIS_ALTITUDE = 350.77
PERIAPSIS_ARGUMENT_ANGLE = 218.57
PERIAPSIS_TIME = 2022-10-10T03:14:21.000Z
SPACECRAFT_ORIENTATION = (0.0,-1.0,0.0)
^MEX_ORIENTATION_DESC = "MEX_ORIENTATION_DESC.TXT"
SPACECRAFT_POINTING_MODE = FIXED
^MEX_POINTING_DESC = "MEX_POINTING_DESC.TXT"
RIGHT_ASCENSION = -1e+32
DECLINATION = -1e+32
OFFSET_ANGLE = -1e+32
SPACECRAFT_SOLAR_DISTANCE = 2.18187e+08
TARGET_NAME = MARS
/* CAMERA DATA ELEMENTS */
DETECTOR_TEMPERATURE = 18.3705
FOCAL_PLANE_TEMPERATURE = 8.7872
INST_CMPRS_NAME = "DISCRETE COSINE TRANSFORMATION (DCT)"
INST_CMPRS_RATIO = 24.5116
INST_CMPRS_QUALITY = 0
INST_CMPRS_QUANTZ_TBL_ID = 0
INSTRUMENT_TEMPERATURE = 10.8262
LENS_TEMPERATURE = 8.5833
MACROPIXEL_SIZE = 4
MISSING_FRAMES = 0
PIXEL_SUBSAMPLING_FLAG = N
SIGNAL_CHAIN_ID = 3
/* RADIOMETRIC DATA ELEMENTS */
BANDWIDTH = 178.0
CENTER_FILTER_WAVELENGTH = 679.0
RADIANCE_OFFSET = 4.61138
RADIANCE_SCALING_FACTOR = 0.0319481
REFLECTANCE_SCALING_FACTOR = 0.00080555
MEX:REFLECTANCE_OFFSET = 0.116273
/* IMAGE OBJECT DEFINITIONS */
OBJECT = IMAGE
  INTERCHANGE_FORMAT = BINARY
  LINES = 1417
  LINE_SAMPLES = 1577
  SAMPLE_TYPE = UNSIGNED_INTEGER
  SAMPLE_BITS = 8
  BANDS = 1
  BAND_STORAGE_TYPE = BAND_SEQUENTIAL
  MAXIMUM = 255
  MEAN = 134.911
  MINIMUM = 1
  STANDARD_DEVIATION = 59.3728
END_OBJECT = IMAGE
/* MAP OBJECT DEFINITIONS */
OBJECT = IMAGE_MAP_PROJECTION
  ^DATA_SET_MAP_PROJECTION_CATALOG= "DSMAP.CAT"
  A_AXIS_RADIUS = 3396.0
  B_AXIS_RADIUS = 3396.0
  C_AXIS_RADIUS = 3396.0
  CENTER_LATITUDE = 18.9715
  CENTER_LONGITUDE = 226.885
  COORDINATE_SYSTEM_NAME = PLANETOGRAPHIC
  COORDINATE_SYSTEM_TYPE = "BODY-FIXED ROTATING"
  EASTERNMOST_LONGITUDE = 250.819
  FIRST_STANDARD_PARALLEL = "N/A"
  LINE_FIRST_PIXEL = 1
  LINE_LAST_PIXEL = 1417
  LINE_PROJECTION_OFFSET = 738.75
  MAP_PROJECTION_ROTATION = 0.0
  MAP_PROJECTION_TYPE = ORTHOGRAPHIC
  MAP_RESOLUTION = 37.0446127416667
  MAP_SCALE = 1.6
  MAXIMUM_LATITUDE = 39.5357
  MINIMUM_LATITUDE = 1.13242
  POSITIVE_LONGITUDE_DIRECTION = EAST
  REFERENCE_LATITUDE = "N/A"
  REFERENCE_LONGITUDE = "N/A"
  SAMPLE_FIRST_PIXEL = 1
  SAMPLE_LAST_PIXEL = 1577
  SAMPLE_PROJECTION_OFFSET = 695.25
  SECOND_STANDARD_PARALLEL = "N/A"
  WESTERNMOST_LONGITUDE = 206.452
END_OBJECT = IMAGE_MAP_PROJECTION
END
