PDS_VERSION_ID = PDS3
/* FILE DATA ELEMENTS */
RECORD_TYPE = UNDEFINED
/* POINTERS TO DATA OBJECTS */
^IMAGE = ("HN673_0000_GR4.TIF")
/* IDENTIFICATION DATA ELEMENTS */
DATA_SET_ID = "MEX-M-HRSC-4-REFDR-MAPPROJECT-EXT8-V4.0"
DATA_SET_NAME = "MARS EXPRESS HRSC MAP PROJECTED REFDR EXTENSION8 V4.0"
DETECTOR_ID = MEX_HRSC_GREEN
EVENT_TYPE = "MARS-TERMINATOR-CALIBRATION-Tc"
INSTRUMENT_HOST_ID = MEX
INSTRUMENT_HOST_NAME = "MARS EXPRESS"
INSTRUMENT_ID = HRSC
INSTRUMENT_NAME = "HIGH RESOLUTION STEREO CAMERA"
MISSION_NAME = "MARS EXPRESS"
MISSION_PHASE_NAME = ME_Phase_47
PROCESSING_LEVEL_ID = 4
PRODUCT_CREATION_TIME = 2023-02-07T06:07:28.000Z
PRODUCT_ID = "HN673_0000_GR4.TIF"
RELEASE_ID = 0005
REVISION_ID = 0000
/* QUALITY DATA ELEMENTS */
DATA_QUALITY_ID = 1
DATA_QUALITY_DESC = "Data calculated based on original SPICE kernels"
/* TIME DATA ELEMENTS */
SPACECRAFT_CLOCK_START_COUNT = "1/0612475066.23986"
SPACECRAFT_CLOCK_STOP_COUNT = "1/0612475454.41271"
START_TIME = 2022-09-28T19:59:38.746Z
STOP_TIME = 2022-09-28T20:02:50.114Z
/* ORBITAL DATA ELEMENTS */
ASCENDING_NODE_LONGITUDE = 133.33
MAXIMUM_RESOLUTION = 0.4567
FOOTPRINT_POINT_LATITUDE = (-26.7187,-27.3047,-28.0815,-28.8559, -29.631,-30.4083,-31.1899,-31.9756, -32.7685,-33.5704,-34.383,-35.209, -36.0504,-36.9084,-37.017,-37.1072, -34.9064,-33.511,-32.169,-30.8705, -29.6124,-28.3895,-26.0336,-23.7781, -21.6031,-19.4939,-17.4384,-15.4226, -13.4354,-11.4713,-9.51828,-7.57082, -5.61872,-3.65335,-1.66702,0.348366, 2.40254,4.50663,6.68006,8.93142,10.0914 ,11.2756,12.4893,13.7377,15.03,16.3661, 17.7486,18.4596,18.4764,19.293,20.1466, 21.037,21.9709,22.9371,24.4636,25.5595, 26.7337,27.9946,29.3483,30.8107,32.8491 ,33.0729,33.1508,31.0858,29.1725, 27.3798,25.6935,24.0898,22.5631,21.0932 ,19.6796,18.3126,16.9894,15.7055, 14.4574,12.045,9.74446,7.52706,5.37175, 3.26402,1.19834,-0.836434,-2.84967, -4.85221,-6.85226,-8.85935,-10.8834, -12.9351,-15.0264,-16.0913,-17.1713, -18.2693,-19.3871,-20.5284,-21.6961, -22.8798,-24.1295,-26.0582,-26.7308, -26.7187)
FOOTPRINT_POINT_LONGITUDE = (210.602,212.594,215.07,217.384,219.576 ,221.673,223.693,225.647,227.555, 229.425,231.269,233.097,234.919,236.739 ,236.967,237.006,238.338,239.142, 239.889,240.589,241.248,241.872,243.033 ,244.101,245.097,246.036,246.93,247.791 ,248.627,249.445,250.252,251.054, 251.856,252.667,253.49,254.333,255.201, 256.103,257.054,258.06,258.588,259.135, 259.705,260.301,260.929,261.593,262.295 ,262.662,262.671,261.087,259.491, 257.889,256.274,254.634,252.114,250.383 ,248.592,246.731,244.778,242.71,239.898 ,239.598,239.49,239.275,239.041,238.793 ,238.531,238.261,237.981,237.697, 237.406,237.109,236.807,236.498,236.182 ,235.537,234.855,234.142,233.398, 232.624,231.806,230.941,230.018,229.035 ,227.977,226.829,225.58,224.204,222.675 ,221.841,220.955,220.006,218.99,217.891 ,216.698,215.442,213.951,211.479, 210.532,210.602)
ORBIT_NUMBER = 23673
ORBITAL_ECCENTRICITY = 0.576
ORBITAL_INCLINATION = 87.03
ORBITAL_SEMIMAJOR_AXIS = 8803.8
PERIAPSIS_ALTITUDE = 349.84
PERIAPSIS_ARGUMENT_ANGLE = 225.18
PERIAPSIS_TIME = 2022-09-28T18:51:00.000Z
SPACECRAFT_ORIENTATION = (0.0,-1.0,0.0)
^MEX_ORIENTATION_DESC = "MEX_ORIENTATION_DESC.TXT"
SPACECRAFT_POINTING_MODE = FIXED
^MEX_POINTING_DESC = "MEX_POINTING_DESC.TXT"
RIGHT_ASCENSION = -1e+32
DECLINATION = -1e+32
OFFSET_ANGLE = -1e+32
SPACECRAFT_SOLAR_DISTANCE = 2.16184e+08
TARGET_NAME = MARS
/* CAMERA DATA ELEMENTS */
DETECTOR_TEMPERATURE = 18.1666
FOCAL_PLANE_TEMPERATURE = 8.1755
INST_CMPRS_NAME = "DISCRETE COSINE TRANSFORMATION (DCT)"
INST_CMPRS_RATIO = 8.93333
INST_CMPRS_QUALITY = 0
INST_CMPRS_QUANTZ_TBL_ID = 0
INSTRUMENT_TEMPERATURE = 11.0301
LENS_TEMPERATURE = 7.7677
MACROPIXEL_SIZE = 2
MISSING_FRAMES = 0
PIXEL_SUBSAMPLING_FLAG = N
SIGNAL_CHAIN_ID = 2
/* RADIOMETRIC DATA ELEMENTS */
BANDWIDTH = 88.0
CENTER_FILTER_WAVELENGTH = 538.0
RADIANCE_OFFSET = 1.4652
RADIANCE_SCALING_FACTOR = 0.00760486
REFLECTANCE_SCALING_FACTOR = 0.000306028
MEX:REFLECTANCE_OFFSET = 0.0589614
/* IMAGE OBJECT DEFINITIONS */
OBJECT = IMAGE
  INTERCHANGE_FORMAT = BINARY
  LINES = 9781
  LINE_SAMPLES = 6892
  SAMPLE_TYPE = UNSIGNED_INTEGER
  SAMPLE_BITS = 8
  BANDS = 1
  BAND_STORAGE_TYPE = BAND_SEQUENTIAL
  MAXIMUM = 255
  MEAN = 131.0
  MINIMUM = 1
  STANDARD_DEVIATION = 37.9908
END_OBJECT = IMAGE
/* MAP OBJECT DEFINITIONS */
OBJECT = IMAGE_MAP_PROJECTION
  ^DATA_SET_MAP_PROJECTION_CATALOG= "DSMAP.CAT"
  A_AXIS_RADIUS = 3396.0
  B_AXIS_RADIUS = 3396.0
  C_AXIS_RADIUS = 3396.0
  CENTER_LATITUDE = -4.65228
  CENTER_LONGITUDE = 241.03
  COORDINATE_SYSTEM_NAME = PLANETOGRAPHIC
  COORDINATE_SYSTEM_TYPE = "BODY-FIXED ROTATING"
  EASTERNMOST_LONGITUDE = 262.671
  FIRST_STANDARD_PARALLEL = "N/A"
  LINE_FIRST_PIXEL = 1
  LINE_LAST_PIXEL = 9781
  LINE_PROJECTION_OFFSET = 5200.0
  MAP_PROJECTION_ROTATION = 0.0
  MAP_PROJECTION_TYPE = ORTHOGRAPHIC
  MAP_RESOLUTION = 148.178450966667
  MAP_SCALE = 0.4
  MAXIMUM_LATITUDE = 33.1508
  MINIMUM_LATITUDE = -37.1072
  POSITIVE_LONGITUDE_DIRECTION = EAST
  REFERENCE_LATITUDE = "N/A"
  REFERENCE_LONGITUDE = "N/A"
  SAMPLE_FIRST_PIXEL = 1
  SAMPLE_LAST_PIXEL = 6892
  SAMPLE_PROJECTION_OFFSET = 3961.0
  SECOND_STANDARD_PARALLEL = "N/A"
  WESTERNMOST_LONGITUDE = 210.532
END_OBJECT = IMAGE_MAP_PROJECTION
END
