PDS_VERSION_ID = PDS3
/* FILE DATA ELEMENTS */
RECORD_TYPE = UNDEFINED
/* POINTERS TO DATA OBJECTS */
^IMAGE = ("HN666_0000_S14.TIF")
/* IDENTIFICATION DATA ELEMENTS */
DATA_SET_ID = "MEX-M-HRSC-4-REFDR-MAPPROJECT-EXT8-V4.0"
DATA_SET_NAME = "MARS EXPRESS HRSC MAP PROJECTED REFDR EXTENSION8 V4.0"
DETECTOR_ID = MEX_HRSC_S1
EVENT_TYPE = "MARS-TERMINATOR-CALIBRATION-Tc"
INSTRUMENT_HOST_ID = MEX
INSTRUMENT_HOST_NAME = "MARS EXPRESS"
INSTRUMENT_ID = HRSC
INSTRUMENT_NAME = "HIGH RESOLUTION STEREO CAMERA"
MISSION_NAME = "MARS EXPRESS"
MISSION_PHASE_NAME = ME_Phase_47
PROCESSING_LEVEL_ID = 4
PRODUCT_CREATION_TIME = 2023-02-07T06:07:28.000Z
PRODUCT_ID = "HN666_0000_S14.TIF"
RELEASE_ID = 0005
REVISION_ID = 0000
/* QUALITY DATA ELEMENTS */
DATA_QUALITY_ID = 1
DATA_QUALITY_DESC = "Data calculated based on original SPICE kernels"
/* TIME DATA ELEMENTS */
SPACECRAFT_CLOCK_START_COUNT = "1/0612299659.25666"
SPACECRAFT_CLOCK_STOP_COUNT = "1/0612299972.29234"
START_TIME = 2022-09-26T19:14:54.884Z
STOP_TIME = 2022-09-26T19:16:13.058Z
/* ORBITAL DATA ELEMENTS */
ASCENDING_NODE_LONGITUDE = 133.45
MAXIMUM_RESOLUTION = 1.0062
FOOTPRINT_POINT_LATITUDE = (10.6465,10.0576,9.67807,9.30798, 8.94634,8.59241,8.24552,7.57147,6.92022 ,6.28904,5.67587,5.07876,4.49526, 3.92375,3.36302,2.81153,2.2689,2.20164, 2.18179,3.94188,5.71648,7.51205,9.34107 ,11.206,13.1078,15.0606,16.0594,17.0745 ,18.1074,19.1596,20.2347,21.3309,22.452 ,23.6006,24.7814,25.997,27.5715,27.8954 ,27.9316,28.7724,29.6702,30.6155, 31.6154,32.6845,33.2443,33.8266,34.4327 ,35.0599,35.7102,36.4225,37.1514, 37.9093,38.5459,39.4382,40.3862,41.4091 ,42.5383,43.1556,43.8115,44.5305, 45.3121,46.1855,47.1879,48.3916,49.122, 50.0122,50.3244,49.0355,47.9562,46.9987 ,46.1319,44.5718,43.1809,41.9082, 40.7218,39.6106,38.5598,37.5599,35.6822 ,33.9396,32.3021,30.7527,29.2674, 27.8543,26.8205,25.495,24.2192,22.9818, 21.773,20.6002,19.4515,18.3264,17.2226, 16.1388,15.0745,14.0267,12.9891,10.9497 ,10.6958,10.6465)
FOOTPRINT_POINT_LONGITUDE = (212.128,213.958,215.12,216.241,217.325 ,218.377,219.399,221.363,223.236, 225.033,226.761,228.432,230.053,231.633 ,233.176,234.688,236.173,236.357, 236.421,236.96,237.497,238.033,238.568, 239.11,239.662,240.227,240.515,240.808, 241.106,241.411,241.722,242.041,242.369 ,242.707,243.056,243.417,243.889, 243.987,243.997,242.225,240.377,238.459 ,236.455,234.347,233.247,232.11,230.932 ,229.708,228.435,227.084,225.674,224.19 ,222.988,221.284,219.446,217.434, 215.185,213.942,212.605,211.133,209.506 ,207.661,205.5,202.833,201.172,199.1, 198.328,200.226,201.622,202.74,203.663, 205.146,206.3,207.237,208.023,208.688, 209.258,209.752,210.569,211.205,211.711 ,212.111,212.441,212.69,212.852,213.01, 213.114,213.177,213.214,213.21,213.182, 213.128,213.05,212.947,212.818,212.666, 212.501,212.114,212.065,212.128)
ORBIT_NUMBER = 23666
ORBITAL_ECCENTRICITY = 0.576
ORBITAL_INCLINATION = 87.03
ORBITAL_SEMIMAJOR_AXIS = 8801.44
PERIAPSIS_ALTITUDE = 349.58
PERIAPSIS_ARGUMENT_ANGLE = 226.36
PERIAPSIS_TIME = 2022-09-26T17:57:28.000Z
SPACECRAFT_ORIENTATION = (0.0,-1.0,0.0)
^MEX_ORIENTATION_DESC = "MEX_ORIENTATION_DESC.TXT"
SPACECRAFT_POINTING_MODE = FIXED
^MEX_POINTING_DESC = "MEX_POINTING_DESC.TXT"
RIGHT_ASCENSION = -1e+32
DECLINATION = -1e+32
OFFSET_ANGLE = -1e+32
SPACECRAFT_SOLAR_DISTANCE = 2.15837e+08
TARGET_NAME = MARS
/* CAMERA DATA ELEMENTS */
DETECTOR_TEMPERATURE = 17.1471
FOCAL_PLANE_TEMPERATURE = 8.3794
INST_CMPRS_NAME = "DISCRETE COSINE TRANSFORMATION (DCT)"
INST_CMPRS_RATIO = 11.4822
INST_CMPRS_QUALITY = 0
INST_CMPRS_QUANTZ_TBL_ID = 0
INSTRUMENT_TEMPERATURE = 11.234
LENS_TEMPERATURE = 8.5833
MACROPIXEL_SIZE = 4
MISSING_FRAMES = 0
PIXEL_SUBSAMPLING_FLAG = N
SIGNAL_CHAIN_ID = 3
/* RADIOMETRIC DATA ELEMENTS */
BANDWIDTH = 180.0
CENTER_FILTER_WAVELENGTH = 677.0
RADIANCE_OFFSET = 0.0
RADIANCE_SCALING_FACTOR = 0.0396051
REFLECTANCE_SCALING_FACTOR = 0.000962686
MEX:REFLECTANCE_OFFSET = 0.0
/* IMAGE OBJECT DEFINITIONS */
OBJECT = IMAGE
  INTERCHANGE_FORMAT = BINARY
  LINES = 3684
  LINE_SAMPLES = 2747
  SAMPLE_TYPE = UNSIGNED_INTEGER
  SAMPLE_BITS = 8
  BANDS = 1
  BAND_STORAGE_TYPE = BAND_SEQUENTIAL
  MAXIMUM = 255
  MEAN = 132.922
  MINIMUM = 1
  STANDARD_DEVIATION = 56.0184
END_OBJECT = IMAGE
/* MAP OBJECT DEFINITIONS */
OBJECT = IMAGE_MAP_PROJECTION
  ^DATA_SET_MAP_PROJECTION_CATALOG= "DSMAP.CAT"
  A_AXIS_RADIUS = 3396.0
  B_AXIS_RADIUS = 3396.0
  C_AXIS_RADIUS = 3396.0
  CENTER_LATITUDE = 18.7972
  CENTER_LONGITUDE = 226.9
  COORDINATE_SYSTEM_NAME = PLANETOGRAPHIC
  COORDINATE_SYSTEM_TYPE = "BODY-FIXED ROTATING"
  EASTERNMOST_LONGITUDE = 243.997
  FIRST_STANDARD_PARALLEL = "N/A"
  LINE_FIRST_PIXEL = 1
  LINE_LAST_PIXEL = 3684
  LINE_PROJECTION_OFFSET = 2493.25
  MAP_PROJECTION_ROTATION = 0.0
  MAP_PROJECTION_TYPE = ORTHOGRAPHIC
  MAP_RESOLUTION = 74.08922548333329
  MAP_SCALE = 0.8
  MAXIMUM_LATITUDE = 50.3244
  MINIMUM_LATITUDE = 2.18179
  POSITIVE_LONGITUDE_DIRECTION = EAST
  REFERENCE_LATITUDE = "N/A"
  REFERENCE_LONGITUDE = "N/A"
  SAMPLE_FIRST_PIXEL = 1
  SAMPLE_LAST_PIXEL = 2747
  SAMPLE_PROJECTION_OFFSET = 1703.25
  SECOND_STANDARD_PARALLEL = "N/A"
  WESTERNMOST_LONGITUDE = 198.328
END_OBJECT = IMAGE_MAP_PROJECTION
END
