PDS_VERSION_ID = PDS3
/* FILE DATA ELEMENTS */
RECORD_TYPE = UNDEFINED
/* POINTERS TO DATA OBJECTS */
^IMAGE = ("HN656_0000_ND4.TIF")
/* IDENTIFICATION DATA ELEMENTS */
DATA_SET_ID = "MEX-M-HRSC-4-REFDR-MAPPROJECT-EXT8-V4.0"
DATA_SET_NAME = "MARS EXPRESS HRSC MAP PROJECTED REFDR EXTENSION8 V4.0"
DETECTOR_ID = MEX_HRSC_NADIR
EVENT_TYPE = "MARS-REGIONAL-MAPPING-Gl-Pf-La"
INSTRUMENT_HOST_ID = MEX
INSTRUMENT_HOST_NAME = "MARS EXPRESS"
INSTRUMENT_ID = HRSC
INSTRUMENT_NAME = "HIGH RESOLUTION STEREO CAMERA"
MISSION_NAME = "MARS EXPRESS"
MISSION_PHASE_NAME = ME_Phase_47
PROCESSING_LEVEL_ID = 4
PRODUCT_CREATION_TIME = 2023-02-07T06:07:28.000Z
PRODUCT_ID = "HN656_0000_ND4.TIF"
RELEASE_ID = 0005
REVISION_ID = 0000
/* QUALITY DATA ELEMENTS */
DATA_QUALITY_ID = 1
DATA_QUALITY_DESC = "Data calculated based on original SPICE kernels"
/* TIME DATA ELEMENTS */
SPACECRAFT_CLOCK_START_COUNT = "1/0612044207.25687"
SPACECRAFT_CLOCK_STOP_COUNT = "1/0612044785.29365"
START_TIME = 2022-09-23T20:18:39.635Z
STOP_TIME = 2022-09-23T20:23:38.625Z
/* ORBITAL DATA ELEMENTS */
ASCENDING_NODE_LONGITUDE = 133.63
MAXIMUM_RESOLUTION = 0.0305
FOOTPRINT_POINT_LATITUDE = (-87.5481,-87.9132,-88.2616,-88.577, -88.8255,-88.9513,-88.8629,-88.8515, -88.8088,-88.4583,-87.9708,-87.5928, -87.0828,-86.5598,-86.1644,-85.6302, -85.0881,-84.5403,-84.1256,-83.7051, -83.4243,-82.9974,-82.7124,-82.2787, -81.9897,-81.6963,-81.2563,-80.9582, -80.6611,-80.3592,-80.0581,-79.7533, -79.4483,-79.1443,-78.835,-78.5243, -78.2147,-77.8985,-77.4246,-77.1049, -76.7831,-76.2984,-75.9711,-75.4784, -75.1455,-74.8139,-74.4758,-74.3071, -74.2714,-74.3031,-74.3245,-74.3333, -74.3373,-74.3312,-74.3194,-74.2906, -74.2636,-74.203,-74.1434,-74.1374, -74.135,-74.4671,-74.7978,-75.1242, -75.6126,-75.9336,-76.4139,-76.7293, -77.202,-77.5114,-77.8218,-78.2801, -78.5841,-78.8874,-79.1843,-79.4819, -79.7795,-80.0727,-80.3665,-80.6554, -81.0869,-81.3705,-81.6543,-82.0718, -82.3496,-82.7585,-83.0296,-83.4289, -83.6933,-83.9524,-84.2106,-84.8388, -85.3237,-85.792,-86.2356,-86.6503, -87.0278,-87.4905,-87.5517,-87.5481)
FOOTPRINT_POINT_LONGITUDE = (136.081,140.9,147.791,158.073,173.603, 195.251,224.306,225.59,229.866,223.402, 218.285,215.765,213.468,211.803,210.851 ,209.845,209.037,208.388,207.976, 207.609,207.393,207.099,206.921,206.672 ,206.521,206.379,206.183,206.068, 205.952,205.838,205.73,205.63,205.535, 205.445,205.361,205.277,205.198,205.124 ,205.03,204.953,204.886,204.792,204.73, 204.647,204.612,204.55,204.488,204.466, 204.461,202.957,201.455,200.403,199.216 ,197.439,196.269,194.536,193.385, 191.402,189.867,189.728,189.66,189.527, 189.387,189.242,189.008,188.843,188.578 ,188.392,188.091,187.879,187.655, 187.297,187.041,186.77,186.488,186.187, 185.865,185.528,185.167,184.787,184.168 ,183.724,183.247,182.476,181.913, 180.996,180.324,179.222,178.408,177.534 ,176.578,173.801,171.076,167.741, 163.643,158.552,152.101,139.291,136.766 ,136.081)
ORBIT_NUMBER = 23656
ORBITAL_ECCENTRICITY = 0.576
ORBITAL_INCLINATION = 87.02
ORBITAL_SEMIMAJOR_AXIS = 8797.84
PERIAPSIS_ALTITUDE = 349.44
PERIAPSIS_ARGUMENT_ANGLE = 228.07
PERIAPSIS_TIME = 2022-09-23T20:06:51.000Z
SPACECRAFT_ORIENTATION = (0.0,-1.0,0.0)
^MEX_ORIENTATION_DESC = "MEX_ORIENTATION_DESC.TXT"
SPACECRAFT_POINTING_MODE = ACROSSTRACK
^MEX_POINTING_DESC = "MEX_POINTING_DESC.TXT"
RIGHT_ASCENSION = -1e+32
DECLINATION = -1e+32
OFFSET_ANGLE = -2.061
SPACECRAFT_SOLAR_DISTANCE = 2.15349e+08
TARGET_NAME = MARS
/* CAMERA DATA ELEMENTS */
DETECTOR_TEMPERATURE = 18.3705
FOCAL_PLANE_TEMPERATURE = 7.3599
INST_CMPRS_NAME = "DISCRETE COSINE TRANSFORMATION (DCT)"
INST_CMPRS_RATIO = 5.81546
INST_CMPRS_QUALITY = 0
INST_CMPRS_QUANTZ_TBL_ID = 0
INSTRUMENT_TEMPERATURE = 11.0301
LENS_TEMPERATURE = 8.3794
MACROPIXEL_SIZE = 1
MISSING_FRAMES = 0
PIXEL_SUBSAMPLING_FLAG = N
SIGNAL_CHAIN_ID = 0
/* RADIOMETRIC DATA ELEMENTS */
BANDWIDTH = 177.0
CENTER_FILTER_WAVELENGTH = 677.5
RADIANCE_OFFSET = 2.08732
RADIANCE_SCALING_FACTOR = 0.0221556
REFLECTANCE_SCALING_FACTOR = 0.000545829
MEX:REFLECTANCE_OFFSET = 0.0514236
/* IMAGE OBJECT DEFINITIONS */
OBJECT = IMAGE
  INTERCHANGE_FORMAT = BINARY
  LINES = 32900
  LINE_SAMPLES = 12545
  SAMPLE_TYPE = UNSIGNED_INTEGER
  SAMPLE_BITS = 8
  BANDS = 1
  BAND_STORAGE_TYPE = BAND_SEQUENTIAL
  MAXIMUM = 255
  MEAN = 87.2519
  MINIMUM = 1
  STANDARD_DEVIATION = 35.6814
END_OBJECT = IMAGE
/* MAP OBJECT DEFINITIONS */
OBJECT = IMAGE_MAP_PROJECTION
  ^DATA_SET_MAP_PROJECTION_CATALOG= "DSMAP.CAT"
  A_AXIS_RADIUS = 3396.0
  B_AXIS_RADIUS = 3396.0
  C_AXIS_RADIUS = 3396.0
  CENTER_LATITUDE = 0.0
  CENTER_LONGITUDE = 194.0
  COORDINATE_SYSTEM_NAME = PLANETOGRAPHIC
  COORDINATE_SYSTEM_TYPE = "BODY-FIXED ROTATING"
  EASTERNMOST_LONGITUDE = 229.866
  FIRST_STANDARD_PARALLEL = "N/A"
  LINE_FIRST_PIXEL = 1
  LINE_LAST_PIXEL = 32900
  LINE_PROJECTION_OFFSET = -175764.0
  MAP_PROJECTION_ROTATION = 0.0
  MAP_PROJECTION_TYPE = SINUSOIDAL
  MAP_RESOLUTION = 2370.85521546667
  MAP_SCALE = 0.025
  MAXIMUM_LATITUDE = -74.13500000000001
  MINIMUM_LATITUDE = -88.9513
  POSITIVE_LONGITUDE_DIRECTION = EAST
  REFERENCE_LATITUDE = "N/A"
  REFERENCE_LONGITUDE = "N/A"
  SAMPLE_FIRST_PIXEL = 1
  SAMPLE_LAST_PIXEL = 12545
  SAMPLE_PROJECTION_OFFSET = 5822.0
  SECOND_STANDARD_PARALLEL = "N/A"
  WESTERNMOST_LONGITUDE = 136.081
END_OBJECT = IMAGE_MAP_PROJECTION
END
