PDS_VERSION_ID = PDS3
/* FILE DATA ELEMENTS */
RECORD_TYPE = UNDEFINED
/* POINTERS TO DATA OBJECTS */
^IMAGE = ("HN656_0000_IR4.TIF")
/* IDENTIFICATION DATA ELEMENTS */
DATA_SET_ID = "MEX-M-HRSC-4-REFDR-MAPPROJECT-EXT8-V4.0"
DATA_SET_NAME = "MARS EXPRESS HRSC MAP PROJECTED REFDR EXTENSION8 V4.0"
DETECTOR_ID = MEX_HRSC_IR
EVENT_TYPE = "MARS-REGIONAL-MAPPING-Gl-Pf-La"
INSTRUMENT_HOST_ID = MEX
INSTRUMENT_HOST_NAME = "MARS EXPRESS"
INSTRUMENT_ID = HRSC
INSTRUMENT_NAME = "HIGH RESOLUTION STEREO CAMERA"
MISSION_NAME = "MARS EXPRESS"
MISSION_PHASE_NAME = ME_Phase_47
PROCESSING_LEVEL_ID = 4
PRODUCT_CREATION_TIME = 2023-02-07T06:07:28.000Z
PRODUCT_ID = "HN656_0000_IR4.TIF"
RELEASE_ID = 0005
REVISION_ID = 0000
/* QUALITY DATA ELEMENTS */
DATA_QUALITY_ID = 1
DATA_QUALITY_DESC = "Data calculated based on original SPICE kernels"
/* TIME DATA ELEMENTS */
SPACECRAFT_CLOCK_START_COUNT = "1/0612044207.25687"
SPACECRAFT_CLOCK_STOP_COUNT = "1/0612044785.29365"
START_TIME = 2022-09-23T20:17:34.742Z
STOP_TIME = 2022-09-23T20:21:52.608Z
/* ORBITAL DATA ELEMENTS */
ASCENDING_NODE_LONGITUDE = 133.63
MAXIMUM_RESOLUTION = 0.0585
FOOTPRINT_POINT_LATITUDE = (-87.7464,-88.0771,-88.3934,-88.6805, -88.9086,-89.028,-88.9365,-88.9255, -88.8025,-88.4268,-88.0438,-87.5264, -86.873,-86.3529,-85.6965,-85.1622, -84.6223,-84.349,-84.0768,-83.6606, -83.3817,-83.1032,-82.8188,-82.5344, -82.2507,-81.9614,-81.6715,-81.3822, -81.0874,-80.7912,-80.3476,-80.0479, -79.7485,-79.4442,-79.1385,-78.8328, -78.5224,-78.2126,-77.8986,-77.5785, -77.265,-76.9448,-76.6251,-76.2991, -75.9751,-75.6476,-75.3044,-74.9708, -74.4758,-74.3125,-74.2393,-74.2956, -74.3181,-74.3418,-74.3599,-74.3601, -74.339,-74.3223,-74.2636,-74.2596, -74.2593,-74.5895,-74.9201,-75.2499, -75.5745,-75.9,-76.2202,-76.6994, -77.0147,-77.3302,-77.6401,-78.1013, -78.4092,-78.8654,-79.3139,-79.614, -79.9069,-80.1999,-80.4908,-80.7774, -81.0658,-81.4903,-81.7709,-82.1887, -82.4622,-82.7356,-83.006,-83.2719, -83.5372,-83.801,-84.3143,-84.6942, -85.0628,-85.5446,-86.005,-86.6597, -87.1572,-87.6447,-87.7088,-87.7464)
FOOTPRINT_POINT_LONGITUDE = (133.237,137.955,144.695,154.728,169.85 ,190.964,222.266,223.505,226.186, 220.329,216.726,213.68,211.337,210.03, 208.865,208.139,207.545,207.291,207.056 ,206.737,206.548,206.375,206.212, 206.059,205.916,205.781,205.656,205.538 ,205.428,205.327,205.172,205.075, 204.985,204.898,204.818,204.739,204.663 ,204.59,204.52,204.47,204.396,204.332, 204.272,204.217,204.158,204.099,204.083 ,204.034,203.94,203.906,203.897,201.921 ,200.868,199.299,197.601,196.442, 194.541,193.02,190.793,190.671,190.626, 190.497,190.36,190.216,190.067,189.909, 189.744,189.479,189.292,189.094,188.889 ,188.563,188.323,187.945,187.537, 187.242,186.935,186.608,186.262,185.898 ,185.502,184.869,184.412,183.665, 183.127,182.545,181.921,181.254,180.53, 179.742,177.979,176.433,174.677,171.888 ,168.483,161.65,153.508,139.486,136.612 ,133.237)
ORBIT_NUMBER = 23656
ORBITAL_ECCENTRICITY = 0.576
ORBITAL_INCLINATION = 87.02
ORBITAL_SEMIMAJOR_AXIS = 8797.84
PERIAPSIS_ALTITUDE = 349.44
PERIAPSIS_ARGUMENT_ANGLE = 228.07
PERIAPSIS_TIME = 2022-09-23T20:06:51.000Z
SPACECRAFT_ORIENTATION = (0.0,-1.0,0.0)
^MEX_ORIENTATION_DESC = "MEX_ORIENTATION_DESC.TXT"
SPACECRAFT_POINTING_MODE = ACROSSTRACK
^MEX_POINTING_DESC = "MEX_POINTING_DESC.TXT"
RIGHT_ASCENSION = -1e+32
DECLINATION = -1e+32
OFFSET_ANGLE = -2.061
SPACECRAFT_SOLAR_DISTANCE = 2.15349e+08
TARGET_NAME = MARS
/* CAMERA DATA ELEMENTS */
DETECTOR_TEMPERATURE = 17.351
FOCAL_PLANE_TEMPERATURE = 7.3599
INST_CMPRS_NAME = "DISCRETE COSINE TRANSFORMATION (DCT)"
INST_CMPRS_RATIO = 5.33121
INST_CMPRS_QUALITY = 0
INST_CMPRS_QUANTZ_TBL_ID = 0
INSTRUMENT_TEMPERATURE = 11.0301
LENS_TEMPERATURE = 8.3794
MACROPIXEL_SIZE = 2
MISSING_FRAMES = 0
PIXEL_SUBSAMPLING_FLAG = N
SIGNAL_CHAIN_ID = 3
/* RADIOMETRIC DATA ELEMENTS */
BANDWIDTH = 81.0
CENTER_FILTER_WAVELENGTH = 955.5
RADIANCE_OFFSET = 0.532956
RADIANCE_SCALING_FACTOR = 0.00500573
REFLECTANCE_SCALING_FACTOR = 0.000500824
MEX:REFLECTANCE_OFFSET = 0.0533222
/* IMAGE OBJECT DEFINITIONS */
OBJECT = IMAGE
  INTERCHANGE_FORMAT = BINARY
  LINES = 16450
  LINE_SAMPLES = 6273
  SAMPLE_TYPE = UNSIGNED_INTEGER
  SAMPLE_BITS = 8
  BANDS = 1
  BAND_STORAGE_TYPE = BAND_SEQUENTIAL
  MAXIMUM = 255
  MEAN = 93.9653
  MINIMUM = 1
  STANDARD_DEVIATION = 39.0003
END_OBJECT = IMAGE
/* MAP OBJECT DEFINITIONS */
OBJECT = IMAGE_MAP_PROJECTION
  ^DATA_SET_MAP_PROJECTION_CATALOG= "DSMAP.CAT"
  A_AXIS_RADIUS = 3396.0
  B_AXIS_RADIUS = 3396.0
  C_AXIS_RADIUS = 3396.0
  CENTER_LATITUDE = 0.0
  CENTER_LONGITUDE = 194.0
  COORDINATE_SYSTEM_NAME = PLANETOGRAPHIC
  COORDINATE_SYSTEM_TYPE = "BODY-FIXED ROTATING"
  EASTERNMOST_LONGITUDE = 226.186
  FIRST_STANDARD_PARALLEL = "N/A"
  LINE_FIRST_PIXEL = 1
  LINE_LAST_PIXEL = 16450
  LINE_PROJECTION_OFFSET = -87882.25
  MAP_PROJECTION_ROTATION = 0.0
  MAP_PROJECTION_TYPE = SINUSOIDAL
  MAP_RESOLUTION = 1185.42760773333
  MAP_SCALE = 0.05
  MAXIMUM_LATITUDE = -74.2393
  MINIMUM_LATITUDE = -89.02800000000001
  POSITIVE_LONGITUDE_DIRECTION = EAST
  REFERENCE_LATITUDE = "N/A"
  REFERENCE_LONGITUDE = "N/A"
  SAMPLE_FIRST_PIXEL = 1
  SAMPLE_LAST_PIXEL = 6273
  SAMPLE_PROJECTION_OFFSET = 2910.75
  SECOND_STANDARD_PARALLEL = "N/A"
  WESTERNMOST_LONGITUDE = 133.237
END_OBJECT = IMAGE_MAP_PROJECTION
END
