PDS_VERSION_ID = PDS3
/* FILE DATA ELEMENTS */
RECORD_TYPE = UNDEFINED
/* POINTERS TO DATA OBJECTS */
^IMAGE = ("HN635_0000_RE4.TIF")
/* IDENTIFICATION DATA ELEMENTS */
DATA_SET_ID = "MEX-M-HRSC-4-REFDR-MAPPROJECT-EXT8-V4.0"
DATA_SET_NAME = "MARS EXPRESS HRSC MAP PROJECTED REFDR EXTENSION8 V4.0"
DETECTOR_ID = MEX_HRSC_RED
EVENT_TYPE = "MARS-REGIONAL-MAPPING-Gl-Pf-La"
INSTRUMENT_HOST_ID = MEX
INSTRUMENT_HOST_NAME = "MARS EXPRESS"
INSTRUMENT_ID = HRSC
INSTRUMENT_NAME = "HIGH RESOLUTION STEREO CAMERA"
MISSION_NAME = "MARS EXPRESS"
MISSION_PHASE_NAME = ME_Phase_47
PROCESSING_LEVEL_ID = 4
PRODUCT_CREATION_TIME = 2023-02-07T06:07:28.000Z
PRODUCT_ID = "HN635_0000_RE4.TIF"
RELEASE_ID = 0005
REVISION_ID = 0000
/* QUALITY DATA ELEMENTS */
DATA_QUALITY_ID = 1
DATA_QUALITY_DESC = "Data calculated based on original SPICE kernels"
/* TIME DATA ELEMENTS */
SPACECRAFT_CLOCK_START_COUNT = "1/0611516155.25666"
SPACECRAFT_CLOCK_STOP_COUNT = "1/0611516680.39892"
START_TIME = 2022-09-17T17:38:49.212Z
STOP_TIME = 2022-09-17T17:44:36.958Z
/* ORBITAL DATA ELEMENTS */
ASCENDING_NODE_LONGITUDE = 134.0
MAXIMUM_RESOLUTION = 0.0644
FOOTPRINT_POINT_LATITUDE = (-84.6665,-85.2255,-85.6251,-86.0188, -86.4052,-86.7836,-87.1526,-87.1753, -87.2266,-87.056,-86.8429,-86.5039, -86.1165,-85.7971,-85.3444,-84.8693, -84.3706,-83.9804,-83.7173,-83.4512, -83.0506,-82.7746,-82.4939,-82.2123, -81.9285,-81.4976,-81.2083,-80.9154, -80.6196,-80.3211,-80.0205,-79.5685, -79.2684,-78.9697,-78.6725,-78.3769, -78.0821,-77.7887,-77.4968,-77.2059, -76.9173,-76.6285,-76.3414,-76.0557, -75.7723,-75.4903,-74.929,-74.3738, -74.236,-74.1829,-74.1423,-74.0836, -74.0414,-73.9786,-73.8777,-73.812, -73.7402,-73.6631,-73.5485,-73.4464, -73.4344,-73.4309,-73.9529,-74.4811, -75.0148,-75.5514,-75.8217,-76.0938, -76.3652,-76.6375,-76.9104,-77.1842, -77.5955,-77.8693,-78.1439,-78.4189, -78.6945,-79.104,-79.3732,-79.6391, -79.9013,-80.1594,-80.414,-80.6644, -80.9109,-81.2722,-81.5028,-81.731, -81.9544,-82.1752,-82.3863,-82.7895, -83.1655,-83.6713,-83.964,-84.2166, -84.3776,-84.5871,-84.6191,-84.6665)
FOOTPRINT_POINT_LONGITUDE = (107.883,109.647,111.18,112.99,115.159, 117.81,121.129,121.364,119.979,127.179, 133.543,140.758,146.664,150.407,154.601 ,158.059,160.957,162.838,163.964, 165.004,166.415,167.28,168.087,168.838, 169.54,170.511,171.108,171.672,172.202, 172.703,173.177,173.837,174.243,174.625 ,174.984,175.324,175.644,175.948, 176.236,176.509,176.769,177.015,177.25, 177.475,177.689,177.894,178.277,178.629 ,178.712,178.744,176.804,174.87,173.686 ,172.212,170.158,168.99,167.828,166.673 ,165.091,163.803,163.661,163.609, 163.067,162.469,161.809,161.09,160.701, 160.288,159.862,159.412,158.94,158.442, 157.644,157.081,156.484,155.85,155.174, 154.104,153.345,152.548,151.71,150.829, 149.9,148.923,147.89,146.237,145.132, 143.924,142.646,141.227,139.819,136.791 ,133.448,127.729,123.459,118.863, 115.179,108.664,107.287,107.883)
ORBIT_NUMBER = 23635
ORBITAL_ECCENTRICITY = 0.575
ORBITAL_INCLINATION = 87.02
ORBITAL_SEMIMAJOR_AXIS = 8791.01
PERIAPSIS_ALTITUDE = 349.27
PERIAPSIS_ARGUMENT_ANGLE = 231.63
PERIAPSIS_TIME = 2022-09-17T17:26:56.000Z
SPACECRAFT_ORIENTATION = (0.0,-1.0,0.0)
^MEX_ORIENTATION_DESC = "MEX_ORIENTATION_DESC.TXT"
SPACECRAFT_POINTING_MODE = ACROSSTRACK
^MEX_POINTING_DESC = "MEX_POINTING_DESC.TXT"
RIGHT_ASCENSION = -1e+32
DECLINATION = -1e+32
OFFSET_ANGLE = 0.916
SPACECRAFT_SOLAR_DISTANCE = 2.14352e+08
TARGET_NAME = MARS
/* CAMERA DATA ELEMENTS */
DETECTOR_TEMPERATURE = 18.1666
FOCAL_PLANE_TEMPERATURE = 7.9716
INST_CMPRS_NAME = "DISCRETE COSINE TRANSFORMATION (DCT)"
INST_CMPRS_RATIO = 9.39597
INST_CMPRS_QUALITY = 0
INST_CMPRS_QUANTZ_TBL_ID = 0
INSTRUMENT_TEMPERATURE = 10.8262
LENS_TEMPERATURE = 7.9716
MACROPIXEL_SIZE = 2
MISSING_FRAMES = 0
PIXEL_SUBSAMPLING_FLAG = N
SIGNAL_CHAIN_ID = 3
/* RADIOMETRIC DATA ELEMENTS */
BANDWIDTH = 48.0
CENTER_FILTER_WAVELENGTH = 748.0
RADIANCE_OFFSET = 0.505175
RADIANCE_SCALING_FACTOR = 0.00560603
REFLECTANCE_SCALING_FACTOR = 0.000587818
MEX:REFLECTANCE_OFFSET = 0.0529699
/* IMAGE OBJECT DEFINITIONS */
OBJECT = IMAGE
  INTERCHANGE_FORMAT = BINARY
  LINES = 16206
  LINE_SAMPLES = 11488
  SAMPLE_TYPE = UNSIGNED_INTEGER
  SAMPLE_BITS = 8
  BANDS = 1
  BAND_STORAGE_TYPE = BAND_SEQUENTIAL
  MAXIMUM = 255
  MEAN = 117.842
  MINIMUM = 1
  STANDARD_DEVIATION = 31.4718
END_OBJECT = IMAGE
/* MAP OBJECT DEFINITIONS */
OBJECT = IMAGE_MAP_PROJECTION
  ^DATA_SET_MAP_PROJECTION_CATALOG= "DSMAP.CAT"
  A_AXIS_RADIUS = 3396.0
  B_AXIS_RADIUS = 3396.0
  C_AXIS_RADIUS = 3396.0
  CENTER_LATITUDE = 0.0
  CENTER_LONGITUDE = 159.0
  COORDINATE_SYSTEM_NAME = PLANETOGRAPHIC
  COORDINATE_SYSTEM_TYPE = "BODY-FIXED ROTATING"
  EASTERNMOST_LONGITUDE = 178.744
  FIRST_STANDARD_PARALLEL = "N/A"
  LINE_FIRST_PIXEL = 1
  LINE_LAST_PIXEL = 16206
  LINE_PROJECTION_OFFSET = -87055.75
  MAP_PROJECTION_ROTATION = 0.0
  MAP_PROJECTION_TYPE = SINUSOIDAL
  MAP_RESOLUTION = 1185.42760773333
  MAP_SCALE = 0.05
  MAXIMUM_LATITUDE = -73.43089999999999
  MINIMUM_LATITUDE = -87.2266
  POSITIVE_LONGITUDE_DIRECTION = EAST
  REFERENCE_LATITUDE = "N/A"
  REFERENCE_LONGITUDE = "N/A"
  SAMPLE_FIRST_PIXEL = 1
  SAMPLE_LAST_PIXEL = 11488
  SAMPLE_PROJECTION_OFFSET = 5593.25
  SECOND_STANDARD_PARALLEL = "N/A"
  WESTERNMOST_LONGITUDE = 107.287
END_OBJECT = IMAGE_MAP_PROJECTION
END
