PDS_VERSION_ID = PDS3
/* FILE DATA ELEMENTS */
RECORD_TYPE = UNDEFINED
/* POINTERS TO DATA OBJECTS */
^IMAGE = ("HN611_0000_GR4.TIF")
/* IDENTIFICATION DATA ELEMENTS */
DATA_SET_ID = "MEX-M-HRSC-4-REFDR-MAPPROJECT-EXT8-V4.0"
DATA_SET_NAME = "MARS EXPRESS HRSC MAP PROJECTED REFDR EXTENSION8 V4.0"
DETECTOR_ID = MEX_HRSC_GREEN
EVENT_TYPE = "MARS-REGIONAL-MAPPING-Gl-Eb-La"
INSTRUMENT_HOST_ID = MEX
INSTRUMENT_HOST_NAME = "MARS EXPRESS"
INSTRUMENT_ID = HRSC
INSTRUMENT_NAME = "HIGH RESOLUTION STEREO CAMERA"
MISSION_NAME = "MARS EXPRESS"
MISSION_PHASE_NAME = ME_Phase_47
PROCESSING_LEVEL_ID = 4
PRODUCT_CREATION_TIME = 2023-02-07T06:07:28.000Z
PRODUCT_ID = "HN611_0000_GR4.TIF"
RELEASE_ID = 0005
REVISION_ID = 0000
/* QUALITY DATA ELEMENTS */
DATA_QUALITY_ID = 1
DATA_QUALITY_DESC = "Data calculated based on original SPICE kernels"
/* TIME DATA ELEMENTS */
SPACECRAFT_CLOCK_START_COUNT = "1/0610912677.24909"
SPACECRAFT_CLOCK_STOP_COUNT = "1/0610913122.31436"
START_TIME = 2022-09-10T17:59:23.194Z
STOP_TIME = 2022-09-10T18:03:22.462Z
/* ORBITAL DATA ELEMENTS */
ASCENDING_NODE_LONGITUDE = 134.42
MAXIMUM_RESOLUTION = 0.0506
FOOTPRINT_POINT_LATITUDE = (-85.927,-86.3371,-86.616,-86.848, -87.0611,-87.3638,-87.3733,-87.3835, -86.9731,-86.5486,-86.0021,-85.5543, -85.19,-84.7354,-84.2807,-83.826, -83.3719,-83.1261,-82.8681,-82.6104, -82.3531,-82.0962,-81.8396,-81.5835, -81.3277,-81.0723,-80.8152,-80.4601, -80.1993,-79.937,-79.5414,-79.2757, -79.0075,-78.7381,-78.4671,-78.1943, -77.92,-77.5055,-77.2275,-76.9471, -76.6656,-76.383,-75.9534,-75.6651, -75.3756,-75.0851,-74.7913,-74.6443, -74.6385,-74.6298,-74.6158,-74.5951, -74.5711,-74.5459,-74.5165,-74.48, -74.3671,-74.258,-74.2515,-74.25, -74.5376,-74.8232,-75.1073,-75.3894, -75.6693,-75.9449,-76.3581,-76.6313, -76.9021,-77.1711,-77.4371,-77.7023, -77.9658,-78.2267,-78.615,-78.9986, -79.378,-79.6287,-79.877,-80.2146, -80.4589,-80.8204,-81.06,-81.3002, -81.5399,-81.779,-82.0171,-82.2546, -82.5983,-83.0094,-83.3149,-83.716, -84.1091,-84.5123,-84.8785,-85.3064, -85.6215,-85.8392,-85.9072,-85.927)
FOOTPRINT_POINT_LONGITUDE = (62.2715,66.9576,71.0476,75.2911, 80.2075,90.2636,90.6808,91.933,95.7903, 98.7327,101.554,103.315,104.5,105.752, 106.78,107.65,108.395,108.761,109.116, 109.443,109.745,110.026,110.288,110.534 ,110.766,110.985,111.192,111.458, 111.644,111.82,112.054,112.209,112.359, 112.503,112.643,112.773,112.897,113.073 ,113.184,113.289,113.383,113.472, 113.624,113.719,113.802,113.868,113.952 ,113.99,113.991,113.076,112.042,110.897 ,109.878,108.977,108.084,107.082, 104.553,102.613,102.506,102.467,102.268 ,102.063,101.85,101.628,101.396,101.152 ,100.775,100.513,100.238,99.9515, 99.6531,99.3439,99.0218,98.6862,98.1553 ,97.5892,96.9853,96.5597,96.1139,95.468 ,94.9714,94.1768,93.6057,93.0033, 92.3639,91.6843,90.9607,90.1901,88.9763 ,87.3397,85.9737,83.9346,81.606,78.7796 ,75.7014,71.2432,67.1106,63.6296,62.404 ,62.2715)
ORBIT_NUMBER = 23611
ORBITAL_ECCENTRICITY = 0.575
ORBITAL_INCLINATION = 87.04
ORBITAL_SEMIMAJOR_AXIS = 8781.45
PERIAPSIS_ALTITUDE = 347.98
PERIAPSIS_ARGUMENT_ANGLE = 235.7
PERIAPSIS_TIME = 2022-09-10T17:49:42.000Z
SPACECRAFT_ORIENTATION = (0.0,-1.0,0.0)
^MEX_ORIENTATION_DESC = "MEX_ORIENTATION_DESC.TXT"
SPACECRAFT_POINTING_MODE = ACROSSTRACK
^MEX_POINTING_DESC = "MEX_POINTING_DESC.TXT"
RIGHT_ASCENSION = -1e+32
DECLINATION = -1e+32
OFFSET_ANGLE = -0.687
SPACECRAFT_SOLAR_DISTANCE = 2.13267e+08
TARGET_NAME = MARS
/* CAMERA DATA ELEMENTS */
DETECTOR_TEMPERATURE = 16.9432
FOCAL_PLANE_TEMPERATURE = 7.7677
INST_CMPRS_NAME = "DISCRETE COSINE TRANSFORMATION (DCT)"
INST_CMPRS_RATIO = 7.23641
INST_CMPRS_QUALITY = 0
INST_CMPRS_QUANTZ_TBL_ID = 0
INSTRUMENT_TEMPERATURE = 11.0301
LENS_TEMPERATURE = 7.9716
MACROPIXEL_SIZE = 2
MISSING_FRAMES = 18
PIXEL_SUBSAMPLING_FLAG = N
SIGNAL_CHAIN_ID = 2
/* RADIOMETRIC DATA ELEMENTS */
BANDWIDTH = 88.0
CENTER_FILTER_WAVELENGTH = 538.0
RADIANCE_OFFSET = 0.997301
RADIANCE_SCALING_FACTOR = 0.00552139
REFLECTANCE_SCALING_FACTOR = 0.000216216
MEX:REFLECTANCE_OFFSET = 0.039054
/* IMAGE OBJECT DEFINITIONS */
OBJECT = IMAGE
  INTERCHANGE_FORMAT = BINARY
  LINES = 15606
  LINE_SAMPLES = 7194
  SAMPLE_TYPE = UNSIGNED_INTEGER
  SAMPLE_BITS = 8
  BANDS = 1
  BAND_STORAGE_TYPE = BAND_SEQUENTIAL
  MAXIMUM = 255
  MEAN = 114.592
  MINIMUM = 1
  STANDARD_DEVIATION = 33.9972
END_OBJECT = IMAGE
/* MAP OBJECT DEFINITIONS */
OBJECT = IMAGE_MAP_PROJECTION
  ^DATA_SET_MAP_PROJECTION_CATALOG= "DSMAP.CAT"
  A_AXIS_RADIUS = 3396.0
  B_AXIS_RADIUS = 3396.0
  C_AXIS_RADIUS = 3396.0
  CENTER_LATITUDE = 0.0
  CENTER_LONGITUDE = 102.0
  COORDINATE_SYSTEM_NAME = PLANETOGRAPHIC
  COORDINATE_SYSTEM_TYPE = "BODY-FIXED ROTATING"
  EASTERNMOST_LONGITUDE = 113.991
  FIRST_STANDARD_PARALLEL = "N/A"
  LINE_FIRST_PIXEL = 1
  LINE_LAST_PIXEL = 15606
  LINE_PROJECTION_OFFSET = -88000.25
  MAP_PROJECTION_ROTATION = 0.0
  MAP_PROJECTION_TYPE = SINUSOIDAL
  MAP_RESOLUTION = 1185.42760773333
  MAP_SCALE = 0.05
  MAXIMUM_LATITUDE = -74.25
  MINIMUM_LATITUDE = -87.3835
  POSITIVE_LONGITUDE_DIRECTION = EAST
  REFERENCE_LATITUDE = "N/A"
  REFERENCE_LONGITUDE = "N/A"
  SAMPLE_FIRST_PIXEL = 1
  SAMPLE_LAST_PIXEL = 7194
  SAMPLE_PROJECTION_OFFSET = 3376.75
  SECOND_STANDARD_PARALLEL = "N/A"
  WESTERNMOST_LONGITUDE = 62.2715
END_OBJECT = IMAGE_MAP_PROJECTION
END
