PDS_VERSION_ID = PDS3
/* FILE DATA ELEMENTS */
RECORD_TYPE = UNDEFINED
/* POINTERS TO DATA OBJECTS */
^IMAGE = ("HN604_0000_BL4.TIF")
/* IDENTIFICATION DATA ELEMENTS */
DATA_SET_ID = "MEX-M-HRSC-4-REFDR-MAPPROJECT-EXT8-V4.0"
DATA_SET_NAME = "MARS EXPRESS HRSC MAP PROJECTED REFDR EXTENSION8 V4.0"
DETECTOR_ID = MEX_HRSC_BLUE
EVENT_TYPE = "MARS-REGIONAL-MAPPING-Gl-Pf-La"
INSTRUMENT_HOST_ID = MEX
INSTRUMENT_HOST_NAME = "MARS EXPRESS"
INSTRUMENT_ID = HRSC
INSTRUMENT_NAME = "HIGH RESOLUTION STEREO CAMERA"
MISSION_NAME = "MARS EXPRESS"
MISSION_PHASE_NAME = ME_Phase_47
PROCESSING_LEVEL_ID = 4
PRODUCT_CREATION_TIME = 2023-02-07T06:07:28.000Z
PRODUCT_ID = "HN604_0000_BL4.TIF"
RELEASE_ID = 0005
REVISION_ID = 0000
/* QUALITY DATA ELEMENTS */
DATA_QUALITY_ID = 1
DATA_QUALITY_DESC = "Data calculated based on original SPICE kernels"
/* TIME DATA ELEMENTS */
SPACECRAFT_CLOCK_START_COUNT = "1/0610736659.25692"
SPACECRAFT_CLOCK_STOP_COUNT = "1/0610737084.42305"
START_TIME = 2022-09-08T17:06:06.472Z
STOP_TIME = 2022-09-08T17:10:06.962Z
/* ORBITAL DATA ELEMENTS */
ASCENDING_NODE_LONGITUDE = 134.54
MAXIMUM_RESOLUTION = 0.0515
FOOTPRINT_POINT_LATITUDE = (-84.9737,-85.2085,-85.4678,-85.8056, -86.0349,-86.3105,-86.4641,-86.4753, -86.5092,-86.0384,-85.7434,-85.4419, -85.0305,-84.6154,-84.1984,-83.6722, -83.25,-83.0116,-82.7709,-82.5302, -82.2896,-82.0476,-81.8069,-81.5666, -81.3265,-80.9654,-80.723,-80.4784, -80.1094,-79.737,-79.4876,-79.2365, -78.9831,-78.7283,-78.4712,-78.213, -77.8224,-77.4282,-77.03,-76.7623, -76.4937,-76.2252,-75.9537,-75.6802, -75.4051,-75.128,-74.7094,-74.5675, -74.5128,-74.4934,-74.4565,-74.4129, -74.3751,-74.322,-74.2801,-74.2224, -74.1526,-74.0832,-74.0008,-73.993, -73.991,-74.3993,-74.669,-74.9371, -75.2036,-75.4675,-75.8613,-76.1205, -76.5069,-76.8889,-77.1406,-77.3912, -77.64,-77.886,-78.2521,-78.6138, -78.9709,-79.3234,-79.5562,-79.7864, -80.1281,-80.3535,-80.5763,-80.7985, -81.02,-81.2407,-81.4605,-81.6794, -81.897,-82.3182,-82.6917,-83.0589, -83.4182,-83.7679,-84.1058,-84.4261, -84.6527,-84.8666,-84.9349,-84.9737)
FOOTPRINT_POINT_LONGITUDE = (58.5786,60.7084,63.4038,67.6361,71.147 ,76.3944,80.0371,80.3301,80.6831, 85.0152,87.1676,89.0485,91.2087,93.0339 ,94.597,96.2327,97.3497,97.9168,98.4502 ,98.9475,99.4121,99.836,100.242,100.624 ,100.984,101.49,101.807,102.11,102.538, 102.938,103.193,103.442,103.673,103.894 ,104.106,104.309,104.599,104.871, 105.125,105.285,105.443,105.607,105.757 ,105.899,106.036,106.169,106.36,106.415 ,106.438,105.529,104.161,102.808,101.8, 100.574,99.6862,98.5825,97.3769,96.2908 ,95.103,94.9957,94.9563,94.6132,94.3779 ,94.1327,93.8758,93.6127,93.1887, 92.9012,92.4453,91.9617,91.6297,91.2816 ,90.9214,90.5487,89.9614,89.3386, 88.6755,87.9763,87.4835,86.9748,86.16, 85.5894,84.9945,84.3678,83.7071,83.0156 ,82.2806,81.5049,80.6848,78.9417, 77.1883,75.2304,73.0421,70.5922,67.8351 ,64.7683,62.2446,59.5284,58.5791, 58.5786)
ORBIT_NUMBER = 23604
ORBITAL_ECCENTRICITY = 0.575
ORBITAL_INCLINATION = 87.03
ORBITAL_SEMIMAJOR_AXIS = 8779.82
PERIAPSIS_ALTITUDE = 347.75
PERIAPSIS_ARGUMENT_ANGLE = 236.89
PERIAPSIS_TIME = 2022-09-08T16:56:13.000Z
SPACECRAFT_ORIENTATION = (0.0,-1.0,0.0)
^MEX_ORIENTATION_DESC = "MEX_ORIENTATION_DESC.TXT"
SPACECRAFT_POINTING_MODE = NADIR
^MEX_POINTING_DESC = "MEX_POINTING_DESC.TXT"
RIGHT_ASCENSION = -1e+32
DECLINATION = -1e+32
OFFSET_ANGLE = -1e+32
SPACECRAFT_SOLAR_DISTANCE = 2.12962e+08
TARGET_NAME = MARS
/* CAMERA DATA ELEMENTS */
DETECTOR_TEMPERATURE = 17.9627
FOCAL_PLANE_TEMPERATURE = 7.7677
INST_CMPRS_NAME = "DISCRETE COSINE TRANSFORMATION (DCT)"
INST_CMPRS_RATIO = 8.06213
INST_CMPRS_QUALITY = 0
INST_CMPRS_QUANTZ_TBL_ID = 0
INSTRUMENT_TEMPERATURE = 11.0301
LENS_TEMPERATURE = 8.1755
MACROPIXEL_SIZE = 2
MISSING_FRAMES = 0
PIXEL_SUBSAMPLING_FLAG = N
SIGNAL_CHAIN_ID = 2
/* RADIOMETRIC DATA ELEMENTS */
BANDWIDTH = 76.0
CENTER_FILTER_WAVELENGTH = 444.0
RADIANCE_OFFSET = 0.431132
RADIANCE_SCALING_FACTOR = 0.00186683
REFLECTANCE_SCALING_FACTOR = 8.69896e-05
MEX:REFLECTANCE_OFFSET = 0.0200897
/* IMAGE OBJECT DEFINITIONS */
OBJECT = IMAGE
  INTERCHANGE_FORMAT = BINARY
  LINES = 14835
  LINE_SAMPLES = 7820
  SAMPLE_TYPE = UNSIGNED_INTEGER
  SAMPLE_BITS = 8
  BANDS = 1
  BAND_STORAGE_TYPE = BAND_SEQUENTIAL
  MAXIMUM = 255
  MEAN = 125.014
  MINIMUM = 1
  STANDARD_DEVIATION = 38.7909
END_OBJECT = IMAGE
/* MAP OBJECT DEFINITIONS */
OBJECT = IMAGE_MAP_PROJECTION
  ^DATA_SET_MAP_PROJECTION_CATALOG= "DSMAP.CAT"
  A_AXIS_RADIUS = 3396.0
  B_AXIS_RADIUS = 3396.0
  C_AXIS_RADIUS = 3396.0
  CENTER_LATITUDE = 0.0
  CENTER_LONGITUDE = 93.0
  COORDINATE_SYSTEM_NAME = PLANETOGRAPHIC
  COORDINATE_SYSTEM_TYPE = "BODY-FIXED ROTATING"
  EASTERNMOST_LONGITUDE = 106.438
  FIRST_STANDARD_PARALLEL = "N/A"
  LINE_FIRST_PIXEL = 1
  LINE_LAST_PIXEL = 14835
  LINE_PROJECTION_OFFSET = -87719.75
  MAP_PROJECTION_ROTATION = 0.0
  MAP_PROJECTION_TYPE = SINUSOIDAL
  MAP_RESOLUTION = 1185.42760773333
  MAP_SCALE = 0.05
  MAXIMUM_LATITUDE = -73.991
  MINIMUM_LATITUDE = -86.50920000000001
  POSITIVE_LONGITUDE_DIRECTION = EAST
  REFERENCE_LATITUDE = "N/A"
  REFERENCE_LONGITUDE = "N/A"
  SAMPLE_FIRST_PIXEL = 1
  SAMPLE_LAST_PIXEL = 7820
  SAMPLE_PROJECTION_OFFSET = 3600.75
  SECOND_STANDARD_PARALLEL = "N/A"
  WESTERNMOST_LONGITUDE = 58.5786
END_OBJECT = IMAGE_MAP_PROJECTION
END
