PDS_VERSION_ID = PDS3
/* FILE DATA ELEMENTS */
RECORD_TYPE = UNDEFINED
/* POINTERS TO DATA OBJECTS */
^IMAGE = ("HN590_0000_RE4.TIF")
/* IDENTIFICATION DATA ELEMENTS */
DATA_SET_ID = "MEX-M-HRSC-4-REFDR-MAPPROJECT-EXT8-V4.0"
DATA_SET_NAME = "MARS EXPRESS HRSC MAP PROJECTED REFDR EXTENSION8 V4.0"
DETECTOR_ID = MEX_HRSC_RED
EVENT_TYPE = "MARS-REGIONAL-MAPPING-Gl-Pf-La"
INSTRUMENT_HOST_ID = MEX
INSTRUMENT_HOST_NAME = "MARS EXPRESS"
INSTRUMENT_ID = HRSC
INSTRUMENT_NAME = "HIGH RESOLUTION STEREO CAMERA"
MISSION_NAME = "MARS EXPRESS"
MISSION_PHASE_NAME = ME_Phase_47
PROCESSING_LEVEL_ID = 4
PRODUCT_CREATION_TIME = 2023-02-07T06:07:28.000Z
PRODUCT_ID = "HN590_0000_RE4.TIF"
RELEASE_ID = 0005
REVISION_ID = 0000
/* QUALITY DATA ELEMENTS */
DATA_QUALITY_ID = 1
DATA_QUALITY_DESC = "Data calculated based on original SPICE kernels"
/* TIME DATA ELEMENTS */
SPACECRAFT_CLOCK_START_COUNT = "1/0610384655.25671"
SPACECRAFT_CLOCK_STOP_COUNT = "1/0610385018.43612"
START_TIME = 2022-09-04T15:20:16.086Z
STOP_TIME = 2022-09-04T15:23:47.549Z
/* ORBITAL DATA ELEMENTS */
ASCENDING_NODE_LONGITUDE = 134.79
MAXIMUM_RESOLUTION = 0.0596
FOOTPRINT_POINT_LATITUDE = (-82.4301,-82.6006,-82.8249,-82.9971, -83.1509,-83.2779,-83.3346,-83.399, -83.405,-83.5007,-83.1479,-82.7967, -82.4453,-82.0072,-81.6553,-81.3893, -81.0324,-80.5811,-80.3074,-79.9403, -79.5709,-79.2911,-79.1039,-78.9152, -78.7264,-78.5358,-78.3455,-78.1533, -77.9603,-77.7673,-77.5728,-77.3783, -77.1822,-76.982,-76.7869,-76.5885, -76.387,-76.0866,-75.8852,-75.6838, -75.4759,-75.1666,-74.963,-74.7568, -74.5532,-74.3468,-74.1383,-74.0343, -73.9767,-73.9603,-73.9399,-73.9238, -73.8917,-73.8661,-73.8242,-73.7859, -73.7387,-73.6752,-73.6247,-73.5701, -73.4976,-73.49,-73.4881,-73.6907, -73.9939,-74.194,-74.3937,-74.5915, -74.8863,-75.0882,-75.2842,-75.4784, -75.671,-75.8567,-76.0536,-76.3436, -76.5336,-76.7209,-76.905,-77.1818, -77.3674,-77.5511,-77.7365,-77.9182, -78.1915,-78.5501,-78.9038,-79.2532, -79.5982,-79.854,-80.1076,-80.4399, -80.7684,-81.0916,-81.4141,-81.7348, -82.132,-82.3683,-82.4466,-82.4301)
FOOTPRINT_POINT_LONGITUDE = (68.7763,70.9685,74.2609,77.213,80.2979 ,83.3209,84.8756,86.8587,87.0592, 87.2065,88.0964,88.8964,89.6172,90.4246 ,91.0031,91.4088,91.9147,92.4959, 92.8207,93.229,93.6125,93.8836,94.0572, 94.2258,94.3887,94.5471,94.7008,94.85, 94.9944,95.1355,95.2729,95.4061,95.5362 ,95.6581,95.7836,95.9039,96.0173, 96.1868,96.2963,96.4044,96.5029,96.6512 ,96.751,96.847,96.9444,97.0373,97.1272, 97.1712,97.1953,96.2534,95.311,94.6076, 93.5553,92.741,91.5815,90.658,89.6231, 88.3656,87.4575,86.5544,85.4299,85.318, 85.2772,85.122,84.8823,84.7196,84.5513, 84.3804,84.1171,83.9178,83.7275,83.5337 ,83.3368,83.1535,82.9264,82.5868, 82.3597,82.1314,81.9046,81.5447,81.2883 ,81.0269,80.7495,80.4722,80.0322, 79.4238,78.7822,78.1015,77.3773,76.8043 ,76.2024,75.3635,74.4625,73.5015, 72.4548,71.3202,69.7634,68.745,68.3908, 68.7763)
ORBIT_NUMBER = 23590
ORBITAL_ECCENTRICITY = 0.575
ORBITAL_INCLINATION = 87.04
ORBITAL_SEMIMAJOR_AXIS = 8776.43
PERIAPSIS_ALTITUDE = 347.35
PERIAPSIS_ARGUMENT_ANGLE = 239.25
PERIAPSIS_TIME = 2022-09-04T15:09:15.000Z
SPACECRAFT_ORIENTATION = (0.0,-1.0,0.0)
^MEX_ORIENTATION_DESC = "MEX_ORIENTATION_DESC.TXT"
SPACECRAFT_POINTING_MODE = NADIR
^MEX_POINTING_DESC = "MEX_POINTING_DESC.TXT"
RIGHT_ASCENSION = -1e+32
DECLINATION = -1e+32
OFFSET_ANGLE = -1e+32
SPACECRAFT_SOLAR_DISTANCE = 2.12369e+08
TARGET_NAME = MARS
/* CAMERA DATA ELEMENTS */
DETECTOR_TEMPERATURE = 18.5744
FOCAL_PLANE_TEMPERATURE = 7.7677
INST_CMPRS_NAME = "DISCRETE COSINE TRANSFORMATION (DCT)"
INST_CMPRS_RATIO = 10.4854
INST_CMPRS_QUALITY = 0
INST_CMPRS_QUANTZ_TBL_ID = 0
INSTRUMENT_TEMPERATURE = 11.0301
LENS_TEMPERATURE = 8.5833
MACROPIXEL_SIZE = 2
MISSING_FRAMES = 0
PIXEL_SUBSAMPLING_FLAG = N
SIGNAL_CHAIN_ID = 3
/* RADIOMETRIC DATA ELEMENTS */
BANDWIDTH = 48.0
CENTER_FILTER_WAVELENGTH = 748.0
RADIANCE_OFFSET = 0.97954
RADIANCE_SCALING_FACTOR = 0.0040221
REFLECTANCE_SCALING_FACTOR = 0.000413965
MEX:REFLECTANCE_OFFSET = 0.100817
/* IMAGE OBJECT DEFINITIONS */
OBJECT = IMAGE
  INTERCHANGE_FORMAT = BINARY
  LINES = 11829
  LINE_SAMPLES = 5822
  SAMPLE_TYPE = UNSIGNED_INTEGER
  SAMPLE_BITS = 8
  BANDS = 1
  BAND_STORAGE_TYPE = BAND_SEQUENTIAL
  MAXIMUM = 255
  MEAN = 119.756
  MINIMUM = 1
  STANDARD_DEVIATION = 34.198
END_OBJECT = IMAGE
/* MAP OBJECT DEFINITIONS */
OBJECT = IMAGE_MAP_PROJECTION
  ^DATA_SET_MAP_PROJECTION_CATALOG= "DSMAP.CAT"
  A_AXIS_RADIUS = 3396.0
  B_AXIS_RADIUS = 3396.0
  C_AXIS_RADIUS = 3396.0
  CENTER_LATITUDE = 0.0
  CENTER_LONGITUDE = 87.0
  COORDINATE_SYSTEM_NAME = PLANETOGRAPHIC
  COORDINATE_SYSTEM_TYPE = "BODY-FIXED ROTATING"
  EASTERNMOST_LONGITUDE = 97.1953
  FIRST_STANDARD_PARALLEL = "N/A"
  LINE_FIRST_PIXEL = 1
  LINE_LAST_PIXEL = 11829
  LINE_PROJECTION_OFFSET = -87153.25
  MAP_PROJECTION_ROTATION = 0.0
  MAP_PROJECTION_TYPE = SINUSOIDAL
  MAP_RESOLUTION = 1185.42760773333
  MAP_SCALE = 0.05
  MAXIMUM_LATITUDE = -73.4881
  MINIMUM_LATITUDE = -83.50069999999999
  POSITIVE_LONGITUDE_DIRECTION = EAST
  REFERENCE_LATITUDE = "N/A"
  REFERENCE_LONGITUDE = "N/A"
  SAMPLE_FIRST_PIXEL = 1
  SAMPLE_LAST_PIXEL = 5822
  SAMPLE_PROJECTION_OFFSET = 2794.75
  SECOND_STANDARD_PARALLEL = "N/A"
  WESTERNMOST_LONGITUDE = 68.3908
END_OBJECT = IMAGE_MAP_PROJECTION
END
