PDS_VERSION_ID = PDS3
/* FILE DATA ELEMENTS */
RECORD_TYPE = UNDEFINED
/* POINTERS TO DATA OBJECTS */
^IMAGE = ("HN532_0000_ND4.TIF")
/* IDENTIFICATION DATA ELEMENTS */
DATA_SET_ID = "MEX-M-HRSC-4-REFDR-MAPPROJECT-EXT8-V4.0"
DATA_SET_NAME = "MARS EXPRESS HRSC MAP PROJECTED REFDR EXTENSION8 V4.0"
DETECTOR_ID = MEX_HRSC_NADIR
EVENT_TYPE = "MARS-TERMINATOR-CALIBRATION-Tc"
INSTRUMENT_HOST_ID = MEX
INSTRUMENT_HOST_NAME = "MARS EXPRESS"
INSTRUMENT_ID = HRSC
INSTRUMENT_NAME = "HIGH RESOLUTION STEREO CAMERA"
MISSION_NAME = "MARS EXPRESS"
MISSION_PHASE_NAME = ME_Phase_47
PROCESSING_LEVEL_ID = 4
PRODUCT_CREATION_TIME = 2023-02-07T06:07:28.000Z
PRODUCT_ID = "HN532_0000_ND4.TIF"
RELEASE_ID = 0005
REVISION_ID = 0000
/* QUALITY DATA ELEMENTS */
DATA_QUALITY_ID = 1
DATA_QUALITY_DESC = "Data calculated based on original SPICE kernels"
/* TIME DATA ELEMENTS */
SPACECRAFT_CLOCK_START_COUNT = "1/0608928715.25677"
SPACECRAFT_CLOCK_STOP_COUNT = "1/0608929281.24644"
START_TIME = 2022-08-18T18:54:19.580Z
STOP_TIME = 2022-08-18T19:00:11.602Z
/* ORBITAL DATA ELEMENTS */
ASCENDING_NODE_LONGITUDE = 135.81
MAXIMUM_RESOLUTION = 0.3473
FOOTPRINT_POINT_LATITUDE = (-8.13788,-8.14946,-8.06129,-10.4888, -13.9388,-17.0582,-19.4723,-21.1879, -22.7137,-21.9526,-21.3277,-20.4574, -19.0242,-17.9145,-16.7829,-15.889, -14.8533,-14.0166,-13.2498,-12.1524, -10.4645,-9.35215,-8.16406,-7.27784, -6.42619,-5.69324,-4.57897,-3.85614, -2.68339,-1.37513,-0.548015,0.66228, 1.47823,2.06106,2.69412,3.42107,3.89285 ,4.30476,4.74579,5.15995,5.35919, 5.54844,5.63977,5.71012,5.75738,5.74361 ,5.66616,5.56958,5.41319,5.26261, 8.75691,9.51425,11.328,15.7917,19.7042, 22.6344,25.3993,27.8617,30.1881,29.966, 29.3977,28.9631,28.2917,27.6015,26.8299 ,26.3314,25.4696,24.2605,23.6004, 22.5413,21.1064,20.2849,19.5268,18.674, 17.2431,16.3098,14.9195,13.4714,11.9261 ,11.0268,10.2793,9.49765,8.13063, 7.31302,6.00303,5.15273,3.88986,3.36389 ,2.68937,1.9192,1.02086,0.580001, 0.345323,0.0803278,-0.150974,-0.520192, -0.677295,-3.18081,-5.58647,-8.13788)
FOOTPRINT_POINT_LONGITUDE = (193.177,193.15,193.383,193.917,194.801 ,194.582,195.095,197.469,200.24,203.181 ,205.492,208.571,213.331,216.818, 220.209,222.791,225.689,227.969,230.013 ,232.877,237.156,239.9,242.929,245.164, 247.311,249.178,252.065,253.984,257.199 ,260.995,263.57,267.629,270.654,273.005 ,275.8,279.459,282.109,284.75,288.132, 292.119,294.584,297.631,299.647,301.871 ,304.659,308.452,311.657,314.131, 317.059,319.311,319.984,319.841,319.574 ,319.19,318.767,319.564,319.14,317.888, 318.267,315.778,311.922,309.277,305.532 ,302.103,298.467,296.304,292.816,288.26 ,285.921,282.374,277.867,275.415, 273.222,270.829,266.938,264.466,260.858 ,257.189,253.199,250.792,248.818, 246.713,242.893,240.519,236.438,233.498 ,228.793,226.596,223.517,219.538, 213.979,210.664,208.617,206.02,203.543, 197.892,194.018,193.657,193.344, 193.177)
ORBIT_NUMBER = 23532
ORBITAL_ECCENTRICITY = 0.575
ORBITAL_INCLINATION = 87.03
ORBITAL_SEMIMAJOR_AXIS = 8767.15
PERIAPSIS_ALTITUDE = 346.3
PERIAPSIS_ARGUMENT_ANGLE = 249.03
PERIAPSIS_TIME = 2022-08-18T18:04:17.000Z
SPACECRAFT_ORIENTATION = (0.0,1.0,0.0)
^MEX_ORIENTATION_DESC = "MEX_ORIENTATION_DESC.TXT"
SPACECRAFT_POINTING_MODE = FIXED
^MEX_POINTING_DESC = "MEX_POINTING_DESC.TXT"
RIGHT_ASCENSION = -1e+32
DECLINATION = -1e+32
OFFSET_ANGLE = -1e+32
SPACECRAFT_SOLAR_DISTANCE = 2.10173e+08
TARGET_NAME = MARS
/* CAMERA DATA ELEMENTS */
DETECTOR_TEMPERATURE = 17.5549
FOCAL_PLANE_TEMPERATURE = 7.7677
INST_CMPRS_NAME = "DISCRETE COSINE TRANSFORMATION (DCT)"
INST_CMPRS_RATIO = 9.29975
INST_CMPRS_QUALITY = 0
INST_CMPRS_QUANTZ_TBL_ID = 0
INSTRUMENT_TEMPERATURE = 11.234
LENS_TEMPERATURE = 7.9716
MACROPIXEL_SIZE = 2
MISSING_FRAMES = 0
PIXEL_SUBSAMPLING_FLAG = N
SIGNAL_CHAIN_ID = 0
/* RADIOMETRIC DATA ELEMENTS */
BANDWIDTH = 177.0
CENTER_FILTER_WAVELENGTH = 677.5
RADIANCE_OFFSET = 0.0
RADIANCE_SCALING_FACTOR = 0.0643996
REFLECTANCE_SCALING_FACTOR = 0.00151125
MEX:REFLECTANCE_OFFSET = 0.0
/* IMAGE OBJECT DEFINITIONS */
OBJECT = IMAGE
  INTERCHANGE_FORMAT = BINARY
  LINES = 7748
  LINE_SAMPLES = 15129
  SAMPLE_TYPE = UNSIGNED_INTEGER
  SAMPLE_BITS = 8
  BANDS = 1
  BAND_STORAGE_TYPE = BAND_SEQUENTIAL
  MAXIMUM = 255
  MEAN = 181.722
  MINIMUM = 101
  STANDARD_DEVIATION = 25.855
END_OBJECT = IMAGE
/* MAP OBJECT DEFINITIONS */
OBJECT = IMAGE_MAP_PROJECTION
  ^DATA_SET_MAP_PROJECTION_CATALOG= "DSMAP.CAT"
  A_AXIS_RADIUS = 3396.0
  B_AXIS_RADIUS = 3396.0
  C_AXIS_RADIUS = 3396.0
  CENTER_LATITUDE = 4.13244
  CENTER_LONGITUDE = 253.979
  COORDINATE_SYSTEM_NAME = PLANETOGRAPHIC
  COORDINATE_SYSTEM_TYPE = "BODY-FIXED ROTATING"
  EASTERNMOST_LONGITUDE = 319.984
  FIRST_STANDARD_PARALLEL = "N/A"
  LINE_FIRST_PIXEL = 1
  LINE_LAST_PIXEL = 7748
  LINE_PROJECTION_OFFSET = 4042.0
  MAP_PROJECTION_ROTATION = 0.0
  MAP_PROJECTION_TYPE = ORTHOGRAPHIC
  MAP_RESOLUTION = 148.178450966667
  MAP_SCALE = 0.4
  MAXIMUM_LATITUDE = 30.1881
  MINIMUM_LATITUDE = -22.7137
  POSITIVE_LONGITUDE_DIRECTION = EAST
  REFERENCE_LATITUDE = "N/A"
  REFERENCE_LONGITUDE = "N/A"
  SAMPLE_FIRST_PIXEL = 1
  SAMPLE_LAST_PIXEL = 15129
  SAMPLE_PROJECTION_OFFSET = 7436.0
  SECOND_STANDARD_PARALLEL = "N/A"
  WESTERNMOST_LONGITUDE = 193.15
END_OBJECT = IMAGE_MAP_PROJECTION
END
