PDS_VERSION_ID = PDS3
/* FILE DATA ELEMENTS */
RECORD_TYPE = UNDEFINED
/* POINTERS TO DATA OBJECTS */
^IMAGE = ("HN515_0001_GR4.TIF")
/* IDENTIFICATION DATA ELEMENTS */
DATA_SET_ID = "MEX-M-HRSC-4-REFDR-MAPPROJECT-EXT8-V4.0"
DATA_SET_NAME = "MARS EXPRESS HRSC MAP PROJECTED REFDR EXTENSION8 V4.0"
DETECTOR_ID = MEX_HRSC_GREEN
EVENT_TYPE = "MARS-TERMINATOR-CALIBRATION-Tc"
INSTRUMENT_HOST_ID = MEX
INSTRUMENT_HOST_NAME = "MARS EXPRESS"
INSTRUMENT_ID = HRSC
INSTRUMENT_NAME = "HIGH RESOLUTION STEREO CAMERA"
MISSION_NAME = "MARS EXPRESS"
MISSION_PHASE_NAME = ME_Phase_47
PROCESSING_LEVEL_ID = 4
PRODUCT_CREATION_TIME = 2023-02-07T06:07:28.000Z
PRODUCT_ID = "HN515_0001_GR4.TIF"
RELEASE_ID = 0005
REVISION_ID = 0000
/* QUALITY DATA ELEMENTS */
DATA_QUALITY_ID = 1
DATA_QUALITY_DESC = "Data calculated based on original SPICE kernels"
/* TIME DATA ELEMENTS */
SPACECRAFT_CLOCK_START_COUNT = "1/0608507017.24897"
SPACECRAFT_CLOCK_STOP_COUNT = "1/0608507350.65036"
START_TIME = 2022-08-13T21:46:21.553Z
STOP_TIME = 2022-08-13T21:48:19.165Z
/* ORBITAL DATA ELEMENTS */
ASCENDING_NODE_LONGITUDE = 136.1
MAXIMUM_RESOLUTION = 0.7691
FOOTPRINT_POINT_LATITUDE = (54.2206,52.0678,49.5677,47.0188, 44.4104,41.7307,38.9691,36.1123,34.6393 ,33.1324,31.5875,29.9998,28.3641, 26.6741,24.9208,23.0926,21.1782,19.1641 ,17.0302,15.3338,14.747,14.4295,15.1642 ,16.4354,17.4856,18.3535,19.0598, 19.6211,20.0582,20.3748,20.58,20.6758, 20.6693,20.4645,20.1983,19.8299,19.3501 ,18.7544,18.0387,17.1879,16.1868, 15.0124,13.6412,12.026,11.1074,10.1036, 8.99524,7.77315,5.64296,4.83716,4.48101 ,7.35984,9.94905,12.2698,13.9586, 16.0081,17.9322,19.7457,21.4628,23.0943 ,24.6513,26.1506,27.5803,28.97,30.3249, 31.6448,32.9269,34.174,36.5606,38.8163, 40.9429,43.6605,43.8949,43.9814,46.128, 47.6664,49.0664,50.341,51.5009,52.5528, 53.5028,54.3547,55.111,55.7734,56.3428, 56.8196,57.2034,57.4964,57.6913,57.7903 ,57.7924,57.6957,57.4986,57.1989, 56.7944,56.2818,55.6576,54.5014,54.2818 ,54.2206)
FOOTPRINT_POINT_LONGITUDE = (210.607,209.155,207.754,206.58,205.598 ,204.781,204.11,203.571,203.348,203.155 ,202.991,202.857,202.753,202.68,202.639 ,202.633,202.665,202.739,202.861, 202.989,203.04,203.117,201.748,199.096, 196.537,194.049,191.617,189.231,186.881 ,184.56,182.264,179.987,177.726,174.329 ,172.089,169.853,167.615,165.371, 163.116,160.843,158.545,156.21,153.825, 151.369,150.106,148.814,147.484,146.111 ,143.936,143.172,142.844,142.807, 142.667,142.434,142.248,141.92,141.545, 141.123,140.654,140.139,139.579,138.979 ,138.327,137.638,136.916,136.154, 135.346,134.491,132.633,130.561,128.245 ,124.603,124.242,124.116,127.886, 130.904,133.94,137.006,140.113,143.268, 146.477,149.745,153.074,156.465,159.916 ,163.425,166.989,170.642,174.296, 177.985,181.7,185.432,189.172,192.911, 196.643,200.361,204.06,209.567,210.479, 210.607)
ORBIT_NUMBER = 23515
ORBITAL_ECCENTRICITY = 0.575
ORBITAL_INCLINATION = 87.02
ORBITAL_SEMIMAJOR_AXIS = 8763.1
PERIAPSIS_ALTITUDE = 345.96
PERIAPSIS_ARGUMENT_ANGLE = 251.9
PERIAPSIS_TIME = 2022-08-13T19:20:15.000Z
SPACECRAFT_ORIENTATION = (0.0,1.0,0.0)
^MEX_ORIENTATION_DESC = "MEX_ORIENTATION_DESC.TXT"
SPACECRAFT_POINTING_MODE = FIXED
^MEX_POINTING_DESC = "MEX_POINTING_DESC.TXT"
RIGHT_ASCENSION = -1e+32
DECLINATION = -1e+32
OFFSET_ANGLE = -1e+32
SPACECRAFT_SOLAR_DISTANCE = 2.09617e+08
TARGET_NAME = MARS
/* CAMERA DATA ELEMENTS */
DETECTOR_TEMPERATURE = 21.6329
FOCAL_PLANE_TEMPERATURE = 9.195
INST_CMPRS_NAME = "DISCRETE COSINE TRANSFORMATION (DCT)"
INST_CMPRS_RATIO = 6.81589
INST_CMPRS_QUALITY = 0
INST_CMPRS_QUANTZ_TBL_ID = 0
INSTRUMENT_TEMPERATURE = 16.9432
LENS_TEMPERATURE = 9.8067
MACROPIXEL_SIZE = 2
MISSING_FRAMES = 1
PIXEL_SUBSAMPLING_FLAG = N
SIGNAL_CHAIN_ID = 2
/* RADIOMETRIC DATA ELEMENTS */
BANDWIDTH = 88.0
CENTER_FILTER_WAVELENGTH = 538.0
RADIANCE_OFFSET = 0.561553
RADIANCE_SCALING_FACTOR = 0.0123096
REFLECTANCE_SCALING_FACTOR = 0.000465725
MEX:REFLECTANCE_OFFSET = 0.021246
/* IMAGE OBJECT DEFINITIONS */
OBJECT = IMAGE
  INTERCHANGE_FORMAT = BINARY
  LINES = 3646
  LINE_SAMPLES = 4435
  SAMPLE_TYPE = UNSIGNED_INTEGER
  SAMPLE_BITS = 8
  BANDS = 1
  BAND_STORAGE_TYPE = BAND_SEQUENTIAL
  MAXIMUM = 255
  MEAN = 139.231
  MINIMUM = 1
  STANDARD_DEVIATION = 66.5936
END_OBJECT = IMAGE
/* MAP OBJECT DEFINITIONS */
OBJECT = IMAGE_MAP_PROJECTION
  ^DATA_SET_MAP_PROJECTION_CATALOG= "DSMAP.CAT"
  A_AXIS_RADIUS = 3396.0
  B_AXIS_RADIUS = 3396.0
  C_AXIS_RADIUS = 3396.0
  CENTER_LATITUDE = 39.8002
  CENTER_LONGITUDE = 169.759
  COORDINATE_SYSTEM_NAME = PLANETOGRAPHIC
  COORDINATE_SYSTEM_TYPE = "BODY-FIXED ROTATING"
  EASTERNMOST_LONGITUDE = 210.607
  FIRST_STANDARD_PARALLEL = "N/A"
  LINE_FIRST_PIXEL = 1
  LINE_LAST_PIXEL = 3646
  LINE_PROJECTION_OFFSET = 1413.0
  MAP_PROJECTION_ROTATION = 0.0
  MAP_PROJECTION_TYPE = ORTHOGRAPHIC
  MAP_RESOLUTION = 74.08922548333329
  MAP_SCALE = 0.8
  MAXIMUM_LATITUDE = 57.7924
  MINIMUM_LATITUDE = 4.48101
  POSITIVE_LONGITUDE_DIRECTION = EAST
  REFERENCE_LATITUDE = "N/A"
  REFERENCE_LONGITUDE = "N/A"
  SAMPLE_FIRST_PIXEL = 1
  SAMPLE_LAST_PIXEL = 4435
  SAMPLE_PROJECTION_OFFSET = 2187.0
  SECOND_STANDARD_PARALLEL = "N/A"
  WESTERNMOST_LONGITUDE = 124.116
END_OBJECT = IMAGE_MAP_PROJECTION
END
