PDS_VERSION_ID = PDS3
/* FILE DATA ELEMENTS */
RECORD_TYPE = UNDEFINED
/* POINTERS TO DATA OBJECTS */
^IMAGE = ("HN472_0000_GR4.TIF")
/* IDENTIFICATION DATA ELEMENTS */
DATA_SET_ID = "MEX-M-HRSC-4-REFDR-MAPPROJECT-EXT8-V4.0"
DATA_SET_NAME = "MARS EXPRESS HRSC MAP PROJECTED REFDR EXTENSION8 V4.0"
DETECTOR_ID = MEX_HRSC_GREEN
EVENT_TYPE = "MARS-TERMINATOR-CALIBRATION-Tc"
INSTRUMENT_HOST_ID = MEX
INSTRUMENT_HOST_NAME = "MARS EXPRESS"
INSTRUMENT_ID = HRSC
INSTRUMENT_NAME = "HIGH RESOLUTION STEREO CAMERA"
MISSION_NAME = "MARS EXPRESS"
MISSION_PHASE_NAME = ME_Phase_47
PROCESSING_LEVEL_ID = 4
PRODUCT_CREATION_TIME = 2023-01-28T22:22:56.000Z
PRODUCT_ID = "HN472_0000_GR4.TIF"
RELEASE_ID = 0004
REVISION_ID = 0000
/* QUALITY DATA ELEMENTS */
DATA_QUALITY_ID = 1
DATA_QUALITY_DESC = "Data calculated based on original SPICE kernels"
/* TIME DATA ELEMENTS */
SPACECRAFT_CLOCK_START_COUNT = "1/0607418743.25679"
SPACECRAFT_CLOCK_STOP_COUNT = "1/0607419318.54009"
START_TIME = 2022-08-01T07:28:34.534Z
STOP_TIME = 2022-08-01T07:33:22.036Z
/* ORBITAL DATA ELEMENTS */
ASCENDING_NODE_LONGITUDE = 136.85
MAXIMUM_RESOLUTION = 0.2157
FOOTPRINT_POINT_LATITUDE = (-2.75947,-2.49205,-2.18664,-1.83325, -1.41672,-0.912056,-0.273495,0.123223, 0.601199,1.21058,1.59942,2.0918,2.81315 ,2.82409,1.62095,0.364851,-0.112469, -0.184416,-1.47267,-1.9876,-2.97294, -3.13982,-4.05525,-4.1336,-3.94837, -4.99154,-4.88796,-5.77721,-5.54147, -6.49425,-7.1295,-7.08726,-8.3184, -8.26385,-8.88242,-9.9043,-9.8301, -10.8772,-11.7786,-13.4292,-14.9748, -15.7117,-16.3202,-16.8203,-17.6931, -18.4911,-19.2415,-19.961,-20.6597, -22.019,-23.3537,-24.6907,-26.0431, -27.4316,-28.8754,-30.3986,-32.0271, -33.825,-35.3045,-35.8353,-35.8693, -35.393,-34.968,-34.5751,-33.8657, -33.2306,-32.651,-32.1157,-31.6154, -31.1521,-30.3814,-29.2065,-28.4983, -27.8352,-27.2112,-26.6199,-26.0661, -25.2019,-25.1362,-25.1123,-23.7497, -22.8771,-22.0397,-20.4258,-18.8797, -17.9312,-16.6193,-15.1173,-13.5855, -11.9901,-11.1551,-10.2877,-9.38102, -8.45017,-7.43981,-6.34602,-5.11292, -3.33853,-2.94831,-2.75947)
FOOTPRINT_POINT_LONGITUDE = (238.63,237.688,236.668,235.551,234.311 ,232.898,231.23,230.251,229.12,227.747, 226.907,225.879,224.438,224.357,223.797 ,222.333,221.225,220.277,222.226, 219.973,221.377,219.31,220.633,219.53, 217.639,219.404,217.663,219.067,216.821 ,218.478,219.204,217.432,218.829, 216.847,217.589,218.353,216.011,216.866 ,217.15,216.989,215.993,215.034,216.972 ,218.209,219.873,221.167,222.201, 223.063,223.795,225.004,225.963,226.738 ,227.338,227.792,228.098,228.236, 228.202,227.83,227.328,227.087,227.074, 228.536,229.804,230.943,232.929,234.636 ,236.143,237.496,238.728,239.848, 241.652,244.302,245.847,247.26,248.562, 249.772,250.894,252.598,252.725,252.77, 251.996,251.499,251.008,250.063,249.137 ,248.566,247.77,246.854,245.916,244.929 ,244.407,243.863,243.298,242.748, 242.102,241.382,240.51,239.199,238.906, 238.63)
ORBIT_NUMBER = 23472
ORBITAL_ECCENTRICITY = 0.575
ORBITAL_INCLINATION = 87.02
ORBITAL_SEMIMAJOR_AXIS = 8757.48
PERIAPSIS_ALTITUDE = 344.83
PERIAPSIS_ARGUMENT_ANGLE = 259.13
PERIAPSIS_TIME = 2022-08-01T07:01:21.000Z
SPACECRAFT_ORIENTATION = (0.0,1.0,0.0)
^MEX_ORIENTATION_DESC = "MEX_ORIENTATION_DESC.TXT"
SPACECRAFT_POINTING_MODE = FIXED
^MEX_POINTING_DESC = "MEX_POINTING_DESC.TXT"
RIGHT_ASCENSION = -1e+32
DECLINATION = -1e+32
OFFSET_ANGLE = -1e+32
SPACECRAFT_SOLAR_DISTANCE = 2.08407e+08
TARGET_NAME = MARS
/* CAMERA DATA ELEMENTS */
DETECTOR_TEMPERATURE = 18.3705
FOCAL_PLANE_TEMPERATURE = 7.7677
INST_CMPRS_NAME = "DISCRETE COSINE TRANSFORMATION (DCT)"
INST_CMPRS_RATIO = 7.60813
INST_CMPRS_QUALITY = 0
INST_CMPRS_QUANTZ_TBL_ID = 0
INSTRUMENT_TEMPERATURE = 11.4379
LENS_TEMPERATURE = 8.5833
MACROPIXEL_SIZE = 2
PIXEL_SUBSAMPLING_FLAG = N
SIGNAL_CHAIN_ID = 2
/* RADIOMETRIC DATA ELEMENTS */
BANDWIDTH = 88.0
CENTER_FILTER_WAVELENGTH = 538.0
RADIANCE_OFFSET = 0.0
RADIANCE_SCALING_FACTOR = 0.0219531
REFLECTANCE_SCALING_FACTOR = 0.00082095
MEX:REFLECTANCE_OFFSET = 0.0
/* IMAGE OBJECT DEFINITIONS */
OBJECT = IMAGE
  INTERCHANGE_FORMAT = BINARY
  LINES = 10820
  LINE_SAMPLES = 11074
  SAMPLE_TYPE = UNSIGNED_INTEGER
  SAMPLE_BITS = 8
  BANDS = 1
  BAND_STORAGE_TYPE = BAND_SEQUENTIAL
  MAXIMUM = 254
  MEAN = 202.053
  MINIMUM = 125
  STANDARD_DEVIATION = 21.6856
END_OBJECT = IMAGE
/* MAP OBJECT DEFINITIONS */
OBJECT = IMAGE_MAP_PROJECTION
  ^DATA_SET_MAP_PROJECTION_CATALOG= "DSMAP.CAT"
  A_AXIS_RADIUS = 3396.0
  B_AXIS_RADIUS = 3396.0
  C_AXIS_RADIUS = 3396.0
  CENTER_LATITUDE = -16.2764
  CENTER_LONGITUDE = 239.01
  COORDINATE_SYSTEM_NAME = PLANETOGRAPHIC
  COORDINATE_SYSTEM_TYPE = "BODY-FIXED ROTATING"
  EASTERNMOST_LONGITUDE = 252.77
  FIRST_STANDARD_PARALLEL = "N/A"
  LINE_FIRST_PIXEL = 1
  LINE_LAST_PIXEL = 10820
  LINE_PROJECTION_OFFSET = 4793.0
  MAP_PROJECTION_ROTATION = 0.0
  MAP_PROJECTION_TYPE = ORTHOGRAPHIC
  MAP_RESOLUTION = 296.356901933333
  MAP_SCALE = 0.2
  MAXIMUM_LATITUDE = 2.82409
  MINIMUM_LATITUDE = -35.8693
  POSITIVE_LONGITUDE_DIRECTION = EAST
  REFERENCE_LATITUDE = "N/A"
  REFERENCE_LONGITUDE = "N/A"
  SAMPLE_FIRST_PIXEL = 1
  SAMPLE_LAST_PIXEL = 11074
  SAMPLE_PROJECTION_OFFSET = 7293.0
  SECOND_STANDARD_PARALLEL = "N/A"
  WESTERNMOST_LONGITUDE = 215.034
END_OBJECT = IMAGE_MAP_PROJECTION
END
