PDS_VERSION_ID = PDS3
/* FILE DATA ELEMENTS */
RECORD_TYPE = UNDEFINED
/* POINTERS TO DATA OBJECTS */
^IMAGE = ("HN455_0000_S14.TIF")
/* IDENTIFICATION DATA ELEMENTS */
DATA_SET_ID = "MEX-M-HRSC-4-REFDR-MAPPROJECT-EXT8-V4.0"
DATA_SET_NAME = "MARS EXPRESS HRSC MAP PROJECTED REFDR EXTENSION8 V4.0"
DETECTOR_ID = MEX_HRSC_S1
EVENT_TYPE = "MARS-REGIONAL-MAPPING-Gl-Pf-La"
INSTRUMENT_HOST_ID = MEX
INSTRUMENT_HOST_NAME = "MARS EXPRESS"
INSTRUMENT_ID = HRSC
INSTRUMENT_NAME = "HIGH RESOLUTION STEREO CAMERA"
MISSION_NAME = "MARS EXPRESS"
MISSION_PHASE_NAME = ME_Phase_47
PROCESSING_LEVEL_ID = 4
PRODUCT_CREATION_TIME = 2023-01-28T22:22:56.000Z
PRODUCT_ID = "HN455_0000_S14.TIF"
RELEASE_ID = 0004
REVISION_ID = 0000
/* QUALITY DATA ELEMENTS */
DATA_QUALITY_ID = 1
DATA_QUALITY_DESC = "Data calculated based on original SPICE kernels"
/* TIME DATA ELEMENTS */
SPACECRAFT_CLOCK_START_COUNT = "1/0606989947.25674"
SPACECRAFT_CLOCK_STOP_COUNT = "1/0606990267.15690"
START_TIME = 2022-07-27T08:19:42.488Z
STOP_TIME = 2022-07-27T08:23:23.168Z
/* ORBITAL DATA ELEMENTS */
ASCENDING_NODE_LONGITUDE = 137.15
MAXIMUM_RESOLUTION = 0.0311
FOOTPRINT_POINT_LATITUDE = (-86.8914,-87.0308,-87.1227,-87.1504, -87.1498,-87.0495,-86.6315,-86.3521, -86.0709,-85.7915,-85.3731,-85.0936, -84.8125,-84.5326,-84.2524,-83.9732, -83.6935,-83.2735,-82.9935,-82.7135, -82.4336,-82.1537,-81.7339,-81.4542, -81.1746,-80.8952,-80.6156,-80.3301, -80.0335,-79.6048,-79.177,-78.8918, -78.5978,-78.304,-78.0071,-77.7159, -77.2718,-76.9709,-76.6693,-76.3685, -76.0685,-75.6077,-75.3007,-74.8405, -74.3722,-74.0588,-73.5881,-73.2687, -72.9473,-72.6282,-72.4698,-72.4638, -72.5177,-72.5423,-72.5595,-72.5706, -72.5708,-72.571,-72.884,-73.2064, -73.6925,-73.9972,-74.3087,-74.7753, -75.077,-75.3867,-75.8513,-76.1565, -76.4534,-76.7533,-77.0512,-77.4991, -77.9341,-78.226,-78.6647,-78.9548, -79.2396,-79.6656,-79.9489,-80.2321, -80.6597,-81.211,-81.7614,-82.3108, -82.585,-82.8588,-83.132,-83.4049, -83.6771,-83.9486,-84.2191,-84.4889, -84.7576,-85.0252,-85.2912,-85.8163, -86.0772,-86.7108,-86.8348,-86.8914)
FOOTPRINT_POINT_LONGITUDE = (180.654,187.775,195.893,206.589, 206.881,209.756,209.919,210.021,210.142 ,210.214,210.291,210.343,210.411, 210.457,210.5,210.528,210.558,210.603, 210.63,210.655,210.677,210.697,210.725, 210.74,210.753,210.766,210.778,210.789, 210.836,210.838,210.835,210.831,210.837 ,210.843,210.865,210.857,210.864, 210.868,210.876,210.88,210.88,210.884, 210.883,210.881,210.879,210.876,210.876 ,210.874,210.875,210.869,210.862, 210.862,209.104,208.024,207.023,205.154 ,205.102,205.084,205.025,204.943, 204.806,204.74,204.655,204.521,204.438, 204.326,204.147,204.03,203.916,203.786, 203.657,203.445,203.228,203.066,202.802 ,202.623,202.431,202.122,201.904, 201.671,201.29,200.738,200.106,199.38, 198.975,198.536,198.062,197.547,196.986 ,196.373,195.704,194.964,194.148, 193.241,192.231,189.85,188.382,183.814, 182.664,180.654)
ORBIT_NUMBER = 23455
ORBITAL_ECCENTRICITY = 0.575
ORBITAL_INCLINATION = 87.03
ORBITAL_SEMIMAJOR_AXIS = 8755.14
PERIAPSIS_ALTITUDE = 344.0
PERIAPSIS_ARGUMENT_ANGLE = 262.0
PERIAPSIS_TIME = 2022-07-27T08:17:30.000Z
SPACECRAFT_ORIENTATION = (0.0,-1.0,0.0)
^MEX_ORIENTATION_DESC = "MEX_ORIENTATION_DESC.TXT"
SPACECRAFT_POINTING_MODE = ACROSSTRACK
^MEX_POINTING_DESC = "MEX_POINTING_DESC.TXT"
RIGHT_ASCENSION = -1e+32
DECLINATION = -1e+32
OFFSET_ANGLE = -2.0
SPACECRAFT_SOLAR_DISTANCE = 2.0801e+08
TARGET_NAME = MARS
/* CAMERA DATA ELEMENTS */
DETECTOR_TEMPERATURE = 16.7393
FOCAL_PLANE_TEMPERATURE = 7.9716
INST_CMPRS_NAME = "DISCRETE COSINE TRANSFORMATION (DCT)"
INST_CMPRS_RATIO = 10.9753
INST_CMPRS_QUALITY = 0
INST_CMPRS_QUANTZ_TBL_ID = 0
INSTRUMENT_TEMPERATURE = 11.234
LENS_TEMPERATURE = 7.156
MACROPIXEL_SIZE = 2
MISSING_FRAMES = 1
PIXEL_SUBSAMPLING_FLAG = N
SIGNAL_CHAIN_ID = 1
/* RADIOMETRIC DATA ELEMENTS */
BANDWIDTH = 180.0
CENTER_FILTER_WAVELENGTH = 677.0
RADIANCE_OFFSET = 5.91584
RADIANCE_SCALING_FACTOR = 0.0203702
REFLECTANCE_SCALING_FACTOR = 0.000459839
MEX:REFLECTANCE_OFFSET = 0.133545
/* IMAGE OBJECT DEFINITIONS */
OBJECT = IMAGE
  INTERCHANGE_FORMAT = BINARY
  LINES = 34721
  LINE_SAMPLES = 6596
  SAMPLE_TYPE = UNSIGNED_INTEGER
  SAMPLE_BITS = 8
  BANDS = 1
  BAND_STORAGE_TYPE = BAND_SEQUENTIAL
  MAXIMUM = 255
  MEAN = 91.6355
  MINIMUM = 1
  STANDARD_DEVIATION = 48.5887
END_OBJECT = IMAGE
/* MAP OBJECT DEFINITIONS */
OBJECT = IMAGE_MAP_PROJECTION
  ^DATA_SET_MAP_PROJECTION_CATALOG= "DSMAP.CAT"
  A_AXIS_RADIUS = 3396.0
  B_AXIS_RADIUS = 3396.0
  C_AXIS_RADIUS = 3396.0
  CENTER_LATITUDE = 0.0
  CENTER_LONGITUDE = 206.0
  COORDINATE_SYSTEM_NAME = PLANETOGRAPHIC
  COORDINATE_SYSTEM_TYPE = "BODY-FIXED ROTATING"
  EASTERNMOST_LONGITUDE = 210.884
  FIRST_STANDARD_PARALLEL = "N/A"
  LINE_FIRST_PIXEL = 1
  LINE_LAST_PIXEL = 34721
  LINE_PROJECTION_OFFSET = -171780.75
  MAP_PROJECTION_ROTATION = 0.0
  MAP_PROJECTION_TYPE = SINUSOIDAL
  MAP_RESOLUTION = 2370.85521546667
  MAP_SCALE = 0.025
  MAXIMUM_LATITUDE = -72.46380000000001
  MINIMUM_LATITUDE = -87.1504
  POSITIVE_LONGITUDE_DIRECTION = EAST
  REFERENCE_LATITUDE = "N/A"
  REFERENCE_LONGITUDE = "N/A"
  SAMPLE_FIRST_PIXEL = 1
  SAMPLE_LAST_PIXEL = 6596
  SAMPLE_PROJECTION_OFFSET = 3100.25
  SECOND_STANDARD_PARALLEL = "N/A"
  WESTERNMOST_LONGITUDE = 180.654
END_OBJECT = IMAGE_MAP_PROJECTION
END
