PDS_VERSION_ID = PDS3
/* FILE DATA ELEMENTS */
RECORD_TYPE = UNDEFINED
/* POINTERS TO DATA OBJECTS */
^IMAGE = ("HN455_0000_ND4.TIF")
/* IDENTIFICATION DATA ELEMENTS */
DATA_SET_ID = "MEX-M-HRSC-4-REFDR-MAPPROJECT-EXT8-V4.0"
DATA_SET_NAME = "MARS EXPRESS HRSC MAP PROJECTED REFDR EXTENSION8 V4.0"
DETECTOR_ID = MEX_HRSC_NADIR
EVENT_TYPE = "MARS-REGIONAL-MAPPING-Gl-Pf-La"
INSTRUMENT_HOST_ID = MEX
INSTRUMENT_HOST_NAME = "MARS EXPRESS"
INSTRUMENT_ID = HRSC
INSTRUMENT_NAME = "HIGH RESOLUTION STEREO CAMERA"
MISSION_NAME = "MARS EXPRESS"
MISSION_PHASE_NAME = ME_Phase_47
PROCESSING_LEVEL_ID = 4
PRODUCT_CREATION_TIME = 2023-01-28T22:22:56.000Z
PRODUCT_ID = "HN455_0000_ND4.TIF"
RELEASE_ID = 0004
REVISION_ID = 0000
/* QUALITY DATA ELEMENTS */
DATA_QUALITY_ID = 1
DATA_QUALITY_DESC = "Data calculated based on original SPICE kernels"
/* TIME DATA ELEMENTS */
SPACECRAFT_CLOCK_START_COUNT = "1/0606989947.25674"
SPACECRAFT_CLOCK_STOP_COUNT = "1/0606990267.15690"
START_TIME = 2022-07-27T08:20:17.253Z
STOP_TIME = 2022-07-27T08:24:08.243Z
/* ORBITAL DATA ELEMENTS */
ASCENDING_NODE_LONGITUDE = 137.15
MAXIMUM_RESOLUTION = 0.015
FOOTPRINT_POINT_LATITUDE = (-86.6827,-86.8625,-87.0013,-87.0893, -87.0905,-87.0994,-86.6857,-86.41, -86.1346,-85.8593,-85.5842,-85.3093, -84.7602,-84.212,-83.6647,-83.1183, -82.7003,-82.4205,-82.141,-81.8617, -81.5828,-81.1574,-80.8719,-80.5866, -80.3017,-79.8715,-79.5801,-79.2891, -78.9984,-78.708,-78.4114,-78.1146, -77.8182,-77.5221,-77.221,-76.9186, -76.6166,-76.161,-75.853,-75.5454, -75.2383,-74.9247,-74.6114,-74.2987, -73.9814,-73.6626,-73.3444,-73.0222, -72.6981,-72.5363,-72.5201,-72.5211, -72.5161,-72.4975,-72.4567,-72.4552, -72.4548,-72.9387,-73.2591,-73.5752, -73.8924,-74.2085,-74.5195,-74.8312, -75.2957,-75.6002,-75.9059,-76.3619, -76.6613,-76.9611,-77.4103,-77.7039, -77.9976,-78.2917,-78.5857,-78.8731, -79.1609,-79.4485,-79.7365,-80.0213, -80.3024,-80.5836,-80.8649,-81.1462, -81.4245,-81.6987,-81.9728,-82.2468, -82.5207,-82.9295,-83.4616,-83.9922, -84.5204,-85.0452,-85.5651,-86.0776, -86.3299,-86.5796,-86.7029,-86.6827)
FOOTPRINT_POINT_LONGITUDE = (182.208,188.834,196.554,206.485, 206.777,209.45,209.704,209.824,209.962, 210.055,210.135,210.186,210.321,210.422 ,210.492,210.561,210.605,210.633, 210.657,210.68,210.7,210.727,210.743, 210.758,210.773,210.814,210.828,210.826 ,210.83,210.832,210.843,210.863,210.869 ,210.866,210.874,210.88,210.889,210.896 ,210.897,210.904,210.905,210.91,210.904 ,210.906,210.908,210.908,210.908, 210.911,210.909,210.904,210.904,209.521 ,208.544,206.942,204.961,204.904, 204.877,204.781,204.696,204.609,204.532 ,204.452,204.365,204.279,204.13,204.001 ,203.892,203.716,203.588,203.456, 203.246,203.099,202.941,202.776,202.6, 202.42,202.234,202.023,201.807,201.58, 201.342,201.088,200.816,200.525,200.217 ,199.892,199.543,199.168,198.763, 198.098,197.098,195.914,194.492,192.758 ,190.606,187.876,186.218,184.339, 183.289,182.208)
ORBIT_NUMBER = 23455
ORBITAL_ECCENTRICITY = 0.575
ORBITAL_INCLINATION = 87.03
ORBITAL_SEMIMAJOR_AXIS = 8755.14
PERIAPSIS_ALTITUDE = 344.0
PERIAPSIS_ARGUMENT_ANGLE = 262.0
PERIAPSIS_TIME = 2022-07-27T08:17:30.000Z
SPACECRAFT_ORIENTATION = (0.0,-1.0,0.0)
^MEX_ORIENTATION_DESC = "MEX_ORIENTATION_DESC.TXT"
SPACECRAFT_POINTING_MODE = ACROSSTRACK
^MEX_POINTING_DESC = "MEX_POINTING_DESC.TXT"
RIGHT_ASCENSION = -1e+32
DECLINATION = -1e+32
OFFSET_ANGLE = -2.0
SPACECRAFT_SOLAR_DISTANCE = 2.0801e+08
TARGET_NAME = MARS
/* CAMERA DATA ELEMENTS */
DETECTOR_TEMPERATURE = 17.9627
FOCAL_PLANE_TEMPERATURE = 7.9716
INST_CMPRS_NAME = "DISCRETE COSINE TRANSFORMATION (DCT)"
INST_CMPRS_RATIO = 7.01166
INST_CMPRS_QUALITY = 0
INST_CMPRS_QUANTZ_TBL_ID = 0
INSTRUMENT_TEMPERATURE = 11.234
LENS_TEMPERATURE = 7.156
MACROPIXEL_SIZE = 1
MISSING_FRAMES = 0
PIXEL_SUBSAMPLING_FLAG = N
SIGNAL_CHAIN_ID = 0
/* RADIOMETRIC DATA ELEMENTS */
BANDWIDTH = 177.0
CENTER_FILTER_WAVELENGTH = 677.5
RADIANCE_OFFSET = 4.63746
RADIANCE_SCALING_FACTOR = 0.0245706
REFLECTANCE_SCALING_FACTOR = 0.000564767
MEX:REFLECTANCE_OFFSET = 0.106594
/* IMAGE OBJECT DEFINITIONS */
OBJECT = IMAGE
  INTERCHANGE_FORMAT = BINARY
  LINES = 69442
  LINE_SAMPLES = 13191
  SAMPLE_TYPE = UNSIGNED_INTEGER
  SAMPLE_BITS = 8
  BANDS = 1
  BAND_STORAGE_TYPE = BAND_SEQUENTIAL
  MAXIMUM = 255
  MEAN = 80.8398
  MINIMUM = 1
  STANDARD_DEVIATION = 41.6046
END_OBJECT = IMAGE
/* MAP OBJECT DEFINITIONS */
OBJECT = IMAGE_MAP_PROJECTION
  ^DATA_SET_MAP_PROJECTION_CATALOG= "DSMAP.CAT"
  A_AXIS_RADIUS = 3396.0
  B_AXIS_RADIUS = 3396.0
  C_AXIS_RADIUS = 3396.0
  CENTER_LATITUDE = 0.0
  CENTER_LONGITUDE = 206.0
  COORDINATE_SYSTEM_NAME = PLANETOGRAPHIC
  COORDINATE_SYSTEM_TYPE = "BODY-FIXED ROTATING"
  EASTERNMOST_LONGITUDE = 210.911
  FIRST_STANDARD_PARALLEL = "N/A"
  LINE_FIRST_PIXEL = 1
  LINE_LAST_PIXEL = 69442
  LINE_PROJECTION_OFFSET = -343561.0
  MAP_PROJECTION_ROTATION = 0.0
  MAP_PROJECTION_TYPE = SINUSOIDAL
  MAP_RESOLUTION = 4741.71043093333
  MAP_SCALE = 0.0125
  MAXIMUM_LATITUDE = -72.45480000000001
  MINIMUM_LATITUDE = -87.0994
  POSITIVE_LONGITUDE_DIRECTION = EAST
  REFERENCE_LATITUDE = "N/A"
  REFERENCE_LONGITUDE = "N/A"
  SAMPLE_FIRST_PIXEL = 1
  SAMPLE_LAST_PIXEL = 13191
  SAMPLE_PROJECTION_OFFSET = 6201.0
  SECOND_STANDARD_PARALLEL = "N/A"
  WESTERNMOST_LONGITUDE = 182.208
END_OBJECT = IMAGE_MAP_PROJECTION
END
