PDS_VERSION_ID = PDS3
/* FILE DATA ELEMENTS */
RECORD_TYPE = UNDEFINED
/* POINTERS TO DATA OBJECTS */
^IMAGE = ("HN432_0000_GR4.TIF")
/* IDENTIFICATION DATA ELEMENTS */
DATA_SET_ID = "MEX-M-HRSC-4-REFDR-MAPPROJECT-EXT8-V4.0"
DATA_SET_NAME = "MARS EXPRESS HRSC MAP PROJECTED REFDR EXTENSION8 V4.0"
DETECTOR_ID = MEX_HRSC_GREEN
EVENT_TYPE = "MARS-REGIONAL-MAPPING-Gl-Pf-La"
INSTRUMENT_HOST_ID = MEX
INSTRUMENT_HOST_NAME = "MARS EXPRESS"
INSTRUMENT_ID = HRSC
INSTRUMENT_NAME = "HIGH RESOLUTION STEREO CAMERA"
MISSION_NAME = "MARS EXPRESS"
MISSION_PHASE_NAME = ME_Phase_47
PROCESSING_LEVEL_ID = 4
PRODUCT_CREATION_TIME = 2023-01-28T22:22:56.000Z
PRODUCT_ID = "HN432_0000_GR4.TIF"
RELEASE_ID = 0004
REVISION_ID = 0000
/* QUALITY DATA ELEMENTS */
DATA_QUALITY_ID = 1
DATA_QUALITY_DESC = "Data calculated based on original SPICE kernels"
/* TIME DATA ELEMENTS */
SPACECRAFT_CLOCK_START_COUNT = "1/0606411641.24936"
SPACECRAFT_CLOCK_STOP_COUNT = "1/0606411923.42061"
START_TIME = 2022-07-20T15:41:54.463Z
STOP_TIME = 2022-07-20T15:45:18.182Z
/* ORBITAL DATA ELEMENTS */
ASCENDING_NODE_LONGITUDE = 137.55
MAXIMUM_RESOLUTION = 0.0576
FOOTPRINT_POINT_LATITUDE = (-83.8411,-83.6574,-83.4559,-83.1648, -83.1575,-83.124,-82.7843,-82.4352, -82.0168,-81.7998,-81.5806,-81.3597, -81.1365,-80.7991,-80.5726,-80.3444, -79.9999,-79.7688,-79.5368,-79.3039, -78.9532,-78.7186,-78.4829,-78.247, -78.0106,-77.6553,-77.4173,-77.06, -76.8218,-76.3444,-76.1043,-75.8585, -75.6125,-75.2434,-74.9971,-74.6203, -74.3673,-74.1144,-73.8615,-73.6055, -73.3462,-72.9573,-72.6981,-72.4342, -72.1687,-71.9034,-71.5036,-71.3679, -71.3145,-71.4354,-71.53,-71.5928, -71.5948,-71.5965,-71.8716,-72.1404, -72.4093,-72.6782,-72.9476,-73.211, -73.4744,-73.7379,-74.1313,-74.3887, -74.7751,-75.0326,-75.2892,-75.5405, -75.7922,-76.0437,-76.2952,-76.5457, -77.0353,-77.403,-77.6477,-77.8923, -78.1372,-78.3816,-78.6258,-78.8699, -79.1139,-79.3575,-79.6008,-79.8436, -80.0861,-80.4481,-80.6896,-80.9308, -81.1703,-81.4101,-81.6488,-82.0046, -82.3582,-82.5923,-82.8251,-83.054, -83.4369,-83.7203,-83.8138,-83.8411)
FOOTPRINT_POINT_LONGITUDE = (9.98507,7.18263,4.49564,1.14796, 1.07067,0.529452,2.6989,4.66303,6.72826 ,7.70129,8.61982,9.49488,10.3147, 11.4761,12.2087,12.8949,13.864,14.4697, 15.0496,15.6018,16.3877,16.8833,17.3472 ,17.7995,18.2349,18.8597,19.2357, 19.7767,20.1373,20.8172,21.1388,21.4468 ,21.7464,22.1795,22.4528,22.8503, 23.1036,23.3493,23.5849,23.8178,24.0437 ,24.3718,24.5801,24.7854,24.9841, 25.1762,25.4546,25.5463,25.5817,27.4206 ,29.1116,30.4276,30.4729,30.4874, 30.3433,30.1978,30.0475,29.8924,29.7317 ,29.5692,29.4014,29.2276,28.9569, 28.7721,28.482,28.28,28.0713,27.8593, 27.6388,27.4103,27.1729,26.9273,26.4183 ,26.0081,25.7211,25.4221,25.1091, 24.7833,24.443,24.0867,23.7137,23.3234, 22.914,22.4845,22.0335,21.3167,20.803, 20.2596,19.6911,19.0841,18.443,17.4119, 16.2798,15.4649,14.5945,13.6749,11.972, 10.5563,10.0552,9.98507)
ORBIT_NUMBER = 23432
ORBITAL_ECCENTRICITY = 0.575
ORBITAL_INCLINATION = 87.02
ORBITAL_SEMIMAJOR_AXIS = 8753.52
PERIAPSIS_ALTITUDE = 343.93
PERIAPSIS_ARGUMENT_ANGLE = 265.85
PERIAPSIS_TIME = 2022-07-20T15:39:25.000Z
SPACECRAFT_ORIENTATION = (0.0,1.0,0.0)
^MEX_ORIENTATION_DESC = "MEX_ORIENTATION_DESC.TXT"
SPACECRAFT_POINTING_MODE = ACROSSTRACK
^MEX_POINTING_DESC = "MEX_POINTING_DESC.TXT"
RIGHT_ASCENSION = -1e+32
DECLINATION = -1e+32
OFFSET_ANGLE = 0.75
SPACECRAFT_SOLAR_DISTANCE = 2.0755e+08
TARGET_NAME = MARS
/* CAMERA DATA ELEMENTS */
DETECTOR_TEMPERATURE = 18.3705
FOCAL_PLANE_TEMPERATURE = 8.3794
INST_CMPRS_NAME = "DISCRETE COSINE TRANSFORMATION (DCT)"
INST_CMPRS_RATIO = 18.275
INST_CMPRS_QUALITY = 0
INST_CMPRS_QUANTZ_TBL_ID = 0
INSTRUMENT_TEMPERATURE = 11.234
LENS_TEMPERATURE = 8.7872
MACROPIXEL_SIZE = 4
MISSING_FRAMES = 0
PIXEL_SUBSAMPLING_FLAG = N
SIGNAL_CHAIN_ID = 2
/* RADIOMETRIC DATA ELEMENTS */
BANDWIDTH = 88.0
CENTER_FILTER_WAVELENGTH = 538.0
RADIANCE_OFFSET = 2.07486
RADIANCE_SCALING_FACTOR = 0.0127863
REFLECTANCE_SCALING_FACTOR = 0.000474221
MEX:REFLECTANCE_OFFSET = 0.0769531
/* IMAGE OBJECT DEFINITIONS */
OBJECT = IMAGE
  INTERCHANGE_FORMAT = BINARY
  LINES = 14867
  LINE_SAMPLES = 6216
  SAMPLE_TYPE = UNSIGNED_INTEGER
  SAMPLE_BITS = 8
  BANDS = 1
  BAND_STORAGE_TYPE = BAND_SEQUENTIAL
  MAXIMUM = 255
  MEAN = 109.454
  MINIMUM = 1
  STANDARD_DEVIATION = 83.3306
END_OBJECT = IMAGE
/* MAP OBJECT DEFINITIONS */
OBJECT = IMAGE_MAP_PROJECTION
  ^DATA_SET_MAP_PROJECTION_CATALOG= "DSMAP.CAT"
  A_AXIS_RADIUS = 3396.0
  B_AXIS_RADIUS = 3396.0
  C_AXIS_RADIUS = 3396.0
  CENTER_LATITUDE = 0.0
  CENTER_LONGITUDE = 22.0
  COORDINATE_SYSTEM_NAME = PLANETOGRAPHIC
  COORDINATE_SYSTEM_TYPE = "BODY-FIXED ROTATING"
  EASTERNMOST_LONGITUDE = 30.4874
  FIRST_STANDARD_PARALLEL = "N/A"
  LINE_FIRST_PIXEL = 1
  LINE_LAST_PIXEL = 14867
  LINE_PROJECTION_OFFSET = -84531.625
  MAP_PROJECTION_ROTATION = 0.0
  MAP_PROJECTION_TYPE = SINUSOIDAL
  MAP_RESOLUTION = 1185.42760773333
  MAP_SCALE = 0.05
  MAXIMUM_LATITUDE = -71.3145
  MINIMUM_LATITUDE = -83.8411
  POSITIVE_LONGITUDE_DIRECTION = EAST
  REFERENCE_LATITUDE = "N/A"
  REFERENCE_LONGITUDE = "N/A"
  SAMPLE_FIRST_PIXEL = 1
  SAMPLE_LAST_PIXEL = 6216
  SAMPLE_PROJECTION_OFFSET = 3048.625
  SECOND_STANDARD_PARALLEL = "N/A"
  WESTERNMOST_LONGITUDE = 0.529452
END_OBJECT = IMAGE_MAP_PROJECTION
END
